Workbook
Name CENTER: #REF!
Name CENTER: #REF!
Name CENTER: #REF!
Name CENTER: #REF!
Name CENTER: #REF!
Name CENTER: #REF!
Name CONGHOA: #REF!
Name CONGHOA: #REF!
Name CONGHOA: #REF!
Name CONGHOA: #REF!
Name CONGHOA: #REF!
Name CONGHOA: #REF!
Name DS: #REF!
Name DS: #REF!
Name DS: #REF!
Name DS: #REF!
Name DS: #REF!
Name DS: #REF!
Name DTH: #REF!
Name DTH: #REF!
Name DTH: #REF!
Name DTH: #REF!
Name DTH: #REF!
Name DTH: #REF!
Name DUTRU: #REF!
Name DUTRU: #REF!
Name DUTRU: #REF!
Name GTHANH: #REF!
Name GTHANH: #REF!
Name GTHANH: #REF!
Name GTHANH: #REF!
Name GTHANH: #REF!
Name GTHANH: #REF!
Name HeSo: #REF!
Name HeSo: #REF!
Name HeSo: #REF!
Name HeSo: #REF!
Name HeSo: #REF!
Name HeSo: #REF!
Name HG: #REF!
Name HG: #REF!
Name HG: #REF!
Name HG: #REF!
Name HG: #REF!
Name HG: #REF!
Name HN: #REF!
Name HN: #REF!
Name HN: #REF!
Name HN: #REF!
Name HN: #REF!
Name HN: #REF!
Name khamsuckhoe: #REF!
Name khamsuckhoe: #REF!
Name khamsuckhoe: #REF!
Name khamsuckhoe: #REF!
Name khamsuckhoe: #REF!
Name khamsuckhoe: #REF!
Name KHAMSUCKHOE2019: #REF!
Name KHAMSUCKHOE2019: #REF!
Name KHAMSUCKHOE2019: #REF!

Sheet TH
A1: STT | B1: ID | C1: SỐ | D1: Họ và tên | E1: Đơn vị | F1: Năm sinh | G1: Tuổi | I1: Giới tính | J1: Đơn vị | L1: MÃ
A2: 118 | B2: 165 | C2: 30 | D2: Trần Thanh Trúc | E2: Khoa - Khoa học cơ bản | F2: 1990 | G2: 28 | H2: =G2+1 -> 29 | I2: Nữ | J2: Khoa - Khoa học cơ bản | K2: CB | L2: =K2&""&F2&""&C2 -> CB199030
A3: 149 | B3: 207 | C3: 02 | D3: Phạm Thị Thu Hiền | E3: Khoa - Khoa học cơ bản | F3: 1988 | G3: 30 | H3: =G3+1 -> 31 | I3: Nữ | J3: Khoa - Khoa học cơ bản | K3: CB | L3: =K3&""&F3&""&C3 -> CB198802
A4: 146 | B4: 168 | C4: 03 | D4: Dương Đức Kiên | E4: Khoa - Khoa học cơ bản | F4: 1986 | G4: 32 | H4: =G4+1 -> 33 | I4: Nam | J4: Khoa - Khoa học cơ bản | K4: CB | L4: =K4&""&F4&""&C4 -> CB198603
A5: 142 | B5: 150 | C5: 04 | D5: Hà Như Mai | E5: Khoa - Khoa học cơ bản | F5: 1986 | G5: 32 | H5: =G5+1 -> 33 | I5: Nữ | J5: Khoa - Khoa học cơ bản | K5: CB | L5: =K5&""&F5&""&C5 -> CB198604
A6: 139 | B6: 151 | C6: 05 | D6: Nguyễn Thị Thuỷ | E6: Khoa - Khoa học cơ bản | F6: 1983 | G6: 35 | H6: =G6+1 -> 36 | I6: Nữ | J6: Khoa - Khoa học cơ bản | K6: CB | L6: =K6&""&F6&""&C6 -> CB198305
A7: 141 | B7: 143 | C7: 06 | D7: Giang Phi Hùng | E7: Khoa - Khoa học cơ bản | F7: 1983 | G7: 35 | H7: =G7+1 -> 36 | I7: Nam | J7: Khoa - Khoa học cơ bản | K7: CB | L7: =K7&""&F7&""&C7 -> CB198306
A8: 147 | B8: 199 | C8: 07 | D8: Nguyễn Thị Thu Hà | E8: Khoa - Khoa học cơ bản | F8: 1982 | G8: 36 | H8: =G8+1 -> 37 | I8: Nữ | J8: Khoa - Khoa học cơ bản | K8: CB | L8: =K8&""&F8&""&C8 -> CB198207
A9: 119 | B9: 189 | C9: 08 | D9: Lê Văn Bình | E9: Khoa - Khoa học cơ bản | F9: 1982 | G9: 36 | H9: =G9+1 -> 37 | I9: Nam | J9: Khoa - Khoa học cơ bản | K9: CB | L9: =K9&""&F9&""&C9 -> CB198208
A10: 137 | B10: 144 | C10: 09 | D10: Trịnh Khắc Vũ | E10: Khoa - Khoa học cơ bản | F10: 1981 | G10: 37 | H10: =G10+1 -> 38 | I10: Nam | J10: Khoa - Khoa học cơ bản | K10: CB | L10: =K10&""&F10&""&C10 -> CB198109
A11: 143 | B11: 142 | C11: 10 | D11: Nguyễn Mạnh Phương | E11: Khoa - Khoa học cơ bản | F11: 1981 | G11: 37 | H11: =G11+1 -> 38 | I11: Nam | J11: Khoa - Khoa học cơ bản | K11: CB | L11: =K11&""&F11&""&C11 -> CB198110
A12: 135 | B12: 107 | C12: 11 | D12: Nguyễn Phương Hà | E12: Khoa - Khoa học cơ bản | F12: 1979 | G12: 39 | H12: =G12+1 -> 40 | I12: Nữ | J12: Khoa - Khoa học cơ bản | K12: CB | L12: =K12&""&F12&""&C12 -> CB197911
A13: 140 | B13: 141 | C13: 12 | D13: Trần Thị Ánh Tuyết | E13: Khoa - Khoa học cơ bản | F13: 1979 | G13: 39 | H13: =G13+1 -> 40 | I13: Nữ | J13: Khoa - Khoa học cơ bản | K13: CB | L13: =K13&""&F13&""&C13 -> CB197912
... A56: 59 | B56: 76 | C56: 24 | D56: Nguyễn Văn Sơn | E56: Khoa Cơ Khí | F56: 1965 | G56: 53 | H56: =G56+1 -> 54 | I56: Nam | J56: Khoa Cơ Khí | K56: CK | L56: =K56&""&F56&""&C56 -> CK196524
C57: 25 | D57: Nguyễn Thanh Giang | E57: Khoa Cơ Khí | F57: 1977 | G57: 41 | H57: =G57+1 -> 42 | I57: Nam | J57: Khoa Cơ Khí | K57: CK | L57: =K57&""&F57&""&C57 -> CK197725
C58: 26 | D58: Nguyễn Hồng Phúc | E58: Khoa Cơ Khí | F58: 1989 | G58: 29 | H58: =G58+1 -> 30 | I58: Nam | J58: Khoa Cơ Khí | K58: CK | L58: =K58&""&F58&""&C58 -> CK198926
A59: 60 | B59: 99 | C59: 01 | D59: Nguyễn Yến Nhi | E59: Phòng Khảo thí - Đảm bảo chất lượng | F59: 1989 | G59: 29 | H59: =G59+1 -> 30 | I59: Nữ | J59: Phòng Khảo thí - Đảm bảo chất lượng | K59: CL | L59: =K59&""&F59&""&C59 -> CL198901
A60: 267 | B60: 196 | C60: 02 | D60: Lương Minh Dũng | E60: Phòng Khảo thí - Đảm bảo chất lượng | F60: 1989 | G60: 29 | H60: =G60+1 -> 30 | I60: Nam | J60: Phòng Khảo thí - Đảm bảo chất lượng | K60: CL | L60: =K60&""&F60&""&C60 -> CL198902
A61: 210 | B61: 2 | C61: 03 | D61: Nguyễn Thị Tuyết | E61: Phòng Khảo thí - Đảm bảo chất lượng | F61: 1987 | G61: 31 | H61: =G61+1 -> 32 | I61: Nữ | J61: Phòng Khảo thí - Đảm bảo chất lượng | K61: CL | L61: =K61&""&F61&""&C61 -> CL198703
A62: 61 | B62: 70 | C62: 04 | D62: Vũ Thị Thu Thủy | E62: Phòng Khảo thí - Đảm bảo chất lượng | F62: 1986 | G62: 32 | H62: =G62+1 -> 33 | I62: Nữ | J62: Phòng Khảo thí - Đảm bảo chất lượng | K62: CL | L62: =K62&""&F62&""&C62 -> CL198604
A63: 62 | B63: 64 | C63: 05 | D63: Nguyễn Chí Nhân | E63: Phòng Khảo thí - Đảm bảo chất lượng | F63: 1978 | G63: 40 | H63: =G63+1 -> 41 | I63: Nam | J63: Phòng Khảo thí - Đảm bảo chất lượng | K63: CL | L63: =K63&""&F63&""&C63 -> CL197805
A64: 57 | B64: 72 | C64: 06 | D64: Võ Thị Anh Đào | E64: Phòng Khảo thí - Đảm bảo chất lượng | F64: 1965 | G64: 53 | H64: =G64+1 -> 54 | I64: Nữ | J64: Phòng Khảo thí - Đảm bảo chất lượng | K64: CL | L64: =K64&""&F64&""&C64 -> CL196506
A65: 59 | B65: 76 | C65: 07 | D65: Nguyễn Văn Sơn | E65: Phòng Khảo thí - Đảm bảo chất lượng | F65: 1965 | G65: 53 | H65: =G65+1 -> 54 | I65: Nam | J65: Phòng Khảo thí - Đảm bảo chất lượng | K65: CL | L65: =K65&""&F65&""&C65 -> CL196507
A66: 58 | B66: 375 | C66: 08 | D66: Nguyễn Thanh Sơn | E66: Phòng Khảo thí - Đảm bảo chất lượng | F66: 1963 | G66: 55 | H66: =G66+1 -> 56 | I66: Nam | J66: Phòng Khảo thí - Đảm bảo chất lượng | K66: CL | L66: =K66&""&F66&""&C66 -> CL196308
A67: 109 | B67: 401 | C67: 01 | D67: Bùi Đức Phước | E67: Phòng Công tác Chính trị - HSSV | F67: 1993 | G67: 25 | H67: =G67+1 -> 26 | I67: Nam | J67: Phòng Công tác Chính trị - HSSV | K67: CT | L67: =K67&""&F67&""&C67 -> CT199301
A68: 110 | B68: 87 | C68: 02 | D68: Huỳnh Văn Hiếu | E68: Phòng Công tác Chính trị - HSSV | F68: 1983 | G68: 35 | H68: =G68+1 -> 36 | I68: Nam | J68: Phòng Công tác Chính trị - HSSV | K68: CT | L68: =K68&""&F68&""&C68 -> CT198302
A69: 107 | B69: 1 | C69: 03 | D69: Trần Thị Thu Hà | E69: Phòng Công tác Chính trị - HSSV | F69: 1982 | G69: 36 | H69: =G69+1 -> 37 | I69: Nữ | J69: Phòng Công tác Chính trị - HSSV | K69: CT | L69: =K69&""&F69&""&C69 -> CT198203
A70: 94 | B70: 164 | C70: 04 | D70: Nguyễn Trung Dũng | E70: Phòng Công tác Chính trị - HSSV | F70: 1982 | G70: 36 | H70: =G70+1 -> 37 | I70: Nam | J70: Phòng Công tác Chính trị - HSSV | K70: CT | L70: =K70&""&F70&""&C70 -> CT198204
... A86: 284 | B86: 192 | C86: 01 | D86: Nguyễn Hữu Thiện | E86: Trung tâm Quản lý - Điều hành - Dữ liệu | F86: 1985 | G86: 33 | H86: =G86+1 -> 34 | I86: Nam | J86: Trung tâm Quản lý - Điều hành - Dữ liệu | K86: DL | L86: =K86&""&F86&""&C86 -> DL198501
C87: 04 | D87: Phạm Huỳnh Kim Ngân | E87: Trung tâm Quản lý - Điều hành - Dữ liệu | F87: 1995 | G87: 23 | H87: 24 | I87: Nữ | J87: Trung tâm Quản lý - Điều hành - Dữ liệu | K87: DL | L87: =K87&""&F87&""&C87 -> DL199504
A88: 201 | B88: 331 | C88: 01 | D88: Hà Quốc Bảo | E88: Khoa - Khoa Công nghệ Động lực | F88: 1987 | G88: 31 | H88: =G88+1 -> 32 | I88: Nam | J88: Khoa - Khoa Công nghệ Động lực | K88: ĐL | L88: =K88&""&F88&""&C88 -> ĐL198701
A89: 203 | B89: 300 | C89: 02 | D89: Phạm Nguyễn Đức Trung | E89: Khoa - Khoa Công nghệ Động lực | F89: 1987 | G89: 31 | H89: =G89+1 -> 32 | I89: Nam | J89: Khoa - Khoa Công nghệ Động lực | K89: ĐL | L89: =K89&""&F89&""&C89 -> ĐL198702
A90: 208 | B90: 230 | C90: 03 | D90: Hồ Văn Hoá | E90: Khoa - Khoa Công nghệ Động lực | F90: 1987 | G90: 31 | H90: =G90+1 -> 32 | I90: Nam | J90: Khoa - Khoa Công nghệ Động lực | K90: ĐL | L90: =K90&""&F90&""&C90 -> ĐL198703
A91: 204 | B91: 297 | C91: 04 | D91: Trần Minh Tuấn | E91: Khoa - Khoa Công nghệ Động lực | F91: 1986 | G91: 32 | H91: =G91+1 -> 33 | I91: Nam | J91: Khoa - Khoa Công nghệ Động lực | K91: ĐL | L91: =K91&""&F91&""&C91 -> ĐL198604
A92: 205 | B92: 301 | C92: 05 | D92: Trần Quốc Duy | E92: Khoa - Khoa Công nghệ Động lực | F92: 1985 | G92: 33 | H92: =G92+1 -> 34 | I92: Nam | J92: Khoa - Khoa Công nghệ Động lực | K92: ĐL | L92: =K92&""&F92&""&C92 -> ĐL198505
A93: 197 | B93: 296 | C93: 06 | D93: Đặng Thái Sơn | E93: Khoa - Khoa Công nghệ Động lực | F93: 1984 | G93: 34 | H93: =G93+1 -> 35 | I93: Nam | J93: Khoa - Khoa Công nghệ Động lực | K93: ĐL | L93: =K93&""&F93&""&C93 -> ĐL198406
A94: 200 | B94: 294 | C94: 07 | D94: Nguyễn Minh Thái | E94: Khoa - Khoa Công nghệ Động lực | F94: 1984 | G94: 34 | H94: =G94+1 -> 35 | I94: Nam | J94: Khoa - Khoa Công nghệ Động lực | K94: ĐL | L94: =K94&""&F94&""&C94 -> ĐL198407
A95: 202 | B95: 286 | C95: 08 | D95: Hoàng Phúc Bảo | E95: Khoa - Khoa Công nghệ Động lực | F95: 1984 | G95: 34 | H95: =G95+1 -> 35 | I95: Nam | J95: Khoa - Khoa Công nghệ Động lực | K95: ĐL | L95: =K95&""&F95&""&C95 -> ĐL198408
A96: 195 | B96: 289 | C96: 09 | D96: Phan Anh Tuấn Kiệt | E96: Khoa - Khoa Công nghệ Động lực | F96: 1983 | G96: 35 | H96: =G96+1 -> 36 | I96: Nam | J96: Khoa - Khoa Công nghệ Động lực | K96: ĐL | L96: =K96&""&F96&""&C96 -> ĐL198309
A97: 206 | B97: 298 | C97: 10 | D97: Kiều Trung Tín | E97: Khoa - Khoa Công nghệ Động lực | F97: 1982 | G97: 36 | H97: =G97+1 -> 37 | I97: Nam | J97: Khoa - Khoa Công nghệ Động lực | K97: ĐL | L97: =K97&""&F97&""&C97 -> ĐL198210
A98: 207 | B98: 369 | C98: 11 | D98: Nguyễn Thanh Hùng | E98: Khoa - Khoa Công nghệ Động lực | F98: 1982 | G98: 36 | H98: =G98+1 -> 37 | I98: Nam | J98: Khoa - Khoa Công nghệ Động lực | K98: ĐL | L98: =K98&""&F98&""&C98 -> ĐL198211
A99: 193 | B99: 288 | C99: 12 | D99: Nguyễn Anh Tuấn | E99: Khoa - Khoa Công nghệ Động lực | F99: 1981 | G99: 37 | H99: =G99+1 -> 38 | I99: Nam | J99: Khoa - Khoa Công nghệ Động lực | K99: ĐL | L99: =K99&""&F99&""&C99 -> ĐL198112
... A104: 198 | B104: 295 | C104: 17 | D104: Nguyễn Thái Bình | E104: Khoa - Khoa Công nghệ Động lực | F104: 1973 | G104: 45 | H104: =G104+1 -> 46 | I104: Nam | J104: Khoa - Khoa Công nghệ Động lực | K104: ĐL | L104: =K104&""&F104&""&C104 -> ĐL197317
C105: 18 | D105: Trần Văn đông | E105: Khoa - Khoa Công nghệ Động lực | F105: 1990 | G105: 28 | H105: =G105+1 -> 29 | I105: Nam | J105: Khoa - Khoa Công nghệ Động lực | K105: ĐL | L105: =K105&""&F105&""&C105 -> ĐL199018
C106: 19 | D106: Trần Thế Sơn | E106: Khoa - Khoa Công nghệ Động lực | F106: 1990 | G106: 28 | H106: =G106+1 -> 29 | I106: Nam | J106: Khoa - Khoa Công nghệ Động lực | K106: ĐL | L106: =K106&""&F106&""&C106 -> ĐL199019
C107: 20 | D107: Nguyễn Lương Tâm | E107: Khoa - Khoa Công nghệ Động lực | F107: 1970 | G107: 48 | H107: =G107+1 -> 49 | I107: Nam | J107: Khoa - Khoa Công nghệ Động lực | K107: ĐL | L107: =K107&""&F107&""&C107 -> ĐL197020
A108: 44 | B108: 367 | C108: 02 | D108: Lương Xuân Thịnh | E108: Trung tâm Quan hệ - Doanh nghiệp | F108: 1991 | G108: 27 | H108: =G108+1 -> 28 | I108: Nam | J108: Trung tâm Quan hệ - Doanh nghiệp | K108: DN | L108: =K108&""&F108&""&C108 -> DN199102
A109: 273 | B109: 220 | C109: 03 | D109: Mai Nguyễn Hoàng Yến | E109: Trung tâm Quan hệ - Doanh nghiệp | F109: 1979 | G109: 39 | H109: =G109+1 -> 40 | I109: Nữ | J109: Trung tâm Quan hệ - Doanh nghiệp | K109: DN | L109: =K109&""&F109&""&C109 -> DN197903
A110: 67 | B110: 93 | C110: 01 | D110: Nguyễn Văn Chiến | E110: Trung tâm Quan hệ - Doanh nghiệp | F110: 1974 | G110: 44 | H110: =G110+1 -> 45 | I110: Nam | J110: Trung tâm Quan hệ - Doanh nghiệp | K110: DN | L110: =K110&""&F110&""&C110 -> DN197401
A111: 235 | B111: 245 | C111: 19 | D111: Nguyễn Thùy Linh | E111: Khoa Công nghệ Điện - Điện tử | F111: 1986 | G111: 32 | H111: =G111+1 -> 33 | I111: Nữ | J111: Khoa Công nghệ Điện - Điện tử | K111: ĐT | L111: =K111&""&F111&""&C111 -> ĐT198619
A112: 237 | B112: 248 | C112: 02 | D112: Nguyễn Minh Đức Cường | E112: Khoa Công nghệ Điện - Điện tử | F112: 1985 | G112: 33 | H112: =G112+1 -> 34 | I112: Nam | J112: Khoa Công nghệ Điện - Điện tử | K112: ĐT | L112: =K112&""&F112&""&C112 -> ĐT198502
A113: 236 | B113: 247 | C113: 03 | D113: Đỗ Huỳnh Thanh Phong | E113: Khoa Công nghệ Điện - Điện tử | F113: 1983 | G113: 35 | H113: =G113+1 -> 36 | I113: Nam | J113: Khoa Công nghệ Điện - Điện tử | K113: ĐT | L113: =K113&""&F113&""&C113 -> ĐT198303
A114: 232 | B114: 246 | C114: 04 | D114: Vũ Hạnh Chiêu | E114: Khoa Công nghệ Điện - Điện tử | F114: 1982 | G114: 36 | H114: =G114+1 -> 37 | I114: Nữ | J114: Khoa Công nghệ Điện - Điện tử | K114: ĐT | L114: =K114&""&F114&""&C114 -> ĐT198204
A115: 220 | B115: 234 | C115: 06 | D115: Nguyễn Thùy Dương | E115: Khoa Công nghệ Điện - Điện tử | F115: 1980 | G115: 38 | H115: =G115+1 -> 39 | I115: Nữ | J115: Khoa Công nghệ Điện - Điện tử | K115: ĐT | L115: =K115&""&F115&""&C115 -> ĐT198006
A116: 228 | B116: 264 | C116: 07 | D116: Nguyễn Thị Tố Nga | E116: Khoa Công nghệ Điện - Điện tử | F116: 1980 | G116: 38 | H116: =G116+1 -> 39 | I116: Nữ | J116: Khoa Công nghệ Điện - Điện tử | K116: ĐT | L116: =K116&""&F116&""&C116 -> ĐT198007
A117: 231 | B117: 261 | C117: 08 | D117: Nguyễn Trần Thanh Nhàn | E117: Khoa Công nghệ Điện - Điện tử | F117: 1979 | G117: 39 | H117: =G117+1 -> 40 | I117: Nữ | J117: Khoa Công nghệ Điện - Điện tử | K117: ĐT | L117: =K117&""&F117&""&C117 -> ĐT197908
A118: 216 | B118: 241 | C118: 09 | D118: Quách Minh Thử | E118: Khoa Công nghệ Điện - Điện tử | F118: 1979 | G118: 39 | H118: =G118+1 -> 40 | I118: Nam | J118: Khoa Công nghệ Điện - Điện tử | K118: ĐT | L118: =K118&""&F118&""&C118 -> ĐT197909
A119: 224 | B119: 244 | C119: 10 | D119: Mạnh Lê Hoàn | E119: Khoa Công nghệ Điện - Điện tử | F119: 1979 | G119: 39 | H119: =G119+1 -> 40 | I119: Nam | J119: Khoa Công nghệ Điện - Điện tử | K119: ĐT | L119: =K119&""&F119&""&C119 -> ĐT197910
... A139: 212 | B139: 235 | C139: 30 | D139: Nguyễn Minh Đức(A) | E139: Khoa Công nghệ Điện - Điện tử | F139: 1960 | G139: 58 | H139: =G139+1 -> 59 | I139: Nam | J139: Khoa Công nghệ Điện - Điện tử | K139: ĐT | L139: =K139&""&F139&""&C139 -> ĐT196030
C140: 31 | D140: Trần Nam Anh | E140: Khoa Công nghệ Điện - Điện tử | F140: 1989 | G140: 29 | H140: =G140+1 -> 30 | I140: Nam | J140: Khoa Công nghệ Điện - Điện tử | K140: ĐT | L140: =K140&""&F140&""&C140 -> ĐT198931
C141: 32 | D141: Traần Giang Nam | E141: Khoa Công nghệ Điện - Điện tử | F141: 1985 | G141: 33 | H141: =G141+1 -> 34 | I141: Nam | J141: Khoa Công nghệ Điện - Điện tử | K141: ĐT | L141: =K141&""&F141&""&C141 -> ĐT198532
C142: 33 | D142: Cao Văn Tuấn | E142: Khoa Công nghệ Điện - Điện tử | F142: 1988 | G142: 30 | H142: =G142+1 -> 31 | I142: Nam | J142: Khoa Công nghệ Điện - Điện tử | K142: ĐT | L142: =K142&""&F142&""&C142 -> ĐT198833
A143: 209 | B143: 405 | C143: 01 | D143: Nguyễn Việt Tiến | E143: Phòng Tuyển sinh - Đào tạo | F143: 1992 | G143: 26 | H143: =G143+1 -> 27 | I143: Nam | J143: Phòng Tuyển sinh - Đào tạo | K143: ĐT | L143: =K143&""&F143&""&C143 -> ĐT199201
A144: 50 | B144: 364 | C144: 02 | D144: Nguyễn Thị Tất | E144: Phòng Tuyển sinh - Đào tạo | F144: 1988 | G144: 30 | H144: =G144+1 -> 31 | I144: Nữ | J144: Phòng Tuyển sinh - Đào tạo | K144: ĐT | L144: =K144&""&F144&""&C144 -> ĐT198802
A145: 47 | B145: 79 | C145: 03 | D145: Giáp Thị Vượng | E145: Phòng Tuyển sinh - Đào tạo | F145: 1987 | G145: 31 | H145: =G145+1 -> 32 | I145: Nữ | J145: Phòng Tuyển sinh - Đào tạo | K145: ĐT | L145: =K145&""&F145&""&C145 -> ĐT198703
A146: 43 | B146: 152 | C146: 04 | D146: Sỹ Thị Chung | E146: Phòng Tuyển sinh - Đào tạo | F146: 1986 | G146: 32 | H146: =G146+1 -> 33 | I146: Nữ | J146: Phòng Tuyển sinh - Đào tạo | K146: ĐT | L146: =K146&""&F146&""&C146 -> ĐT198604
A147: 48 | B147: 66 | C147: 05 | D147: Võ Minh Phương | E147: Phòng Tuyển sinh - Đào tạo | F147: 1985 | G147: 33 | H147: =G147+1 -> 34 | I147: Nam | J147: Phòng Tuyển sinh - Đào tạo | K147: ĐT | L147: =K147&""&F147&""&C147 -> ĐT198505
A148: 49 | B148: 57 | C148: 06 | D148: Vương Hội Khánh | E148: Phòng Tuyển sinh - Đào tạo | F148: 1985 | G148: 33 | H148: =G148+1 -> 34 | I148: Nam | J148: Phòng Tuyển sinh - Đào tạo | K148: ĐT | L148: =K148&""&F148&""&C148 -> ĐT198506
A149: 46 | B149: 227 | C149: 07 | D149: Nguyễn Thị Thanh Thảo | E149: Phòng Tuyển sinh - Đào tạo | F149: 1982 | G149: 36 | H149: =G149+1 -> 37 | I149: Nữ | J149: Phòng Tuyển sinh - Đào tạo | K149: ĐT | L149: =K149&""&F149&""&C149 -> ĐT198207
A150: 41 | B150: 69 | C150: 08 | D150: Võ Thị Xuân Thơ | E150: Phòng Tuyển sinh - Đào tạo | F150: 1981 | G150: 37 | H150: =G150+1 -> 38 | I150: Nữ | J150: Phòng Tuyển sinh - Đào tạo | K150: ĐT | L150: =K150&""&F150&""&C150 -> ĐT198108
A151: 242 | B151: 214 | C151: 09 | D151: Nguyễn Thị Hải Hà | E151: Phòng Tuyển sinh - Đào tạo | F151: 1981 | G151: 37 | H151: =G151+1 -> 38 | I151: Nữ | J151: Phòng Tuyển sinh - Đào tạo | K151: ĐT | L151: =K151&""&F151&""&C151 -> ĐT198109
A152: 190 | B152: 183 | C152: 10 | D152: Võ Thị Lệ Trân | E152: Phòng Tuyển sinh - Đào tạo | F152: 1979 | G152: 39 | H152: =G152+1 -> 40 | I152: Nữ | J152: Phòng Tuyển sinh - Đào tạo | K152: ĐT | L152: =K152&""&F152&""&C152 -> ĐT197910
A153: 297 | B153: 65 | C153: 11 | D153: Nguyễn Thị Nhuận | E153: Phòng Tuyển sinh - Đào tạo | F153: 1979 | G153: 39 | H153: =G153+1 -> 40 | I153: Nữ | J153: Phòng Tuyển sinh - Đào tạo | K153: ĐT | L153: =K153&""&F153&""&C153 -> ĐT197911
A154: 42 | B154: 74 | C154: 12 | D154: Huỳnh Thị Mai | E154: Phòng Tuyển sinh - Đào tạo | F154: 1978 | G154: 40 | H154: =G154+1 -> 41 | I154: Nữ | J154: Phòng Tuyển sinh - Đào tạo | K154: ĐT | L154: =K154&""&F154&""&C154 -> ĐT197812
... A158: 19 | B158: 54 | C158: 07 | D158: Thái Thị My Sa | E158: Phòng Tuyển sinh - Đào tạo | F158: 1988 | G158: 30 | H158: =G158+1 -> 31 | I158: Nữ | J158: Phòng Tuyển sinh - Đào tạo | K158: ĐT | L158: =K158&""&F158&""&C158 -> ĐT198807
C159: 16 | D159: Phạm Quang Vũ | E159: Phòng Tuyển sinh - Đào tạo | F159: 1985 | G159: 33 | H159: =G159+1 -> 34 | I159: Nam | J159: Phòng Tuyển sinh - Đào tạo | K159: ĐT | L159: =K159&""&F159&""&C159 -> ĐT198516
A160: 268 | B160: 406 | C160: 01 | D160: Huỳnh Bá Triết | E160: Phòng Quản trị - Dịch vụ | F160: 1994 | G160: 24 | H160: =G160+1 -> 25 | I160: Nam | J160: Phòng Quản trị - Dịch vụ | K160: DV | L160: =K160&""&F160&""&C160 -> DV199401
A161: 72 | B161: 46 | C161: 02 | D161: Lê Hồng Anh Tuấn | E161: Phòng Quản trị - Dịch vụ | F161: 1991 | G161: 27 | H161: =G161+1 -> 28 | I161: Nam | J161: Phòng Quản trị - Dịch vụ | K161: DV | L161: =K161&""&F161&""&C161 -> DV199102
A162: 266 | B162: 136 | C162: 03 | D162: Nguyễn Tiến Việt Dũng | E162: Phòng Quản trị - Dịch vụ | F162: 1989 | G162: 29 | H162: =G162+1 -> 30 | I162: Nam | J162: Phòng Quản trị - Dịch vụ | K162: DV | L162: =K162&""&F162&""&C162 -> DV198903
A163: 76 | B163: 88 | C163: 04 | D163: Dương Thị Thuỷ | E163: Phòng Quản trị - Dịch vụ | F163: 1989 | G163: 29 | H163: =G163+1 -> 30 | I163: Nữ | J163: Phòng Quản trị - Dịch vụ | K163: DV | L163: =K163&""&F163&""&C163 -> DV198904
A164: 91 | B164: 378 | C164: 05 | D164: Nguyễn Xuân Lợi | E164: Phòng Quản trị - Dịch vụ | F164: 1986 | G164: 32 | H164: =G164+1 -> 33 | I164: Nam | J164: Phòng Quản trị - Dịch vụ | K164: DV | L164: =K164&""&F164&""&C164 -> DV198605
A165: 92 | B165: 191 | C165: 06 | D165: Ninh Đỗ Hiệp | E165: Phòng Quản trị - Dịch vụ | F165: 1986 | G165: 32 | H165: =G165+1 -> 33 | I165: Nam | J165: Phòng Quản trị - Dịch vụ | K165: DV | L165: =K165&""&F165&""&C165 -> DV198606
A166: 269 | B166: 377 | C166: 07 | D166: Bùi Đặng Hoàng Tuấn | E166: Phòng Quản trị - Dịch vụ | F166: 1986 | G166: 32 | H166: =G166+1 -> 33 | I166: Nam | J166: Phòng Quản trị - Dịch vụ | K166: DV | L166: =K166&""&F166&""&C166 -> DV198607
A167: 73 | B167: 12 | C167: 08 | D167: Vũ Ngọc Quang | E167: Phòng Quản trị - Dịch vụ | F167: 1984 | G167: 34 | H167: =G167+1 -> 35 | I167: Nam | J167: Phòng Quản trị - Dịch vụ | K167: DV | L167: =K167&""&F167&""&C167 -> DV198408
A168: 74 | B168: 10 | C168: 09 | D168: Đỗ Văn Trong | E168: Phòng Quản trị - Dịch vụ | F168: 1982 | G168: 36 | H168: =G168+1 -> 37 | I168: Nam | J168: Phòng Quản trị - Dịch vụ | K168: DV | L168: =K168&""&F168&""&C168 -> DV198209
A169: 75 | B169: 16 | C169: 10 | D169: Giáp Văn Thịnh | E169: Phòng Quản trị - Dịch vụ | F169: 1982 | G169: 36 | H169: =G169+1 -> 37 | I169: Nam | J169: Phòng Quản trị - Dịch vụ | K169: DV | L169: =K169&""&F169&""&C169 -> DV198210
A170: 187 | B170: 222 | C170: 11 | D170: Giáp Đức Nhận | E170: Phòng Quản trị - Dịch vụ | F170: 1976 | G170: 42 | H170: =G170+1 -> 43 | I170: Nam | J170: Phòng Quản trị - Dịch vụ | K170: DV | L170: =K170&""&F170&""&C170 -> DV197611
A171: 70 | B171: 223 | C171: 12 | D171: Nguyễn Văn Thành | E171: Phòng Quản trị - Dịch vụ | F171: 1974 | G171: 44 | H171: =G171+1 -> 45 | I171: Nam | J171: Phòng Quản trị - Dịch vụ | K171: DV | L171: =K171&""&F171&""&C171 -> DV197412
... A187: 69 | B187: 56 | C187: 27 | D187: Mai Thu Hương | E187: Phòng Quản trị - Dịch vụ | F187: 1986 | G187: 32 | H187: =G187+1 -> 33 | I187: Nữ | J187: Phòng Quản trị - Dịch vụ | K187: DV | L187: =K187&""&F187&""&C187 -> DV198627
A188: 325 | C188: 29 | D188: Võ Tấn Kiệt | E188: Phòng Quản trị - Dịch vụ | F188: 1987 | G188: 31 | H188: =G188+1 -> 32 | I188: Nam | J188: Phòng Quản trị - Dịch vụ | K188: DV | L188: =K188&""&F188&""&C188 -> DV198729
A189: 20 | B189: 48 | C189: 11 | D189: Nguyễn Cao Thắng | E189: Phòng Quản trị - Dịch vụ | F189: 1984 | G189: 34 | H189: =G189+1 -> 35 | I189: Nam | J189: Phòng Quản trị - Dịch vụ | K189: DV | L189: =K189&""&F189&""&C189 -> DV198411
A190: 293 | B190: 97 | C190: 03 | D190: Đỗ Thị Tâm | E190: Trung tâm Đào tạo Lý Tự Trọng | F190: 1977 | G190: 41 | H190: =G190+1 -> 42 | I190: Nữ | J190: Trung tâm Đào tạo Lý Tự Trọng | K190: GD | L190: =K190&""&F190&""&C190 -> GD197703
A191: 292 | B191: 94 | C191: 02 | D191: Lương Thị Thắm | E191: Trung tâm Đào tạo Lý Tự Trọng | F191: 1974 | G191: 44 | H191: =G191+1 -> 45 | I191: Nữ | J191: Trung tâm Đào tạo Lý Tự Trọng | K191: GD | L191: =K191&""&F191&""&C191 -> GD197402
A192: 291 | B192: 274 | C192: 01 | D192: Đỗ Công Thành | E192: Trung tâm Đào tạo Lý Tự Trọng | F192: 1968 | G192: 50 | H192: =G192+1 -> 51 | I192: Nam | J192: Trung tâm Đào tạo Lý Tự Trọng | K192: GD | L192: =K192&""&F192&""&C192 -> GD196801
A193: 3 | B193: 125 | C193: 03 | D193: Đinh Văn Đệ | E193: BAN GIÁM HIỆU | F193: 1972 | G193: 46 | H193: =G193+1 -> 47 | I193: Nam | J193: BAN GIÁM HIỆU | K193: GH | L193: =K193&""&F193&""&C193 -> GH197203
A194: 4 | B194: 3 | C194: 02 | D194: Đinh Hồng Minh | E194: BAN GIÁM HIỆU | F194: 1969 | G194: 49 | H194: =G194+1 -> 50 | I194: Nữ | J194: BAN GIÁM HIỆU | K194: GH | L194: =K194&""&F194&""&C194 -> GH196902
A195: 1 | B195: 62 | C195: 01 | D195: Phạm Hữu Lộc | E195: BAN GIÁM HIỆU | F195: 1966 | G195: 52 | H195: =G195+1 -> 53 | I195: Nam | J195: BAN GIÁM HIỆU | K195: GH | L195: =K195&""&F195&""&C195 -> GH196601
A196: 64 | B196: 98 | C196: 01 | D196: Thân Thị Nhung | E196: Phòng Tồ chức - Hành chính - Tổng hợp | F196: 1991 | G196: 27 | H196: =G196+1 -> 28 | I196: Nữ | J196: Phòng Tồ chức - Hành chính - Tổng hợp | K196: HC | L196: =K196&""&F196&""&C196 -> HC199101
A197: 66 | B197: 293 | C197: 02 | D197: Trần Thị Phương Oanh | E197: Phòng Tồ chức - Hành chính - Tổng hợp | F197: 1981 | G197: 37 | H197: =G197+1 -> 38 | I197: Nữ | J197: Phòng Tồ chức - Hành chính - Tổng hợp | K197: HC | L197: =K197&""&F197&""&C197 -> HC198102
A198: 68 | B198: 92 | C198: 03 | D198: Lâm Viết Dũng | E198: Phòng Tồ chức - Hành chính - Tổng hợp | F198: 1976 | G198: 42 | H198: =G198+1 -> 43 | I198: Nam | J198: Phòng Tồ chức - Hành chính - Tổng hợp | K198: HC | L198: =K198&""&F198&""&C198 -> HC197603
...

Sheet 2019)
A2: STT | B2: ID | C2: HỌ VÀ TÊN | D2: NĂM SINH (đúng) | G2: ĐƠN VỊ Cũ | H2: Khám tổng quát | I2: Pap's mear | J2: X-Quang | K2: X-Quang CSTL | L2: Siêu âm Tuyến giáp | M2: Siêu âm nhũ | N2: Siêu âm tổng quát | O2: Điện tim | P2: Huyết đồ | Q2: TPTNT | R2: Glucose | S2: TPTNT | T2: ABO | U2: T3,T4, TSH | V2: Ure+ Cre | W2: Acid Uric | X2: SGOT-SGPT | Y2: GGT | Z2: Bộ mỡ 4 thông số | AA2: HBA1C | AB2: HP-TEST | AC2: HBsAg | AD2: Anti HBs | AE2: HCV | AF2: Anti HCV | AG2: PSA | AH2: AFP | AI2: CEA(Tq,Vú ,Ctc) | AJ2: CA125(Buồng trứng ) | AK2: CA 15.3(vú) | AL2: CA.72.4 (dạ dày) | AM2: CYFRA 21.1(phổi ,bàng quang ) | AN2: CA 19.9(tiêu hóa) | AO2: ion đồ
F3: mới | H3: 70000 | I3: 60000 | J3: 60000 | K3: 40000 | L3: 60000 | M3: 60000 | N3: 60000 | O3: Miễn phí | P3: 50000 | Q3: 45000 | R3: 40000 | S3: 45000 | T3: 80000 | V3: 50000 | W3: 40000 | X3: 1 | Y3: 50000 | Z3: 100000 | AA3: 110000 | AB3: 150000 | AC3: 80000 | AD3: 150000 | AE3: 110000 | AF3: 100000 | AG3: 60000 | AH3: 90000 | AI3: 140000 | AJ3: 190000 | AK3: 190000 | AL3: 190000 | AM3: 170000 | AN3: 190000
A4: 1 | B4: 62 | C4: Phạm Hữu Lộc | D4: 1966 | E4: =C4&" "&D4 -> Phạm Hữu Lộc 1966 | F4: BAN GIÁM HIỆU | G4: BAN GIÁM HIỆU | H4: x | J4: x | N4: x | O4: 1 | P4: x | Q4: x | R4: x | S4: x | V4: 1 | X4: 1 | Y4: 1 | Z4: 1 | AA4: 1 | AG4: 1 | AH4: 1 | AM4: 1
A5: 3 | B5: 125 | C5: Đinh Văn Đệ | D5: 1974 | E5: =C5&" "&D5 -> Đinh Văn Đệ 1974 | F5: BAN GIÁM HIỆU | G5: BAN GIÁM HIỆU | H5: x | J5: x | N5: x | P5: x | Q5: x | R5: x | S5: x | V5: 1 | X5: 1 | Y5: 1 | Z5: 1 | AA5: 1 | AG5: 1 | AH5: 1 | AM5: 1
A6: 4 | B6: 3 | C6: Đinh Hồng Minh | D6: 1969 | E6: =C6&" "&D6 -> Đinh Hồng Minh 1969 | F6: #N/A | G6: BAN GIÁM HIỆU | H6: x | I6: 1 | J6: x | L6: 1 | N6: 1 | O6: 1 | P6: x | Q6: x | R6: x | S6: x | V6: 1 | W6: 1 | X6: 1 | Y6: 1 | Z6: 1 | AB6: 1 | AC6: 1 | AD6: 1 | AE6: 1 | AH6: 1 | AI6: 1 | AJ6: 1 | AK6: 1 | AL6: 1 | AN6: 1
A7: 5 | B7: 5 | C7: Lê Xuân Thiện | D7: 1965 | E7: =C7&" "&D7 -> Lê Xuân Thiện 1965 | F7: Phòng Tổ chức - Hành chính - Tổng hợp | G7: Phòng Tổ chức - Hành chính - Tổng hợp | H7: x | J7: x | N7: x | P7: x | Q7: x | R7: x
A8: 6 | B8: 32 | C8: Nguyễn Thị Bích Liễu | D8: 1988 | E8: =C8&" "&D8 -> Nguyễn Thị Bích Liễu 1988 | F8: #N/A | G8: Phòng Tổ chức - Hành chính - Tổng hợp | H8: x | J8: x | N8: x | P8: x | Q8: x | R8: x
A9: 7 | B9: 6 | C9: Trần Văn Cu Anh | D9: 1964 | E9: =C9&" "&D9 -> Trần Văn Cu Anh 1964 | F9: Phòng Tổ chức - Hành chính - Tổng hợp | G9: Phòng Tổ chức - Hành chính - Tổng hợp | H9: x | J9: x | N9: x | P9: x | Q9: x | R9: x | S9: x | V9: 1 | X9: 1 | Y9: 1 | Z9: 1 | AC9: 1
A10: 8 | B10: 20 | C10: Nguyễn Tiến Hưng | D10: 1961 | E10: =C10&" "&D10 -> Nguyễn Tiến Hưng 1961 | F10: Phòng Tổ chức - Hành chính - Tổng hợp | G10: Phòng Tổ chức - Hành chính - Tổng hợp | H10: x | J10: x | N10: x | P10: x | Q10: x | R10: x
A11: 9 | B11: 33 | C11: Nguyễn Hữu Xuân Vũ | D11: 1974 | E11: =C11&" "&D11 -> Nguyễn Hữu Xuân Vũ 1974 | F11: Phòng Tổ chức - Hành chính - Tổng hợp | G11: Phòng Tổ chức - Hành chính - Tổng hợp | H11: x | J11: x | N11: x | O11: 1 | P11: x | Q11: x | R11: x | S11: x | V11: 1 | X11: 1 | Z11: 1 | AB11: 1 | AH11: 1 | AN11: 1
A12: 10 | B12: 34 | C12: Huỳnh Bá Thành | D12: 1958 | E12: =C12&" "&D12 -> Huỳnh Bá Thành 1958 | F12: Nghỉ Hưu | G12: Phòng Tổ chức - Hành chính - Tổng hợp | H12: x | J12: x | N12: x | P12: x | Q12: x | R12: x
A13: 11 | B13: 36 | C13: Lê Hồng Phúc | D13: 1966 | E13: =C13&" "&D13 -> Lê Hồng Phúc 1966 | F13: Phòng Tổ chức - Hành chính - Tổng hợp | G13: Phòng Tổ chức - Hành chính - Tổng hợp | H13: x | J13: x | N13: x | P13: x | Q13: x | R13: x
A14: 12 | B14: 77 | C14: Đồng Anh Tuấn | D14: 1983 | E14: =C14&" "&D14 -> Đồng Anh Tuấn 1983 | F14: Phòng Tổ chức - Hành chính - Tổng hợp | G14: Phòng Tổ chức - Hành chính - Tổng hợp | H14: x | J14: x | N14: x | P14: x | Q14: x | R14: x
A15: 13 | B15: 17 | C15: Hồ Thị Tuyết | D15: 1954 | E15: =C15&" "&D15 -> Hồ Thị Tuyết 1954 | F15: #N/A | G15: Phòng Tổ chức - Hành chính - Tổng hợp | H15: x | J15: x | N15: x | P15: x | Q15: x | R15: x
A16: 14 | B16: 370 | C16: Phan Ngọc Phát | D16: 1958 | E16: =C16&" "&D16 -> Phan Ngọc Phát 1958 | F16: Nghỉ Hưu | G16: Phòng Tổ chức - Hành chính - Tổng hợp | H16: x | J16: x | N16: x | P16: x | Q16: x | R16: x
A17: 15 | B17: 8 | C17: Lê Hùng Thanh | D17: 1960 | E17: =C17&" "&D17 -> Lê Hùng Thanh 1960 | F17: Phòng Tổ chức - Hành chính - Tổng hợp | G17: Phòng Tổ chức - Hành chính - Tổng hợp | H17: x | J17: x | N17: x | O17: 1 | P17: x | Q17: x | R17: x | S17: x | V17: 1 | W17: 1 | X17: 1 | Y17: 1 | Z17: 1 | AB17: 1 | AD17: 1 | AE17: 1 | AG17: 1 | AH17: 1 | AL17: 1 | AM17: 1 | AN17: 1
A18: 16 | B18: 13 | C18: Vũ Như Quỳnh | D18: 1983 | E18: =C18&" "&D18 -> Vũ Như Quỳnh 1983 | F18: #N/A | G18: Phòng Tổ chức - Hành chính - Tổng hợp | H18: x | J18: x | N18: x | P18: x | Q18: x | R18: x
A19: 17 | B19: 14 | C19: Phan Thị Ngọc Phượng | D19: 1980 | E19: =C19&" "&D19 -> Phan Thị Ngọc Phượng 1980 | F19: #N/A | G19: Phòng Tổ chức - Hành chính - Tổng hợp | H19: x | I19: 1 | J19: x | P19: x | Q19: x | R19: x | S19: x
A20: 18 | B20: 55 | C20: Lưu Hoàng Hải Yến | D20: 1985 | E20: =C20&" "&D20 -> Lưu Hoàng Hải Yến 1985 | F20: #N/A | G20: Phòng Tổ chức - Hành chính - Tổng hợp | H20: x | J20: x | N20: 1 | O20: 1 | P20: x | Q20: x | R20: x | S20: x
A21: 19 | B21: 54 | C21: Thái Thị My Sa | D21: 1988 | E21: =C21&" "&D21 -> Thái Thị My Sa 1988 | F21: #N/A | G21: Phòng Tổ chức - Hành chính - Tổng hợp | H21: x | I21: 1 | J21: x | N21: 1 | O21: 1 | P21: x | Q21: x | R21: x | S21: x
A22: 20 | B22: 48 | C22: Nguyễn Cao Thắng | D22: 1984 | E22: =C22&" "&D22 -> Nguyễn Cao Thắng 1984 | F22: Phòng Tổ chức - Hành chính - Tổng hợp | G22: Phòng Tổ chức - Hành chính - Tổng hợp | H22: x | J22: x | N22: x | P22: x | Q22: x | R22: x
A23: 21 | B23: 21 | C23: Phạm Hữu Tấn | D23: 1964 | E23: =C23&" "&D23 -> Phạm Hữu Tấn 1964 | F23: Phòng Tổ chức - Hành chính - Tổng hợp | G23: Phòng Tổ chức - Hành chính - Tổng hợp | H23: x | J23: x | N23: x | O23: 1 | P23: x | Q23: x | R23: x | V23: 1 | W23: 1 | X23: 1 | Y23: 1 | Z23: 1 | AA23: 1 | AG23: 1 | AH23: 1
A24: 22 | B24: 29 | C24: Huỳnh Thanh Nhàn | D24: 1991 | E24: =C24&" "&D24 -> Huỳnh Thanh Nhàn 1991 | F24: Phòng Tổ chức - Hành chính - Tổng hợp | G24: Phòng Tổ chức - Hành chính - Tổng hợp | H24: x | J24: x | N24: x | P24: x | Q24: x | R24: x
A25: 23 | B25: 43 | C25: Phạm Hữu Thành Phú | D25: 1984 | E25: =C25&" "&D25 -> Phạm Hữu Thành Phú 1984 | F25: Phòng Tổ chức - Hành chính - Tổng hợp | G25: Phòng Tổ chức - Hành chính - Tổng hợp | H25: x | J25: x | N25: x | P25: x | Q25: x | R25: x
A26: 24 | B26: 51 | C26: Hồ Minh Lợi | D26: 1962 | E26: =C26&" "&D26 -> Hồ Minh Lợi 1962 | F26: #N/A | G26: Phòng Công tác Chính trị - HSSV | H26: x | J26: x | P26: x | Q26: x | R26: x
A27: 25 | B27: 180 | C27: Trần Thị Ánh Phượng | D27: 1987 | E27: =C27&" "&D27 -> Trần Thị Ánh Phượng 1987 | F27: #N/A | G27: Phòng Tổ chức - Hành chính - Tổng hợp | H27: x | J27: x | N27: 1 | P27: x | Q27: x | R27: x | S27: x
A28: 26 | B28: 371 | C28: Nguyễn Văn Chì | D28: 1979 | E28: =C28&" "&D28 -> Nguyễn Văn Chì 1979 | F28: Phòng Tổ chức - Hành chính - Tổng hợp | G28: Phòng Tổ chức - Hành chính - Tổng hợp | H28: x | J28: x | N28: x | P28: x | Q28: x | R28: x
A29: 27 | B29: 395 | C29: Lê Hồng Sơn | D29: 1963 | E29: =C29&" "&D29 -> Lê Hồng Sơn 1963 | F29: Phòng Tổ chức - Hành chính - Tổng hợp | G29: Phòng Tổ chức - Hành chính - Tổng hợp | H29: x | J29: x | N29: x | P29: x | Q29: x | R29: x
A30: 28 | B30: 396 | C30: Nguyễn Thị Vân | D30: 1988 | E30: =C30&" "&D30 -> Nguyễn Thị Vân 1988 | F30: #N/A | G30: Phòng Tổ chức - Hành chính - Tổng hợp | H30: x | J30: x | N30: x | P30: x | Q30: x | R30: x
A31: 29 | B31: 44 | C31: Nguyễn Kính | D31: 1965 | E31: =C31&" "&D31 -> Nguyễn Kính 1965 | F31: Phòng Kế hoạch - Tài chính | G31: Phòng Kế hoạch - Tài chính | H31: x | J31: x | N31: 1 | O31: 1 | P31: x | Q31: x | R31: x
A32: 30 | B32: 40 | C32: Nguyễn Thị Kim Dung | D32: 1979 | E32: =C32&" "&D32 -> Nguyễn Thị Kim Dung 1979 | F32: #N/A | G32: Phòng Kế hoạch - Tài chính | H32: x | J32: x | N32: 1 | P32: x | Q32: x | R32: x
A33: 31 | B33: 330 | C33: Đỗ Thị Ngọc | D33: 1965 | E33: =C33&" "&D33 -> Đỗ Thị Ngọc 1965 | F33: #N/A | G33: Phòng Kế hoạch - Tài chính | H33: x | I33: 1 | J33: x | P33: x | Q33: x | R33: x
A34: 32 | B34: 47 | C34: Trần Thị Minh Thoa | D34: 1983 | E34: =C34&" "&D34 -> Trần Thị Minh Thoa 1983 | F34: #N/A | G34: Phòng Kế hoạch - Tài chính | H34: x | J34: x | N34: x | P34: x | Q34: x | R34: x
A35: 33 | B35: 68 | C35: Phạm Lê Đông Hưng | D35: 1991 | E35: =C35&" "&D35 -> Phạm Lê Đông Hưng 1991 | F35: Phòng Kế hoạch - Tài chính | G35: Phòng Kế hoạch - Tài chính | H35: x | J35: x | P35: x | Q35: x | R35: x | W35: 1 | X35: 1 | Y35: 1 | AA35: 1
A36: 34 | B36: 397 | C36: Lê Hửu Nhân | D36: 1994 | E36: =C36&" "&D36 -> Lê Hửu Nhân 1994 | F36: Phòng Kế hoạch - Tài chính | G36: Phòng Kế hoạch - Tài chính | H36: x | J36: x | P36: x | Q36: x | R36: x
A37: 35 | B37: 61 | C37: Nguyễn Thị Hồng Thắm | D37: 1991 | E37: =C37&" "&D37 -> Nguyễn Thị Hồng Thắm 1991 | F37: #N/A | G37: Phòng Kế hoạch - Tài chính | H37: x | I37: 1 | J37: x | N37: 1 | P37: x | Q37: x | R37: x | Y37: 1 | AC37: 1
A38: 36 | B38: 80 | C38: Trần Thị Thảo Vân | D38: 1988 | E38: =C38&" "&D38 -> Trần Thị Thảo Vân 1988 | F38: #N/A | G38: Phòng Kế hoạch - Tài chính | H38: x | I38: 1 | J38: x | O38: 1 | P38: x | Q38: x | R38: x
A39: 37 | B39: 45 | C39: Hồng Mộng Tuyết Dung | D39: 1970 | E39: =C39&" "&D39 -> Hồng Mộng Tuyết Dung 1970 | F39: #N/A | G39: Phòng Kế hoạch - Tài chính | H39: x | I39: 1 | J39: x | N39: 1 | P39: x | Q39: x | R39: x
A40: 38 | B40: 398 | C40: Nguyễn Thị Minh Thùy | D40: 1993 | E40: =C40&" "&D40 -> Nguyễn Thị Minh Thùy 1993 | F40: #N/A | G40: Phòng Kế hoạch - Tài chính | H40: x | J40: x | N40: 1 | O40: 1 | P40: x | Q40: x | R40: x | AB40: 1
A41: 39 | B41: 71 | C41: Nguyễn Văn Tấn | D41: 1962 | E41: =C41&" "&D41 -> Nguyễn Văn Tấn 1962 | F41: Phòng Tuyển sinh - Đào tạo | G41: Phòng Tuyển sinh - Đào tạo | H41: x | J41: x | P41: x | Q41: x | R41: x
A42: 40 | B42: 73 | C42: Hồ Văn Sĩ | D42: 1975 | E42: =C42&" "&D42 -> Hồ Văn Sĩ 1975 | F42: Phòng Tuyển sinh - Đào tạo | G42: Phòng Tuyển sinh - Đào tạo | H42: x | J42: x | N42: x | P42: x | Q42: x | R42: x | W42: 1 | X42: 1 | Y42: 1 | AC42: 1 | AD42: 1
A43: 41 | B43: 69 | C43: Võ Thị Xuân Thơ | D43: 1981 | E43: =C43&" "&D43 -> Võ Thị Xuân Thơ 1981 | F43: #N/A | G43: Phòng Tuyển sinh - Đào tạo | H43: x | I43: 1 | J43: x | P43: x | Q43: x | R43: x | W43: 1 | Z43: 1
A44: 42 | B44: 74 | C44: Huỳnh Thị Mai | D44: 1978 | E44: =C44&" "&D44 -> Huỳnh Thị Mai 1978 | F44: #N/A | G44: Phòng Tuyển sinh - Đào tạo | H44: x | I44: 1 | J44: x | P44: x | Q44: x | R44: x
A45: 43 | B45: 152 | C45: Sỹ Thị Chung | D45: 1986 | E45: =C45&" "&D45 -> Sỹ Thị Chung 1986 | F45: #N/A | G45: Phòng Tuyển sinh - Đào tạo | H45: x | J45: x | N45: 1 | P45: x | Q45: x | R45: x
A46: 44 | B46: 367 | C46: Lương Xuân Thịnh | D46: 1991 | E46: =C46&" "&D46 -> Lương Xuân Thịnh 1991 | F46: Trung tâm Quan hệ - Doanh nghiệp | G46: Trung tâm Quan hệ - Doanh nghiệp | H46: x | J46: x | P46: x | Q46: x | R46: x
A47: 45 | B47: 78 | C47: Huỳnh Thị Minh Ly | D47: 1979 | E47: =C47&" "&D47 -> Huỳnh Thị Minh Ly 1979 | F47: #N/A | G47: Phòng Tuyển sinh - Đào tạo | H47: x | J47: x | N47: 1 | P47: x | Q47: x | R47: x
A48: 46 | B48: 227 | C48: Nguyễn Thị Thanh Thảo | D48: 1982 | E48: =C48&" "&D48 -> Nguyễn Thị Thanh Thảo 1982 | F48: #N/A | G48: Phòng Tuyển sinh - Đào tạo | H48: x | I48: 1 | J48: x | P48: x | Q48: x | R48: x
A49: 47 | B49: 79 | C49: Giáp Thị Vượng | D49: 1987 | E49: =C49&" "&D49 -> Giáp Thị Vượng 1987 | F49: #N/A | G49: Phòng Tuyển sinh - Đào tạo | H49: x | I49: 1 | J49: x | N49: 1 | P49: x | Q49: x | R49: x | X49: 1
A50: 48 | B50: 66 | C50: Võ Minh Phương | D50: 1985 | E50: =C50&" "&D50 -> Võ Minh Phương 1985 | F50: Phòng Tuyển sinh - Đào tạo | G50: Phòng Tuyển sinh - Đào tạo | H50: x | J50: x | O50: 1 | P50: x | Q50: x | R50: x
A51: 49 | B51: 57 | C51: Vương Hội Khánh | D51: 1985 | E51: =C51&" "&D51 -> Vương Hội Khánh 1985 | F51: Phòng Tuyển sinh - Đào tạo | G51: Phòng Tuyển sinh - Đào tạo | H51: x | J51: x | P51: x | Q51: x | R51: x
A52: 50 | B52: 364 | C52: Nguyễn Thị Tất | D52: 1988 | E52: =C52&" "&D52 -> Nguyễn Thị Tất 1988 | F52: #N/A | G52: Phòng Tuyển sinh - Đào tạo | H52: x | J52: x | N52: 1 | P52: x | Q52: x | R52: x
A53: 51 | B53: 58 | C53: Nguyễn Ngọc Trang | D53: 1966 | E53: =C53&" "&D53 -> Nguyễn Ngọc Trang 1966 | F53: #N/A | G53: Phòng Quản lý khoa học - Hợp tác quốc tế | H53: x | I53: 1 | J53: x | O53: 1 | P53: x | Q53: x | R53: x
A54: 52 | B54: 394 | C54: Lê Tiến Dũng | D54: 1982 | E54: =C54&" "&D54 -> Lê Tiến Dũng 1982 | F54: Phòng Quản lý khoa học - Hợp tác quốc tế | G54: Phòng Quản lý khoa học - Hợp tác quốc tế | H54: x | J54: x | P54: x | Q54: x | R54: x
A55: 53 | B55: 399 | C55: Huỳnh Thị Cẩm Hoa | D55: 1984 | E55: =C55&" "&D55 -> Huỳnh Thị Cẩm Hoa 1984 | F55: #N/A | G55: Phòng Quản lý khoa học - Hợp tác quốc tế | H55: x | J55: x | N55: 1 | P55: x | Q55: x | R55: x
A56: 54 | B56: 400 | C56: Trần Nhật Minh | D56: 1992 | E56: =C56&" "&D56 -> Trần Nhật Minh 1992 | F56: Phòng Quản lý khoa học - Hợp tác quốc tế | G56: Phòng Quản lý khoa học - Hợp tác quốc tế | H56: x | J56: x | P56: x | Q56: x | R56: x
A57: 55 | B57: 60 | C57: Nguyễn Thành Nam | D57: 1979 | E57: =C57&" "&D57 -> Nguyễn Thành Nam 1979 | F57: Phòng Tổ chức - Hành chính - Tổng hợp | G57: Phòng Tổ chức - Hành chính - Tổng hợp | H57: x | J57: x | N57: x | P57: x | Q57: x | R57: x
A58: 56 | B58: 89 | C58: Hà Phước Tuấn | D58: 1960 | E58: =C58&" "&D58 -> Hà Phước Tuấn 1960 | F58: Khoa Cơ Khí | G58: Khoa Cơ Khí | H58: x | J58: x | P58: x | Q58: x | R58: x
A59: 57 | B59: 72 | C59: Võ Thị Anh Đào | D59: 1965 | E59: =C59&" "&D59 -> Võ Thị Anh Đào 1965 | F59: #N/A | G59: Phòng Khảo thí - Đảm bảo chất lượng | H59: x | I59: 1 | J59: x | N59: 1 | P59: x | Q59: x | R59: x | V59: 1 | W59: 1 | X59: 1 | Y59: 1 | Z59: 1 | AC59: 1
A60: 58 | B60: 375 | C60: Nguyễn Thanh Sơn | D60: 1963 | E60: =C60&" "&D60 -> Nguyễn Thanh Sơn 1963 | F60: Phòng Khảo thí - Đảm bảo chất lượng | G60: Phòng Khảo thí - Đảm bảo chất lượng | H60: x | J60: x | P60: x | Q60: x | R60: x
A61: 59 | B61: 76 | C61: Nguyễn Văn Sơn | D61: 1965 | E61: =C61&" "&D61 -> Nguyễn Văn Sơn 1965 | F61: Phòng Khảo thí - Đảm bảo chất lượng | G61: Phòng Khảo thí - Đảm bảo chất lượng | H61: x | J61: x | P61: x | Q61: x | R61: x
A62: 60 | B62: 99 | C62: Nguyễn Yến Nhi | D62: 1989 | E62: =C62&" "&D62 -> Nguyễn Yến Nhi 1989 | F62: #N/A | G62: Phòng Khảo thí - Đảm bảo chất lượng | H62: x | J62: x | N62: 1 | P62: x | Q62: x | R62: x
A63: 61 | B63: 70 | C63: Vũ Thị Thu Thủy | D63: 1986 | E63: =C63&" "&D63 -> Vũ Thị Thu Thủy 1986 | F63: #N/A | G63: Phòng Khảo thí - Đảm bảo chất lượng | H63: x | I63: 1 | J63: x | N63: vú | O63: 1 | P63: x | Q63: x | R63: x | Z63: 1
A64: 62 | B64: 64 | C64: Nguyễn Chí Nhân | D64: 1978 | E64: =C64&" "&D64 -> Nguyễn Chí Nhân 1978 | F64: Phòng Khảo thí - Đảm bảo chất lượng | G64: Phòng Khảo thí - Đảm bảo chất lượng | H64: x | J64: x | P64: x | Q64: x | R64: x
A65: 63 | B65: 52 | C65: Nguyễn Thị Hoa | D65: 1965 | E65: =C65&" "&D65 -> Nguyễn Thị Hoa 1965 | F65: #N/A | G65: Phòng Tổ chức - Hành chính - Tổng hợp | H65: x | J65: x | N65: 1 | P65: x | Q65: x | R65: x | S65: x | Z65: 1
A66: 64 | B66: 98 | C66: Thân Thị Nhung | D66: 1991 | E66: =C66&" "&D66 -> Thân Thị Nhung 1991 | F66: #N/A | G66: Phòng Thiết bị - Vật tư | H66: x | J66: x | N66: 1 | P66: x | Q66: x | R66: x | V66: 1
A67: 65 | B67: 49 | C67: Huỳnh Thị Xuân Mai | D67: 1970 | E67: =C67&" "&D67 -> Huỳnh Thị Xuân Mai 1970 | F67: #N/A | G67: Phòng Thiết bị - Vật tư | H67: x | I67: 1 | J67: x | N67: 1 | P67: x | Q67: x | R67: x | V67: 1 | W67: 1 | X67: 1 | Y67: 1 | Z67: 1
A68: 66 | B68: 293 | C68: Trần Thị Phương Oanh | D68: 1981 | E68: =C68&" "&D68 -> Trần Thị Phương Oanh 1981 | F68: #N/A | G68: Phòng Thiết bị - Vật tư | H68: x | J68: x | N68: 1 | P68: x | Q68: x | R68: x
A69: 67 | B69: 93 | C69: Nguyễn Văn Chiến | D69: 1974 | E69: =C69&" "&D69 -> Nguyễn Văn Chiến 1974 | F69: #N/A | G69: Phòng Thiết bị - Vật tư | H69: x | J69: x | N69: t.giáp | P69: x | Q69: x | R69: x | V69: 1 | W69: 1 | X69: 1 | Y69: 1 | Z69: 1 | AA69: 1 | AB69: 1 | AC69: 1 | AD69: 1 | AE69: 1 | AF69: 1 | AG69: 1 | AH69: 1 | AL69: 1 | AM69: 1 | AN69: 1
A70: 68 | B70: 92 | C70: Lâm Viết Dũng | D70: 1976 | E70: =C70&" "&D70 -> Lâm Viết Dũng 1976 | F70: Phòng Tồ chức - Hành chính - Tổng hợp | G70: Phòng Thiết bị - Vật tư | H70: x | J70: x | P70: x | Q70: x | R70: x
A71: 69 | B71: 56 | C71: Mai Thu Hương | D71: 1986 | E71: =C71&" "&D71 -> Mai Thu Hương 1986 | F71: #N/A | G71: Phòng Quản trị - Dịch vụ | H71: x | J71: x | N71: 1 | P71: x | Q71: x | R71: x
A72: 70 | B72: 223 | C72: Nguyễn Văn Thành | D72: 1974 | E72: =C72&" "&D72 -> Nguyễn Văn Thành 1974 | F72: Phòng Quản trị - Dịch vụ | G72: Phòng Quản trị - Dịch vụ | H72: x | J72: x | P72: x | Q72: x | R72: x
A73: 71 | B73: 11 | C73: Nguyễn Trọng Phú | D73: 1976 | E73: =C73&" "&D73 -> Nguyễn Trọng Phú 1976 | F73: Phòng Quản trị - Dịch vụ | G73: Phòng Quản trị - Dịch vụ | H73: x | J73: x | P73: x | Q73: x | R73: x
A74: 72 | B74: 46 | C74: Lê Hồng Anh Tuấn | D74: 1991 | E74: =C74&" "&D74 -> Lê Hồng Anh Tuấn 1991 | F74: Phòng Quản trị - Dịch vụ | G74: Phòng Quản trị - Dịch vụ | H74: x | J74: x | P74: x | Q74: x | R74: x | AB74: 1
A75: 73 | B75: 12 | C75: Vũ Ngọc Quang | D75: 1984 | E75: =C75&" "&D75 -> Vũ Ngọc Quang 1984 | F75: Phòng Quản trị - Dịch vụ | G75: Phòng Quản trị - Dịch vụ | H75: x | J75: x | P75: x | Q75: x | R75: x
A76: 74 | B76: 10 | C76: Đỗ Văn Trong | D76: 1982 | E76: =C76&" "&D76 -> Đỗ Văn Trong 1982 | F76: Phòng Quản trị - Dịch vụ | G76: Phòng Quản trị - Dịch vụ | H76: x | J76: x | P76: x | Q76: x | R76: x
A77: 75 | B77: 16 | C77: Giáp Văn Thịnh | D77: 1982 | E77: =C77&" "&D77 -> Giáp Văn Thịnh 1982 | F77: Phòng Quản trị - Dịch vụ | G77: Phòng Quản trị - Dịch vụ | H77: x | J77: x | P77: x | Q77: x | R77: x | X77: 1 | Y77: 1 | AH77: 1
A78: 76 | B78: 88 | C78: Dương Thị Thuỷ | D78: 1989 | E78: =C78&" "&D78 -> Dương Thị Thuỷ 1989 | F78: #N/A | G78: Phòng Quản trị - Dịch vụ | H78: x | J78: x | N78: x | O78: 1 | P78: x | Q78: x | R78: x
A79: 77 | B79: 18 | C79: Tạ Quốc Tấn | D79: 1971 | E79: =C79&" "&D79 -> Tạ Quốc Tấn 1971 | F79: Phòng Quản trị - Dịch vụ | G79: Phòng Quản trị - Dịch vụ | H79: x | J79: x | P79: x | Q79: x | R79: x
A80: 78 | B80: 333 | C80: Huỳnh Thị Thu Hương | D80: 1964 | E80: =C80&" "&D80 -> Huỳnh Thị Thu Hương 1964 | F80: #N/A | G80: Phòng Quản trị - Dịch vụ | H80: x | J80: x | N80: 1 | P80: x | Q80: x | R80: x
A81: 79 | B81: 25 | C81: Trần Thị Kim Loan | D81: 1965 | E81: =C81&" "&D81 -> Trần Thị Kim Loan 1965 | F81: #N/A | G81: Phòng Quản trị - Dịch vụ | H81: x | J81: x | N81: x | P81: x | Q81: x | R81: x
A82: 80 | B82: 24 | C82: Thi Thị Phím | D82: 1964 | E82: =C82&" "&D82 -> Thi Thị Phím 1964 | F82: #N/A | G82: Phòng Quản trị - Dịch vụ | H82: x | I82: 1 | J82: x | N82: 1 | O82: 1 | P82: x | Q82: x | R82: x | V82: 1 | W82: 1 | X82: 1
A83: 81 | B83: 30 | C83: Trang Thị Minh | D83: 1964 | E83: =C83&" "&D83 -> Trang Thị Minh 1964 | F83: #N/A | G83: Phòng Quản trị - Dịch vụ | H83: x | J83: x | N83: 1 | P83: x | Q83: x | R83: x | Z83: 1
A84: 82 | B84: 26 | C84: Nguyễn Thị Thu Trang | D84: 1967 | E84: =C84&" "&D84 -> Nguyễn Thị Thu Trang 1967 | F84: #N/A | G84: Phòng Quản trị - Dịch vụ | H84: x | J84: x | N84: x | P84: x | Q84: x | R84: x
A85: 83 | B85: 28 | C85: Trần Thị Thu | D85: 1971 | E85: =C85&" "&D85 -> Trần Thị Thu 1971 | F85: #N/A | G85: Phòng Quản trị - Dịch vụ | H85: x | I85: 1 | J85: x | P85: x | Q85: x | R85: x
A86: 84 | B86: 31 | C86: Thân Thị Quyết | D86: 1966 | E86: =C86&" "&D86 -> Thân Thị Quyết 1966 | F86: #N/A | G86: Phòng Quản trị - Dịch vụ | H86: x | J86: x | N86: x | P86: x | Q86: x | R86: x
A87: 85 | B87: 392 | C87: Nguyễn Lê Hồng Điệp | D87: 1968 | E87: =C87&" "&D87 -> Nguyễn Lê Hồng Điệp 1968 | F87: #N/A | G87: Phòng Quản trị - Dịch vụ | H87: x | J87: x | N87: 1 | P87: x | Q87: x | R87: x
A88: 86 | B88: 19 | C88: Huỳnh Thị Thu Nga | D88: 1965 | E88: =C88&" "&D88 -> Huỳnh Thị Thu Nga 1965 | F88: #N/A | G88: Phòng Quản trị - Dịch vụ | H88: x | J88: x | N88: 1 | P88: x | Q88: x | R88: x
A89: 87 | B89: 59 | C89: Lê Quang Liêm | D89: 1972 | E89: =C89&" "&D89 -> Lê Quang Liêm 1972 | F89: Phòng Quản trị - Dịch vụ | G89: Phòng Quản trị - Dịch vụ | H89: x | J89: x | P89: x | Q89: x | R89: x
A90: 88 | B90: 117 | C90: Lê Thị Thiện | D90: 1965 | E90: =C90&" "&D90 -> Lê Thị Thiện 1965 | F90: #N/A | G90: Phòng Quản trị - Dịch vụ | H90: x | I90: 1 | J90: x | P90: x | Q90: x | R90: x
A91: 89 | B91: 126 | C91: Đỗ Thị Bích Thủy | D91: 1968 | E91: =C91&" "&D91 -> Đỗ Thị Bích Thủy 1968 | F91: #N/A | G91: Phòng Quản trị - Dịch vụ | H91: x | J91: x | N91: x | P91: x | Q91: x | R91: x
A92: 90 | B92: 153 | C92: Trần Thanh Quí | D92: 1953 | E92: =C92&" "&D92 -> Trần Thanh Quí 1953 | F92: Phòng Quản trị - Dịch vụ | G92: Phòng Quản trị - Dịch vụ | H92: x | J92: x | P92: x | Q92: x | R92: x
A93: 91 | B93: 378 | C93: Nguyễn Xuân Lợi | D93: 1986 | E93: =C93&" "&D93 -> Nguyễn Xuân Lợi 1986 | F93: Phòng Quản trị - Dịch vụ | G93: Phòng Quản trị - Dịch vụ | H93: x | J93: x | P93: x | Q93: x | R93: x | T93: 1
A94: 92 | B94: 191 | C94: Ninh Đỗ Hiệp | D94: 1986 | E94: =C94&" "&D94 -> Ninh Đỗ Hiệp 1986 | F94: Phòng Quản trị - Dịch vụ | G94: Phòng Quản trị - Dịch vụ | H94: x | J94: x | P94: x | Q94: x | R94: x
A95: 93 | B95: 7 | C95: Trần Văn Lý | D95: 1965 | E95: =C95&" "&D95 -> Trần Văn Lý 1965 | F95: Phòng Công tác Chính trị - HSSV | G95: Phòng Công tác Chính trị - HSSV | H95: x | J95: x | P95: x | Q95: x | R95: x
A96: 94 | B96: 164 | C96: Nguyễn Trung Dũng | D96: 1982 | E96: =C96&" "&D96 -> Nguyễn Trung Dũng 1982 | F96: Phòng Công tác Chính trị - HSSV | G96: Phòng Công tác Chính trị - HSSV | H96: x | J96: x | P96: x | Q96: x | R96: x
A97: 95 | B97: 82 | C97: Hoàng Ngọc Cảnh | D97: 1958 | E97: =C97&" "&D97 -> Hoàng Ngọc Cảnh 1958 | F97: Phòng Công tác Chính trị - HSSV | G97: Phòng Công tác Chính trị - HSSV | H97: x | J97: x | O97: 1 | P97: x | Q97: x | R97: x | AB97: 1 | AG97: 1 | AL97: 1
A98: 96 | B98: 81 | C98: Hà Nhật Thanh | D98: 1962 | E98: =C98&" "&D98 -> Hà Nhật Thanh 1962 | F98: Phòng Công tác Chính trị - HSSV | G98: Phòng Công tác Chính trị - HSSV | H98: x | J98: x | P98: x | Q98: x | R98: x
A99: 97 | B99: 84 | C99: Nguyễn Ngọc Hiệp | D99: 1973 | E99: =C99&" "&D99 -> Nguyễn Ngọc Hiệp 1973 | F99: Phòng Công tác Chính trị - HSSV | G99: Phòng Công tác Chính trị - HSSV | H99: x | J99: x | P99: x | Q99: x | R99: x
A100: 98 | B100: 85 | C100: Phan Đức Long | D100: 1974 | E100: =C100&" "&D100 -> Phan Đức Long 1974 | F100: Phòng Công tác Chính trị - HSSV | G100: Phòng Công tác Chính trị - HSSV | H100: x | J100: x | P100: x | Q100: x | R100: x
A101: 99 | B101: 104 | C101: Nguyễn Tất Thắng | D101: 1966 | E101: =C101&" "&D101 -> Nguyễn Tất Thắng 1966 | F101: Phòng Công tác Chính trị - HSSV | G101: Phòng Công tác Chính trị - HSSV | H101: x | J101: x | P101: x | Q101: x | R101: x | W101: 1 | X101: 1 | Y101: 1 | AH101: 1
...

Sheet ĐĂNGKÝ2018) (2)
A2: STT | B2: ID | C2: HỌ VÀ TÊN | K2: STT | M2: ĐƠN VỊ Cũ | N2: NAM | Q2: NỮ | S2: Khám tổng quát | T2: Pap's mear | U2: X-Quang | V2: X-Quang CSTL | W2: Siêu âm Tuyến giáp | X2: Siêu âm nhũ | Y2: Siêu âm tổng quát | Z2: Điện tim | AA2: Huyết đồ | AB2: TPTNT | AC2: Glucose | AD2: TPTNT | AE2: ABO | AF2: T3,T4, TSH | AG2: Ure+ Cre | AH2: Acid Uric | AI2: SGOT-SGPT | AJ2: GGT | AK2: Bộ mỡ 4 thông số | AL2: HBA1C | AM2: HP-TEST | AN2: HBsAg | AO2: Anti HBs | AP2: HCV | AQ2: Anti HCV | AR2: PSA | AS2: AFP | AT2: CEA(Tq,Vú ,Ctc) | AU2: CA125(Buồng trứng ) | AV2: CA 15.3(vú) | AW2: CA.72.4 (dạ dày) | AX2: CYFRA 21.1(phổi ,bàng quang ) | AY2: CA 19.9(tiêu hóa) | AZ2: ion đồ
D3: MÃ SỐ BHYT | E3: NĂM SINH | H3: NĂM SINH | J3: MÃ SỐ BHYT | L3: mới | S3: 70000 | T3: 60000 | U3: 60000 | V3: 40000 | W3: 60000 | X3: 60000 | Y3: 60000 | Z3: Miễn phí | AA3: 50000 | AB3: 45000 | AC3: 40000 | AD3: 45000 | AE3: 80000 | AG3: 50000 | AH3: 40000 | AI3: 1 | AJ3: 50000 | AK3: 100000 | AL3: 110000 | AM3: 150000 | AN3: 80000 | AO3: 150000 | AP3: 110000 | AQ3: 100000 | AR3: 60000 | AS3: 90000 | AT3: 140000 | AU3: 190000 | AV3: 190000 | AW3: 190000 | AX3: 170000 | AY3: 190000
A4: 1 | B4: 62 | C4: Phạm Hữu Lộc | D4: =VLOOKUP(C4,'DANHSACHKSK 2019MSBHYT'!$D$12:$E$336,4,0) -> #REF! | E4: 1966 | F4: Phạm Hữu | G4: Lộc | H4: 1966 | I4: =C4&" "&H4 -> Phạm Hữu Lộc 1966 | J4: =VLOOKUP(I4,'DANHSACHKSK 2019MSBHYT'!#REF!,2,0) -> #REF! | K4: 1 | L4: BAN GIÁM HIỆU | M4: BAN GIÁM HIỆU | N4: 52 | P4: 1966 | S4: x | U4: x | Y4: x | Z4: 1 | AA4: x | AB4: x | AC4: x | AD4: x | AG4: 1 | AI4: 1 | AJ4: 1 | AK4: 1 | AL4: 1 | AR4: 1 | AS4: 1 | AX4: 1
A5: 3 | B5: 125 | C5: Đinh Văn Đệ | D5: =VLOOKUP(C5,'DANHSACHKSK 2019MSBHYT'!$D$12:$E$336,4,0) -> #REF! | E5: 1974 | F5: Đinh Văn | G5: Đệ | H5: 1974 | I5: =C5&" "&H5 -> Đinh Văn Đệ 1974 | J5: =VLOOKUP(I5,'DANHSACHKSK 2019MSBHYT'!#REF!,2,0) -> #REF! | K5: 3 | L5: BAN GIÁM HIỆU | M5: BAN GIÁM HIỆU | N5: 46 | P5: 1972 | S5: x | U5: x | Y5: x | AA5: x | AB5: x | AC5: x | AD5: x | AG5: 1 | AI5: 1 | AJ5: 1 | AK5: 1 | AL5: 1 | AR5: 1 | AS5: 1 | AX5: 1
A6: 4 | B6: 3 | C6: Đinh Hồng Minh | D6: =VLOOKUP(C6,'DANHSACHKSK 2019MSBHYT'!$D$12:$E$336,4,0) -> #REF! | E6: 1969 | F6: Đinh Hồng | G6: Minh | H6: 1969 | I6: =C6&" "&H6 -> Đinh Hồng Minh 1969 | J6: =VLOOKUP(I6,'DANHSACHKSK 2019MSBHYT'!#REF!,2,0) -> #REF! | K6: 4 | L6: #N/A | M6: BAN GIÁM HIỆU | O6: 1969 | P6: 1969 | Q6: 48 | R6: 1969 | S6: x | T6: 1 | U6: x | W6: 1 | Y6: 1 | Z6: 1 | AA6: x | AB6: x | AC6: x | AD6: x | AG6: 1 | AH6: 1 | AI6: 1 | AJ6: 1 | AK6: 1 | AM6: 1 | AN6: 1 | AO6: 1 | AP6: 1 | AS6: 1 | AT6: 1 | AU6: 1 | AV6: 1 | AW6: 1 | AY6: 1
A7: 5 | B7: 5 | C7: Lê Xuân Thiện | D7: =VLOOKUP(C7,'DANHSACHKSK 2019MSBHYT'!$D$12:$E$336,4,0) -> #REF! | E7: 1965 | F7: Lê Xuân | G7: Thiện | H7: 1965 | I7: =C7&" "&H7 -> Lê Xuân Thiện 1965 | J7: =VLOOKUP(I7,'DANHSACHKSK 2019MSBHYT'!#REF!,2,0) -> #REF! | K7: 5 | L7: Phòng Tổ chức - Hành chính - Tổng hợp | M7: Phòng Tổ chức - Hành chính - Tổng hợp | N7: 53 | P7: 1965 | S7: x | U7: x | Y7: x | AA7: x | AB7: x | AC7: x
A8: 6 | B8: 32 | C8: Nguyễn Thị Bích Liễu | D8: =VLOOKUP(C8,'DANHSACHKSK 2019MSBHYT'!$D$12:$E$336,4,0) -> #REF! | E8: 1988 | F8: Nguyễn Thị Bích | G8: Liễu | H8: 1988 | I8: =C8&" "&H8 -> Nguyễn Thị Bích Liễu 1988 | J8: =VLOOKUP(I8,'DANHSACHKSK 2019MSBHYT'!#REF!,2,0) -> #REF! | K8: 6 | L8: #N/A | M8: Phòng Tổ chức - Hành chính - Tổng hợp | O8: 1988 | P8: 1988 | Q8: 30 | R8: 1988 | S8: x | U8: x | Y8: x | AA8: x | AB8: x | AC8: x
A9: 7 | B9: 6 | C9: Trần Văn Cu Anh | D9: =VLOOKUP(C9,'DANHSACHKSK 2019MSBHYT'!$D$12:$E$336,4,0) -> #N/A | E9: 1964 | F9: Trần Văn Cu | G9: Anh | H9: 1964 | I9: =C9&" "&H9 -> Trần Văn Cu Anh 1964 | J9: =VLOOKUP(I9,'DANHSACHKSK 2019MSBHYT'!#REF!,2,0) -> #REF! | K9: 7 | L9: Phòng Tổ chức - Hành chính - Tổng hợp | M9: Phòng Tổ chức - Hành chính - Tổng hợp | N9: 54 | P9: 1964 | S9: x | U9: x | Y9: x | AA9: x | AB9: x | AC9: x | AD9: x | AG9: 1 | AI9: 1 | AJ9: 1 | AK9: 1 | AN9: 1
A10: 8 | B10: 20 | C10: Nguyễn Tiến Hưng | D10: =VLOOKUP(C10,'DANHSACHKSK 2019MSBHYT'!$D$12:$E$336,4,0) -> #REF! | E10: 1961 | F10: Nguyễn Tiến | G10: Hưng | H10: 1961 | I10: =C10&" "&H10 -> Nguyễn Tiến Hưng 1961 | J10: =VLOOKUP(I10,'DANHSACHKSK 2019MSBHYT'!#REF!,2,0) -> #REF! | K10: 8 | L10: Phòng Tổ chức - Hành chính - Tổng hợp | M10: Phòng Tổ chức - Hành chính - Tổng hợp | N10: 59 | P10: 1959 | S10: x | U10: x | Y10: x | AA10: x | AB10: x | AC10: x
A11: 9 | B11: 33 | C11: Nguyễn Hữu Xuân Vũ | D11: =VLOOKUP(C11,'DANHSACHKSK 2019MSBHYT'!$D$12:$E$336,4,0) -> #N/A | E11: 1974 | F11: Nguyễn Hữu Xuân | G11: Vũ | H11: 1974 | I11: =C11&" "&H11 -> Nguyễn Hữu Xuân Vũ 1974 | J11: =VLOOKUP(I11,'DANHSACHKSK 2019MSBHYT'!#REF!,2,0) -> #REF! | K11: 9 | L11: Phòng Tổ chức - Hành chính - Tổng hợp | M11: Phòng Tổ chức - Hành chính - Tổng hợp | N11: 43 | P11: 1974 | S11: x | U11: x | Y11: x | Z11: 1 | AA11: x | AB11: x | AC11: x | AD11: x | AG11: 1 | AI11: 1 | AK11: 1 | AM11: 1 | AS11: 1 | AY11: 1
A12: 10 | B12: 34 | C12: Huỳnh Bá Thành | D12: =VLOOKUP(C12,'DANHSACHKSK 2019MSBHYT'!$D$12:$E$336,4,0) -> #N/A | E12: 1958 | F12: Huỳnh Bá | G12: Thành | H12: 1958 | I12: =C12&" "&H12 -> Huỳnh Bá Thành 1958 | J12: =VLOOKUP(I12,'DANHSACHKSK 2019MSBHYT'!#REF!,2,0) -> #REF! | K12: 10 | L12: Nghỉ Hưu | M12: Phòng Tổ chức - Hành chính - Tổng hợp | N12: 60 | P12: 1958 | S12: x | U12: x | Y12: x | AA12: x | AB12: x | AC12: x
A13: 11 | B13: 36 | C13: Lê Hồng Phúc | D13: =VLOOKUP(C13,'DANHSACHKSK 2019MSBHYT'!$D$12:$E$336,4,0) -> #REF! | E13: 1966 | F13: Lê Hồng | G13: Phúc | H13: 1966 | I13: =C13&" "&H13 -> Lê Hồng Phúc 1966 | J13: =VLOOKUP(I13,'DANHSACHKSK 2019MSBHYT'!#REF!,2,0) -> #REF! | K13: 11 | L13: Phòng Tổ chức - Hành chính - Tổng hợp | M13: Phòng Tổ chức - Hành chính - Tổng hợp | N13: 52 | P13: 1966 | S13: x | U13: x | Y13: x | AA13: x | AB13: x | AC13: x
A14: 12 | B14: 77 | C14: Đồng Anh Tuấn | D14: =VLOOKUP(C14,'DANHSACHKSK 2019MSBHYT'!$D$12:$E$336,4,0) -> #REF! | E14: 1983 | F14: Đồng Anh | G14: Tuấn | H14: 1983 | I14: =C14&" "&H14 -> Đồng Anh Tuấn 1983 | J14: =VLOOKUP(I14,'DANHSACHKSK 2019MSBHYT'!#REF!,2,0) -> #REF! | K14: 12 | L14: Phòng Tổ chức - Hành chính - Tổng hợp | M14: Phòng Tổ chức - Hành chính - Tổng hợp | N14: 35 | P14: 1983 | S14: x | U14: x | Y14: x | AA14: x | AB14: x | AC14: x
A15: 13 | B15: 17 | C15: Hồ Thị Tuyết | D15: =VLOOKUP(C15,'DANHSACHKSK 2019MSBHYT'!$D$12:$E$336,4,0) -> #N/A | E15: 1954 | F15: Hồ Thị | G15: Tuyết | H15: 1954 | I15: =C15&" "&H15 -> Hồ Thị Tuyết 1954 | J15: =VLOOKUP(I15,'DANHSACHKSK 2019MSBHYT'!#REF!,2,0) -> #REF! | K15: 13 | L15: #N/A | M15: Phòng Tổ chức - Hành chính - Tổng hợp | O15: 1954 | P15: 1954 | Q15: 64 | R15: 1954 | S15: x | U15: x | Y15: x | AA15: x | AB15: x | AC15: x
A16: 14 | B16: 370 | C16: Phan Ngọc Phát | D16: =VLOOKUP(C16,'DANHSACHKSK 2019MSBHYT'!$D$12:$E$336,4,0) -> #N/A | E16: 1958 | F16: Phan Ngọc | G16: Phát | H16: 1958 | I16: =C16&" "&H16 -> Phan Ngọc Phát 1958 | J16: =VLOOKUP(I16,'DANHSACHKSK 2019MSBHYT'!#REF!,2,0) -> #REF! | K16: 14 | L16: Nghỉ Hưu | M16: Phòng Tổ chức - Hành chính - Tổng hợp | N16: 60 | P16: 1958 | S16: x | U16: x | Y16: x | AA16: x | AB16: x | AC16: x
A17: 15 | B17: 8 | C17: Lê Hùng Thanh | D17: =VLOOKUP(C17,'DANHSACHKSK 2019MSBHYT'!$D$12:$E$336,4,0) -> #N/A | E17: 1960 | F17: Lê Hùng | G17: Thanh | H17: 1960 | I17: =C17&" "&H17 -> Lê Hùng Thanh 1960 | J17: =VLOOKUP(I17,'DANHSACHKSK 2019MSBHYT'!#REF!,2,0) -> #REF! | K17: 15 | L17: Phòng Tổ chức - Hành chính - Tổng hợp | M17: Phòng Tổ chức - Hành chính - Tổng hợp | N17: 58 | P17: 1960 | S17: x | U17: x | Y17: x | Z17: 1 | AA17: x | AB17: x | AC17: x | AD17: x | AG17: 1 | AH17: 1 | AI17: 1 | AJ17: 1 | AK17: 1 | AM17: 1 | AO17: 1 | AP17: 1 | AR17: 1 | AS17: 1 | AW17: 1 | AX17: 1 | AY17: 1
A18: 16 | B18: 13 | C18: Vũ Như Quỳnh | D18: =VLOOKUP(C18,'DANHSACHKSK 2019MSBHYT'!$D$12:$E$336,4,0) -> #REF! | E18: 1983 | F18: Vũ Như | G18: Quỳnh | H18: 1983 | I18: =C18&" "&H18 -> Vũ Như Quỳnh 1983 | J18: =VLOOKUP(I18,'DANHSACHKSK 2019MSBHYT'!#REF!,2,0) -> #REF! | K18: 16 | L18: #N/A | M18: Phòng Tổ chức - Hành chính - Tổng hợp | O18: 1983 | P18: 1983 | Q18: 35 | R18: 1983 | S18: x | U18: x | Y18: x | AA18: x | AB18: x | AC18: x
A19: 17 | B19: 14 | C19: Phan Thị Ngọc Phượng | D19: =VLOOKUP(C19,'DANHSACHKSK 2019MSBHYT'!$D$12:$E$336,4,0) -> #REF! | E19: 1980 | F19: Phan Thị Ngọc | G19: Phượng | H19: 1980 | I19: =C19&" "&H19 -> Phan Thị Ngọc Phượng 1980 | J19: =VLOOKUP(I19,'DANHSACHKSK 2019MSBHYT'!#REF!,2,0) -> #REF! | K19: 17 | L19: #N/A | M19: Phòng Tổ chức - Hành chính - Tổng hợp | O19: 1980 | P19: 1980 | Q19: 38 | R19: 1980 | S19: x | T19: 1 | U19: x | AA19: x | AB19: x | AC19: x | AD19: x
A20: 18 | B20: 55 | C20: Lưu Hoàng Hải Yến | D20: =VLOOKUP(C20,'DANHSACHKSK 2019MSBHYT'!$D$12:$E$336,4,0) -> #REF! | E20: 1985 | F20: Lưu Hoàng Hải | G20: Yến | H20: 1985 | I20: =C20&" "&H20 -> Lưu Hoàng Hải Yến 1985 | J20: =VLOOKUP(I20,'DANHSACHKSK 2019MSBHYT'!#REF!,2,0) -> #REF! | K20: 18 | L20: #N/A | M20: Phòng Tổ chức - Hành chính - Tổng hợp | O20: 1985 | P20: 1985 | Q20: 33 | R20: 1985 | S20: x | U20: x | Y20: 1 | Z20: 1 | AA20: x | AB20: x | AC20: x | AD20: x
A21: 19 | B21: 54 | C21: Thái Thị My Sa | D21: =VLOOKUP(C21,'DANHSACHKSK 2019MSBHYT'!$D$12:$E$336,4,0) -> #REF! | E21: 1988 | F21: Thái Thị My | G21: Sa | H21: 1988 | I21: =C21&" "&H21 -> Thái Thị My Sa 1988 | J21: =VLOOKUP(I21,'DANHSACHKSK 2019MSBHYT'!#REF!,2,0) -> #REF! | K21: 19 | L21: #N/A | M21: Phòng Tổ chức - Hành chính - Tổng hợp | O21: 1988 | P21: 1988 | Q21: 30 | R21: 1988 | S21: x | T21: 1 | U21: x | Y21: 1 | Z21: 1 | AA21: x | AB21: x | AC21: x | AD21: x
A22: 20 | B22: 48 | C22: Nguyễn Cao Thắng | D22: =VLOOKUP(C22,'DANHSACHKSK 2019MSBHYT'!$D$12:$E$336,4,0) -> #REF! | E22: 1984 | F22: Nguyễn Cao | G22: Thắng | H22: 1984 | I22: =C22&" "&H22 -> Nguyễn Cao Thắng 1984 | J22: =VLOOKUP(I22,'DANHSACHKSK 2019MSBHYT'!#REF!,2,0) -> #REF! | K22: 20 | L22: Phòng Tổ chức - Hành chính - Tổng hợp | M22: Phòng Tổ chức - Hành chính - Tổng hợp | N22: 34 | P22: 1984 | S22: x | U22: x | Y22: x | AA22: x | AB22: x | AC22: x
A23: 21 | B23: 21 | C23: Phạm Hữu Tấn | D23: =VLOOKUP(C23,'DANHSACHKSK 2019MSBHYT'!$D$12:$E$336,4,0) -> #N/A | E23: 1964 | F23: Phạm Hữu | G23: Tấn | H23: 1964 | I23: =C23&" "&H23 -> Phạm Hữu Tấn 1964 | J23: =VLOOKUP(I23,'DANHSACHKSK 2019MSBHYT'!#REF!,2,0) -> #REF! | K23: 21 | L23: Phòng Tổ chức - Hành chính - Tổng hợp | M23: Phòng Tổ chức - Hành chính - Tổng hợp | N23: 54 | P23: 1964 | S23: x | U23: x | Y23: x | Z23: 1 | AA23: x | AB23: x | AC23: x | AG23: 1 | AH23: 1 | AI23: 1 | AJ23: 1 | AK23: 1 | AL23: 1 | AR23: 1 | AS23: 1
A24: 22 | B24: 29 | C24: Huỳnh Thanh Nhàn | D24: =VLOOKUP(C24,'DANHSACHKSK 2019MSBHYT'!$D$12:$E$336,4,0) -> #REF! | E24: 1991 | F24: Huỳnh Thanh | G24: Nhàn | H24: 1991 | I24: =C24&" "&H24 -> Huỳnh Thanh Nhàn 1991 | J24: =VLOOKUP(I24,'DANHSACHKSK 2019MSBHYT'!#REF!,2,0) -> #REF! | K24: 22 | L24: Phòng Tổ chức - Hành chính - Tổng hợp | M24: Phòng Tổ chức - Hành chính - Tổng hợp | N24: 27 | P24: 1991 | S24: x | U24: x | Y24: x | AA24: x | AB24: x | AC24: x
A25: 23 | B25: 43 | C25: Phạm Hữu Thành Phú | D25: =VLOOKUP(C25,'DANHSACHKSK 2019MSBHYT'!$D$12:$E$336,4,0) -> #N/A | E25: 1984 | F25: Phạm Hữu Thành | G25: Phú | H25: 1984 | I25: =C25&" "&H25 -> Phạm Hữu Thành Phú 1984 | J25: =VLOOKUP(I25,'DANHSACHKSK 2019MSBHYT'!#REF!,2,0) -> #REF! | K25: 23 | L25: Phòng Tổ chức - Hành chính - Tổng hợp | M25: Phòng Tổ chức - Hành chính - Tổng hợp | N25: 34 | P25: 1984 | S25: x | U25: x | Y25: x | AA25: x | AB25: x | AC25: x
A26: 24 | B26: 51 | C26: Hồ Minh Lợi | D26: =VLOOKUP(C26,'DANHSACHKSK 2019MSBHYT'!$D$12:$E$336,4,0) -> #N/A | E26: 1962 | F26: Hồ Minh | G26: Lợi | H26: 1962 | I26: =C26&" "&H26 -> Hồ Minh Lợi 1962 | J26: =VLOOKUP(I26,'DANHSACHKSK 2019MSBHYT'!#REF!,2,0) -> #REF! | K26: 24 | L26: #N/A | M26: Phòng Công tác Chính trị - HSSV | N26: 56 | P26: 1962 | S26: x | U26: x | AA26: x | AB26: x | AC26: x
A27: 25 | B27: 180 | C27: Trần Thị Ánh Phượng | D27: =VLOOKUP(C27,'DANHSACHKSK 2019MSBHYT'!$D$12:$E$336,4,0) -> #REF! | E27: 1987 | F27: Trần Thị Ánh | G27: Phượng | H27: 1987 | I27: =C27&" "&H27 -> Trần Thị Ánh Phượng 1987 | J27: =VLOOKUP(I27,'DANHSACHKSK 2019MSBHYT'!#REF!,2,0) -> #REF! | K27: 25 | L27: #N/A | M27: Phòng Tổ chức - Hành chính - Tổng hợp | O27: 1987 | P27: 1987 | Q27: 31 | R27: 1987 | S27: x | U27: x | Y27: 1 | AA27: x | AB27: x | AC27: x | AD27: x
A28: 26 | B28: 371 | C28: Nguyễn Văn Chì | D28: =VLOOKUP(C28,'DANHSACHKSK 2019MSBHYT'!$D$12:$E$336,4,0) -> #REF! | E28: 1979 | F28: Nguyễn Văn | G28: Chì | H28: 1979 | I28: =C28&" "&H28 -> Nguyễn Văn Chì 1979 | J28: =VLOOKUP(I28,'DANHSACHKSK 2019MSBHYT'!#REF!,2,0) -> #REF! | K28: 26 | L28: Phòng Tổ chức - Hành chính - Tổng hợp | M28: Phòng Tổ chức - Hành chính - Tổng hợp | N28: 39 | P28: 1979 | S28: x | U28: x | Y28: x | AA28: x | AB28: x | AC28: x
A29: 27 | B29: 395 | C29: Lê Hồng Sơn | D29: =VLOOKUP(C29,'DANHSACHKSK 2019MSBHYT'!$D$12:$E$336,4,0) -> #N/A | E29: 1963 | F29: Lê Hồng | G29: Sơn | H29: 1963 | I29: =C29&" "&H29 -> Lê Hồng Sơn 1963 | J29: =VLOOKUP(I29,'DANHSACHKSK 2019MSBHYT'!#REF!,2,0) -> #REF! | K29: 27 | L29: Phòng Tổ chức - Hành chính - Tổng hợp | M29: Phòng Tổ chức - Hành chính - Tổng hợp | N29: 55 | P29: 1963 | S29: x | U29: x | Y29: x | AA29: x | AB29: x | AC29: x
A30: 28 | B30: 396 | C30: Nguyễn Thị Vân | D30: =VLOOKUP(C30,'DANHSACHKSK 2019MSBHYT'!$D$12:$E$336,4,0) -> #N/A | E30: 1988 | F30: Nguyễn Thị | G30: Vân | H30: 1988 | I30: =C30&" "&H30 -> Nguyễn Thị Vân 1988 | J30: =VLOOKUP(I30,'DANHSACHKSK 2019MSBHYT'!#REF!,2,0) -> #REF! | K30: 28 | L30: #N/A | M30: Phòng Tổ chức - Hành chính - Tổng hợp | O30: 1988 | P30: 1988 | Q30: 30 | R30: 1988 | S30: x | U30: x | Y30: x | AA30: x | AB30: x | AC30: x
A31: 29 | B31: 44 | C31: Nguyễn Kính | D31: =VLOOKUP(C31,'DANHSACHKSK 2019MSBHYT'!$D$12:$E$336,4,0) -> #N/A | E31: 1965 | F31: Nguyễn | G31: Kính | H31: 1965 | I31: =C31&" "&H31 -> Nguyễn Kính 1965 | J31: =VLOOKUP(I31,'DANHSACHKSK 2019MSBHYT'!#REF!,2,0) -> #REF! | K31: 29 | L31: Phòng Kế hoạch - Tài chính | M31: Phòng Kế hoạch - Tài chính | N31: 53 | P31: 1965 | S31: x | U31: x | Y31: 1 | Z31: 1 | AA31: x | AB31: x | AC31: x
A32: 30 | B32: 40 | C32: Nguyễn Thị Kim Dung | D32: =VLOOKUP(C32,'DANHSACHKSK 2019MSBHYT'!$D$12:$E$336,4,0) -> #N/A | E32: 1979 | F32: Nguyễn Thị Kim | G32: Dung | H32: 1979 | I32: =C32&" "&H32 -> Nguyễn Thị Kim Dung 1979 | J32: =VLOOKUP(I32,'DANHSACHKSK 2019MSBHYT'!#REF!,2,0) -> #REF! | K32: 30 | L32: #N/A | M32: Phòng Kế hoạch - Tài chính | O32: 1979 | P32: 1979 | Q32: 39 | R32: 1979 | S32: x | U32: x | Y32: 1 | AA32: x | AB32: x | AC32: x
A33: 31 | B33: 330 | C33: Đỗ Thị Ngọc | D33: =VLOOKUP(C33,'DANHSACHKSK 2019MSBHYT'!$D$12:$E$336,4,0) -> #N/A | E33: 1965 | F33: Đỗ Thị | G33: Ngọc | H33: 1965 | I33: =C33&" "&H33 -> Đỗ Thị Ngọc 1965 | J33: =VLOOKUP(I33,'DANHSACHKSK 2019MSBHYT'!#REF!,2,0) -> #REF! | K33: 31 | L33: #N/A | M33: Phòng Kế hoạch - Tài chính | O33: 1965 | P33: 1965 | Q33: 53 | R33: 1965 | S33: x | T33: 1 | U33: x | AA33: x | AB33: x | AC33: x
A34: 32 | B34: 47 | C34: Trần Thị Minh Thoa | D34: =VLOOKUP(C34,'DANHSACHKSK 2019MSBHYT'!$D$12:$E$336,4,0) -> #REF! | E34: 1983 | F34: Trần Thị Minh | G34: Thoa | H34: 1983 | I34: =C34&" "&H34 -> Trần Thị Minh Thoa 1983 | J34: =VLOOKUP(I34,'DANHSACHKSK 2019MSBHYT'!#REF!,2,0) -> #REF! | K34: 32 | L34: #N/A | M34: Phòng Kế hoạch - Tài chính | O34: 1983 | P34: 1983 | Q34: 35 | R34: 1983 | S34: x | U34: x | Y34: x | AA34: x | AB34: x | AC34: x
A35: 33 | B35: 68 | C35: Phạm Lê Đông Hưng | D35: =VLOOKUP(C35,'DANHSACHKSK 2019MSBHYT'!$D$12:$E$336,4,0) -> #REF! | E35: 1991 | F35: Phạm Lê Đông | G35: Hưng | H35: 1991 | I35: =C35&" "&H35 -> Phạm Lê Đông Hưng 1991 | J35: =VLOOKUP(I35,'DANHSACHKSK 2019MSBHYT'!#REF!,2,0) -> #REF! | K35: 33 | L35: Phòng Kế hoạch - Tài chính | M35: Phòng Kế hoạch - Tài chính | N35: 27 | P35: 1991 | S35: x | U35: x | AA35: x | AB35: x | AC35: x | AH35: 1 | AI35: 1 | AJ35: 1 | AL35: 1
A36: 34 | B36: 397 | C36: Lê Hửu Nhân | D36: =VLOOKUP(C36,'DANHSACHKSK 2019MSBHYT'!$D$12:$E$336,4,0) -> #N/A | E36: 1994 | F36: Lê Hửu Nhân | H36: 1994 | I36: =C36&" "&H36 -> Lê Hửu Nhân 1994 | J36: =VLOOKUP(I36,'DANHSACHKSK 2019MSBHYT'!#REF!,2,0) -> #REF! | K36: 34 | L36: Phòng Kế hoạch - Tài chính | M36: Phòng Kế hoạch - Tài chính | N36: 24 | P36: 1994 | S36: x | U36: x | AA36: x | AB36: x | AC36: x
A37: 35 | B37: 61 | C37: Nguyễn Thị Hồng Thắm | D37: =VLOOKUP(C37,'DANHSACHKSK 2019MSBHYT'!$D$12:$E$336,4,0) -> #REF! | E37: 1991 | F37: Nguyễn Thị Hồng | G37: Thắm | H37: 1991 | I37: =C37&" "&H37 -> Nguyễn Thị Hồng Thắm 1991 | J37: =VLOOKUP(I37,'DANHSACHKSK 2019MSBHYT'!#REF!,2,0) -> #REF! | K37: 35 | L37: #N/A | M37: Phòng Kế hoạch - Tài chính | O37: 1991 | P37: 1991 | Q37: 27 | R37: 1991 | S37: x | T37: 1 | U37: x | Y37: 1 | AA37: x | AB37: x | AC37: x | AJ37: 1 | AN37: 1
A38: 36 | B38: 80 | C38: Trần Thị Thảo Vân | D38: =VLOOKUP(C38,'DANHSACHKSK 2019MSBHYT'!$D$12:$E$336,4,0) -> #N/A | E38: 1988 | F38: Trần Thị Thảo | G38: Vân | H38: 1988 | I38: =C38&" "&H38 -> Trần Thị Thảo Vân 1988 | J38: =VLOOKUP(I38,'DANHSACHKSK 2019MSBHYT'!#REF!,2,0) -> #REF! | K38: 36 | L38: #N/A | M38: Phòng Kế hoạch - Tài chính | O38: 1988 | P38: 1988 | Q38: 30 | R38: 1988 | S38: x | T38: 1 | U38: x | Z38: 1 | AA38: x | AB38: x | AC38: x
A39: 37 | B39: 45 | C39: Hồng Mộng Tuyết Dung | D39: =VLOOKUP(C39,'DANHSACHKSK 2019MSBHYT'!$D$12:$E$336,4,0) -> #REF! | E39: 1970 | F39: Hồng Mộng Tuyết | G39: Dung | H39: 1970 | I39: =C39&" "&H39 -> Hồng Mộng Tuyết Dung 1970 | J39: =VLOOKUP(I39,'DANHSACHKSK 2019MSBHYT'!#REF!,2,0) -> #REF! | K39: 37 | L39: #N/A | M39: Phòng Kế hoạch - Tài chính | O39: 1970 | P39: 1970 | Q39: 48 | R39: 1970 | S39: x | T39: 1 | U39: x | Y39: 1 | AA39: x | AB39: x | AC39: x
A40: 38 | B40: 398 | C40: Nguyễn Thị Minh Thùy | D40: =VLOOKUP(C40,'DANHSACHKSK 2019MSBHYT'!$D$12:$E$336,4,0) -> #REF! | E40: 1993 | F40: Nguyễn Thị Minh | G40: Thùy | H40: 1993 | I40: =C40&" "&H40 -> Nguyễn Thị Minh Thùy 1993 | J40: =VLOOKUP(I40,'DANHSACHKSK 2019MSBHYT'!#REF!,2,0) -> #REF! | K40: 38 | L40: #N/A | M40: Phòng Kế hoạch - Tài chính | O40: 1993 | P40: 1993 | Q40: 25 | R40: 1993 | S40: x | U40: x | Y40: 1 | Z40: 1 | AA40: x | AB40: x | AC40: x | AM40: 1
A41: 39 | B41: 71 | C41: Nguyễn Văn Tấn | D41: =VLOOKUP(C41,'DANHSACHKSK 2019MSBHYT'!$D$12:$E$336,4,0) -> #N/A | E41: 1962 | F41: Nguyễn Văn | G41: Tấn | H41: 1962 | I41: =C41&" "&H41 -> Nguyễn Văn Tấn 1962 | J41: =VLOOKUP(I41,'DANHSACHKSK 2019MSBHYT'!#REF!,2,0) -> #REF! | K41: 39 | L41: Phòng Tuyển sinh - Đào tạo | M41: Phòng Tuyển sinh - Đào tạo | N41: 56 | P41: 1962 | S41: x | U41: x | AA41: x | AB41: x | AC41: x
A42: 40 | B42: 73 | C42: Hồ Văn Sĩ | D42: =VLOOKUP(C42,'DANHSACHKSK 2019MSBHYT'!$D$12:$E$336,4,0) -> #REF! | E42: 1975 | F42: Hồ Văn | G42: Sĩ | H42: 1975 | I42: =C42&" "&H42 -> Hồ Văn Sĩ 1975 | J42: =VLOOKUP(I42,'DANHSACHKSK 2019MSBHYT'!#REF!,2,0) -> #REF! | K42: 40 | L42: Phòng Tuyển sinh - Đào tạo | M42: Phòng Tuyển sinh - Đào tạo | N42: 43 | P42: 1975 | S42: x | U42: x | Y42: x | AA42: x | AB42: x | AC42: x | AH42: 1 | AI42: 1 | AJ42: 1 | AN42: 1 | AO42: 1
A43: 41 | B43: 69 | C43: Võ Thị Xuân Thơ | D43: =VLOOKUP(C43,'DANHSACHKSK 2019MSBHYT'!$D$12:$E$336,4,0) -> #N/A | E43: 1981 | F43: Võ Thị Xuân | G43: Thơ | H43: 1981 | I43: =C43&" "&H43 -> Võ Thị Xuân Thơ 1981 | J43: =VLOOKUP(I43,'DANHSACHKSK 2019MSBHYT'!#REF!,2,0) -> #REF! | K43: 41 | L43: #N/A | M43: Phòng Tuyển sinh - Đào tạo | O43: 1981 | P43: 1981 | Q43: 37 | R43: 1981 | S43: x | T43: 1 | U43: x | AA43: x | AB43: x | AC43: x | AH43: 1 | AK43: 1
A44: 42 | B44: 74 | C44: Huỳnh Thị Mai | D44: =VLOOKUP(C44,'DANHSACHKSK 2019MSBHYT'!$D$12:$E$336,4,0) -> #REF! | E44: 1978 | F44: Huỳnh Thị | G44: Mai | H44: 1978 | I44: =C44&" "&H44 -> Huỳnh Thị Mai 1978 | J44: =VLOOKUP(I44,'DANHSACHKSK 2019MSBHYT'!#REF!,2,0) -> #REF! | K44: 42 | L44: #N/A | M44: Phòng Tuyển sinh - Đào tạo | O44: 1978 | P44: 1978 | Q44: 40 | R44: 1978 | S44: x | T44: 1 | U44: x | AA44: x | AB44: x | AC44: x
A45: 43 | B45: 152 | C45: Sỹ Thị Chung | D45: =VLOOKUP(C45,'DANHSACHKSK 2019MSBHYT'!$D$12:$E$336,4,0) -> #N/A | E45: 1986 | F45: Sỹ Thị | G45: Chung | H45: 1986 | I45: =C45&" "&H45 -> Sỹ Thị Chung 1986 | J45: =VLOOKUP(I45,'DANHSACHKSK 2019MSBHYT'!#REF!,2,0) -> #REF! | K45: 43 | L45: #N/A | M45: Phòng Tuyển sinh - Đào tạo | O45: 1986 | P45: 1986 | Q45: 32 | R45: 1986 | S45: x | U45: x | Y45: 1 | AA45: x | AB45: x | AC45: x
A46: 44 | B46: 367 | C46: Lương Xuân Thịnh | D46: =VLOOKUP(C46,'DANHSACHKSK 2019MSBHYT'!$D$12:$E$336,4,0) -> #REF! | E46: 1991 | F46: Lương Xuân | G46: Thịnh | H46: 1991 | I46: =C46&" "&H46 -> Lương Xuân Thịnh 1991 | J46: =VLOOKUP(I46,'DANHSACHKSK 2019MSBHYT'!#REF!,2,0) -> #REF! | K46: 44 | L46: Trung tâm Quan hệ - Doanh nghiệp | M46: Trung tâm Quan hệ - Doanh nghiệp | N46: 27 | P46: 1991 | S46: x | U46: x | AA46: x | AB46: x | AC46: x
A47: 45 | B47: 78 | C47: Huỳnh Thị Minh Ly | D47: =VLOOKUP(C47,'DANHSACHKSK 2019MSBHYT'!$D$12:$E$336,4,0) -> #REF! | E47: 1979 | F47: Huỳnh Thị Minh | G47: Ly | H47: 1979 | I47: =C47&" "&H47 -> Huỳnh Thị Minh Ly 1979 | J47: =VLOOKUP(I47,'DANHSACHKSK 2019MSBHYT'!#REF!,2,0) -> #REF! | K47: 45 | L47: #N/A | M47: Phòng Tuyển sinh - Đào tạo | O47: 1979 | P47: 1979 | Q47: 39 | R47: 1979 | S47: x | U47: x | Y47: 1 | AA47: x | AB47: x | AC47: x
A48: 46 | B48: 227 | C48: Nguyễn Thị Thanh Thảo | D48: =VLOOKUP(C48,'DANHSACHKSK 2019MSBHYT'!$D$12:$E$336,4,0) -> #REF! | E48: 1982 | F48: Nguyễn Thị Thanh | G48: Thảo | H48: 1982 | I48: =C48&" "&H48 -> Nguyễn Thị Thanh Thảo 1982 | J48: =VLOOKUP(I48,'DANHSACHKSK 2019MSBHYT'!#REF!,2,0) -> #REF! | K48: 46 | L48: #N/A | M48: Phòng Tuyển sinh - Đào tạo | O48: 1982 | P48: 1982 | Q48: 36 | R48: 1982 | S48: x | T48: 1 | U48: x | AA48: x | AB48: x | AC48: x
A49: 47 | B49: 79 | C49: Giáp Thị Vượng | D49: =VLOOKUP(C49,'DANHSACHKSK 2019MSBHYT'!$D$12:$E$336,4,0) -> #N/A | E49: 1987 | F49: Giáp Thị | G49: Vượng | H49: 1987 | I49: =C49&" "&H49 -> Giáp Thị Vượng 1987 | J49: =VLOOKUP(I49,'DANHSACHKSK 2019MSBHYT'!#REF!,2,0) -> #REF! | K49: 47 | L49: #N/A | M49: Phòng Tuyển sinh - Đào tạo | O49: 1987 | P49: 1987 | Q49: 31 | R49: 1987 | S49: x | T49: 1 | U49: x | Y49: 1 | AA49: x | AB49: x | AC49: x | AI49: 1
A50: 48 | B50: 66 | C50: Võ Minh Phương | D50: =VLOOKUP(C50,'DANHSACHKSK 2019MSBHYT'!$D$12:$E$336,4,0) -> #REF! | E50: 1985 | F50: Võ Minh | G50: Phương | H50: 1985 | I50: =C50&" "&H50 -> Võ Minh Phương 1985 | J50: =VLOOKUP(I50,'DANHSACHKSK 2019MSBHYT'!#REF!,2,0) -> #REF! | K50: 48 | L50: Phòng Tuyển sinh - Đào tạo | M50: Phòng Tuyển sinh - Đào tạo | N50: 33 | P50: 1985 | S50: x | U50: x | Z50: 1 | AA50: x | AB50: x | AC50: x
A51: 49 | B51: 57 | C51: Vương Hội Khánh | D51: =VLOOKUP(C51,'DANHSACHKSK 2019MSBHYT'!$D$12:$E$336,4,0) -> #REF! | E51: 1985 | F51: Vương Hội | G51: Khánh | H51: 1985 | I51: =C51&" "&H51 -> Vương Hội Khánh 1985 | J51: =VLOOKUP(I51,'DANHSACHKSK 2019MSBHYT'!#REF!,2,0) -> #REF! | K51: 49 | L51: Phòng Tuyển sinh - Đào tạo | M51: Phòng Tuyển sinh - Đào tạo | N51: 33 | P51: 1985 | S51: x | U51: x | AA51: x | AB51: x | AC51: x
A52: 50 | B52: 364 | C52: Nguyễn Thị Tất | D52: =VLOOKUP(C52,'DANHSACHKSK 2019MSBHYT'!$D$12:$E$336,4,0) -> #N/A | E52: 1988 | F52: Nguyễn Thị | G52: Tất | H52: 1988 | I52: =C52&" "&H52 -> Nguyễn Thị Tất 1988 | J52: =VLOOKUP(I52,'DANHSACHKSK 2019MSBHYT'!#REF!,2,0) -> #REF! | K52: 50 | L52: #N/A | M52: Phòng Tuyển sinh - Đào tạo | O52: 1988 | P52: 1988 | Q52: 30 | R52: 1988 | S52: x | U52: x | Y52: 1 | AA52: x | AB52: x | AC52: x
A53: 51 | B53: 58 | C53: Nguyễn Ngọc Trang | D53: =VLOOKUP(C53,'DANHSACHKSK 2019MSBHYT'!$D$12:$E$336,4,0) -> #N/A | E53: 1966 | F53: Nguyễn Ngọc | G53: Trang | H53: 1966 | I53: =C53&" "&H53 -> Nguyễn Ngọc Trang 1966 | J53: =VLOOKUP(I53,'DANHSACHKSK 2019MSBHYT'!#REF!,2,0) -> #REF! | K53: 51 | L53: #N/A | M53: Phòng Quản lý khoa học - Hợp tác quốc tế | O53: 1966 | P53: 1966 | Q53: 52 | R53: 1966 | S53: x | T53: 1 | U53: x | Z53: 1 | AA53: x | AB53: x | AC53: x
A54: 52 | B54: 394 | C54: Lê Tiến Dũng | D54: =VLOOKUP(C54,'DANHSACHKSK 2019MSBHYT'!$D$12:$E$336,4,0) -> #REF! | E54: 1982 | F54: Lê Tiến | G54: Dũng | H54: 1982 | I54: =C54&" "&H54 -> Lê Tiến Dũng 1982 | J54: =VLOOKUP(I54,'DANHSACHKSK 2019MSBHYT'!#REF!,2,0) -> #REF! | K54: 52 | L54: Phòng Quản lý khoa học - Hợp tác quốc tế | M54: Phòng Quản lý khoa học - Hợp tác quốc tế | N54: 36 | P54: 1982 | S54: x | U54: x | AA54: x | AB54: x | AC54: x
A55: 53 | B55: 399 | C55: Huỳnh Thị Cẩm Hoa | D55: =VLOOKUP(C55,'DANHSACHKSK 2019MSBHYT'!$D$12:$E$336,4,0) -> #REF! | E55: 1984 | F55: Huỳnh Thị Cẩm | G55: Hoa | H55: 1984 | I55: =C55&" "&H55 -> Huỳnh Thị Cẩm Hoa 1984 | J55: =VLOOKUP(I55,'DANHSACHKSK 2019MSBHYT'!#REF!,2,0) -> #REF! | K55: 53 | L55: #N/A | M55: Phòng Quản lý khoa học - Hợp tác quốc tế | O55: 1984 | P55: 1984 | Q55: 34 | R55: 1984 | S55: x | U55: x | Y55: 1 | AA55: x | AB55: x | AC55: x
A56: 54 | B56: 400 | C56: Trần Nhật Minh | D56: =VLOOKUP(C56,'DANHSACHKSK 2019MSBHYT'!$D$12:$E$336,4,0) -> #N/A | E56: 1992 | F56: Trần Nhật | G56: Minh | H56: 1992 | I56: =C56&" "&H56 -> Trần Nhật Minh 1992 | J56: =VLOOKUP(I56,'DANHSACHKSK 2019MSBHYT'!#REF!,2,0) -> #REF! | K56: 54 | L56: Phòng Quản lý khoa học - Hợp tác quốc tế | M56: Phòng Quản lý khoa học - Hợp tác quốc tế | N56: 26 | P56: 1992 | S56: x | U56: x | AA56: x | AB56: x | AC56: x
A57: 55 | B57: 60 | C57: Nguyễn Thành Nam | D57: =VLOOKUP(C57,'DANHSACHKSK 2019MSBHYT'!$D$12:$E$336,4,0) -> #REF! | E57: 1979 | F57: Nguyễn Thành | G57: Nam | H57: 1979 | I57: =C57&" "&H57 -> Nguyễn Thành Nam 1979 | J57: =VLOOKUP(I57,'DANHSACHKSK 2019MSBHYT'!#REF!,2,0) -> #REF! | K57: 55 | L57: Phòng Tổ chức - Hành chính - Tổng hợp | M57: Phòng Tổ chức - Hành chính - Tổng hợp | N57: 39 | P57: 1979 | S57: x | U57: x | Y57: x | AA57: x | AB57: x | AC57: x
A58: 56 | B58: 89 | C58: Hà Phước Tuấn | D58: =VLOOKUP(C58,'DANHSACHKSK 2019MSBHYT'!$D$12:$E$336,4,0) -> #REF! | E58: 1960 | F58: Hà Phước | G58: Tuấn | H58: 1960 | I58: =C58&" "&H58 -> Hà Phước Tuấn 1960 | J58: =VLOOKUP(I58,'DANHSACHKSK 2019MSBHYT'!#REF!,2,0) -> #REF! | K58: 56 | L58: Khoa Cơ Khí | M58: Khoa Cơ Khí | N58: 58 | P58: 1960 | S58: x | U58: x | AA58: x | AB58: x | AC58: x
A59: 57 | B59: 72 | C59: Võ Thị Anh Đào | D59: =VLOOKUP(C59,'DANHSACHKSK 2019MSBHYT'!$D$12:$E$336,4,0) -> #N/A | E59: 1965 | F59: Võ Thị Anh | G59: Đào | H59: 1965 | I59: =C59&" "&H59 -> Võ Thị Anh Đào 1965 | J59: =VLOOKUP(I59,'DANHSACHKSK 2019MSBHYT'!#REF!,2,0) -> #REF! | K59: 57 | L59: #N/A | M59: Phòng Khảo thí - Đảm bảo chất lượng | O59: 1965 | P59: 1965 | Q59: 53 | R59: 1965 | S59: x | T59: 1 | U59: x | Y59: 1 | AA59: x | AB59: x | AC59: x | AG59: 1 | AH59: 1 | AI59: 1 | AJ59: 1 | AK59: 1 | AN59: 1
A60: 58 | B60: 375 | C60: Nguyễn Thanh Sơn | D60: =VLOOKUP(C60,'DANHSACHKSK 2019MSBHYT'!$D$12:$E$336,4,0) -> #REF! | E60: 1963 | F60: Nguyễn Thanh | G60: Sơn | H60: 1963 | I60: =C60&" "&H60 -> Nguyễn Thanh Sơn 1963 | J60: =VLOOKUP(I60,'DANHSACHKSK 2019MSBHYT'!#REF!,2,0) -> #REF! | K60: 58 | L60: Phòng Khảo thí - Đảm bảo chất lượng | M60: Phòng Khảo thí - Đảm bảo chất lượng | N60: 55 | P60: 1963 | S60: x | U60: x | AA60: x | AB60: x | AC60: x
A61: 59 | B61: 76 | C61: Nguyễn Văn Sơn | D61: =VLOOKUP(C61,'DANHSACHKSK 2019MSBHYT'!$D$12:$E$336,4,0) -> #REF! | E61: 1965 | F61: Nguyễn Văn | G61: Sơn | H61: 1965 | I61: =C61&" "&H61 -> Nguyễn Văn Sơn 1965 | J61: =VLOOKUP(I61,'DANHSACHKSK 2019MSBHYT'!#REF!,2,0) -> #REF! | K61: 59 | L61: Phòng Khảo thí - Đảm bảo chất lượng | M61: Phòng Khảo thí - Đảm bảo chất lượng | N61: 53 | P61: 1965 | S61: x | U61: x | AA61: x | AB61: x | AC61: x
A62: 60 | B62: 99 | C62: Nguyễn Yến Nhi | D62: =VLOOKUP(C62,'DANHSACHKSK 2019MSBHYT'!$D$12:$E$336,4,0) -> #REF! | E62: 1989 | F62: Nguyễn Yến | G62: Nhi | H62: 1989 | I62: =C62&" "&H62 -> Nguyễn Yến Nhi 1989 | J62: =VLOOKUP(I62,'DANHSACHKSK 2019MSBHYT'!#REF!,2,0) -> #REF! | K62: 60 | L62: #N/A | M62: Phòng Khảo thí - Đảm bảo chất lượng | O62: 1989 | P62: 1989 | Q62: 29 | R62: 1989 | S62: x | U62: x | Y62: 1 | AA62: x | AB62: x | AC62: x
A63: 61 | B63: 70 | C63: Vũ Thị Thu Thủy | D63: =VLOOKUP(C63,'DANHSACHKSK 2019MSBHYT'!$D$12:$E$336,4,0) -> #REF! | E63: 1986 | F63: Vũ Thị Thu | G63: Thủy | H63: 1986 | I63: =C63&" "&H63 -> Vũ Thị Thu Thủy 1986 | J63: =VLOOKUP(I63,'DANHSACHKSK 2019MSBHYT'!#REF!,2,0) -> #REF! | K63: 61 | L63: #N/A | M63: Phòng Khảo thí - Đảm bảo chất lượng | O63: 1986 | P63: 1986 | Q63: 32 | R63: 1986 | S63: x | T63: 1 | U63: x | Y63: vú | Z63: 1 | AA63: x | AB63: x | AC63: x | AK63: 1
A64: 62 | B64: 64 | C64: Nguyễn Chí Nhân | D64: =VLOOKUP(C64,'DANHSACHKSK 2019MSBHYT'!$D$12:$E$336,4,0) -> #REF! | E64: 1978 | F64: Nguyễn Chí | G64: Nhân | H64: 1978 | I64: =C64&" "&H64 -> Nguyễn Chí Nhân 1978 | J64: =VLOOKUP(I64,'DANHSACHKSK 2019MSBHYT'!#REF!,2,0) -> #REF! | K64: 62 | L64: Phòng Khảo thí - Đảm bảo chất lượng | M64: Phòng Khảo thí - Đảm bảo chất lượng | N64: 40 | P64: 1978 | S64: x | U64: x | AA64: x | AB64: x | AC64: x
A65: 63 | B65: 52 | C65: Nguyễn Thị Hoa | D65: =VLOOKUP(C65,'DANHSACHKSK 2019MSBHYT'!$D$12:$E$336,4,0) -> #REF! | E65: 1965 | F65: Nguyễn Thị | G65: Hoa | H65: 1965 | I65: =C65&" "&H65 -> Nguyễn Thị Hoa 1965 | J65: =VLOOKUP(I65,'DANHSACHKSK 2019MSBHYT'!#REF!,2,0) -> #REF! | K65: 63 | L65: #N/A | M65: Phòng Tổ chức - Hành chính - Tổng hợp | O65: 1965 | P65: 1965 | Q65: 53 | R65: 1965 | S65: x | U65: x | Y65: 1 | AA65: x | AB65: x | AC65: x | AD65: x | AK65: 1
A66: 64 | B66: 98 | C66: Thân Thị Nhung | D66: =VLOOKUP(C66,'DANHSACHKSK 2019MSBHYT'!$D$12:$E$336,4,0) -> #REF! | E66: 1991 | F66: Thân Thị | G66: Nhung | H66: 1991 | I66: =C66&" "&H66 -> Thân Thị Nhung 1991 | J66: =VLOOKUP(I66,'DANHSACHKSK 2019MSBHYT'!#REF!,2,0) -> #REF! | K66: 64 | L66: #N/A | M66: Phòng Thiết bị - Vật tư | O66: 1991 | P66: 1991 | Q66: 27 | R66: 1991 | S66: x | U66: x | Y66: 1 | AA66: x | AB66: x | AC66: x | AG66: 1
A67: 65 | B67: 49 | C67: Huỳnh Thị Xuân Mai | D67: =VLOOKUP(C67,'DANHSACHKSK 2019MSBHYT'!$D$12:$E$336,4,0) -> #REF! | E67: 1970 | F67: Huỳnh Thị Xuân | G67: Mai | H67: 1970 | I67: =C67&" "&H67 -> Huỳnh Thị Xuân Mai 1970 | J67: =VLOOKUP(I67,'DANHSACHKSK 2019MSBHYT'!#REF!,2,0) -> #REF! | K67: 65 | L67: #N/A | M67: Phòng Thiết bị - Vật tư | O67: 1970 | P67: 1970 | Q67: 48 | R67: 1970 | S67: x | T67: 1 | U67: x | Y67: 1 | AA67: x | AB67: x | AC67: x | AG67: 1 | AH67: 1 | AI67: 1 | AJ67: 1 | AK67: 1
A68: 66 | B68: 293 | C68: Trần Thị Phương Oanh | D68: =VLOOKUP(C68,'DANHSACHKSK 2019MSBHYT'!$D$12:$E$336,4,0) -> #REF! | E68: 1981 | F68: Trần Thị Phương | G68: Oanh | H68: 1981 | I68: =C68&" "&H68 -> Trần Thị Phương Oanh 1981 | J68: =VLOOKUP(I68,'DANHSACHKSK 2019MSBHYT'!#REF!,2,0) -> #REF! | K68: 66 | L68: #N/A | M68: Phòng Thiết bị - Vật tư | O68: 1981 | P68: 1981 | Q68: 37 | R68: 1981 | S68: x | U68: x | Y68: 1 | AA68: x | AB68: x | AC68: x
A69: 67 | B69: 93 | C69: Nguyễn Văn Chiến | D69: =VLOOKUP(C69,'DANHSACHKSK 2019MSBHYT'!$D$12:$E$336,4,0) -> #REF! | E69: 1974 | F69: Nguyễn Văn | G69: Chiến | H69: 1974 | I69: =C69&" "&H69 -> Nguyễn Văn Chiến 1974 | J69: =VLOOKUP(I69,'DANHSACHKSK 2019MSBHYT'!#REF!,2,0) -> #REF! | K69: 67 | L69: #N/A | M69: Phòng Thiết bị - Vật tư | N69: 44 | P69: 1974 | S69: x | U69: x | Y69: t.giáp | AA69: x | AB69: x | AC69: x | AG69: 1 | AH69: 1 | AI69: 1 | AJ69: 1 | AK69: 1 | AL69: 1 | AM69: 1 | AN69: 1 | AO69: 1 | AP69: 1 | AQ69: 1 | AR69: 1 | AS69: 1 | AW69: 1 | AX69: 1 | AY69: 1
A70: 68 | B70: 92 | C70: Lâm Viết Dũng | D70: =VLOOKUP(C70,'DANHSACHKSK 2019MSBHYT'!$D$12:$E$336,4,0) -> #REF! | E70: 1976 | F70: Lâm Viết | G70: Dũng | H70: 1976 | I70: =C70&" "&H70 -> Lâm Viết Dũng 1976 | J70: =VLOOKUP(I70,'DANHSACHKSK 2019MSBHYT'!#REF!,2,0) -> #REF! | K70: 68 | L70: Phòng Tồ chức - Hành chính - Tổng hợp | M70: Phòng Thiết bị - Vật tư | N70: 42 | P70: 1976 | S70: x | U70: x | AA70: x | AB70: x | AC70: x
A71: 69 | B71: 56 | C71: Mai Thu Hương | D71: =VLOOKUP(C71,'DANHSACHKSK 2019MSBHYT'!$D$12:$E$336,4,0) -> #REF! | E71: 1986 | F71: Mai Thu | G71: Hương | H71: 1986 | I71: =C71&" "&H71 -> Mai Thu Hương 1986 | J71: =VLOOKUP(I71,'DANHSACHKSK 2019MSBHYT'!#REF!,2,0) -> #REF! | K71: 69 | L71: #N/A | M71: Phòng Quản trị - Dịch vụ | O71: 1986 | P71: 1986 | Q71: 32 | R71: 1986 | S71: x | U71: x | Y71: 1 | AA71: x | AB71: x | AC71: x
A72: 70 | B72: 223 | C72: Nguyễn Văn Thành | D72: =VLOOKUP(C72,'DANHSACHKSK 2019MSBHYT'!$D$12:$E$336,4,0) -> #N/A | E72: 1974 | F72: Nguyễn Văn | G72: Thành | H72: 1974 | I72: =C72&" "&H72 -> Nguyễn Văn Thành 1974 | J72: =VLOOKUP(I72,'DANHSACHKSK 2019MSBHYT'!#REF!,2,0) -> #REF! | K72: 70 | L72: Phòng Quản trị - Dịch vụ | M72: Phòng Quản trị - Dịch vụ | N72: 44 | P72: 1974 | S72: x | U72: x | AA72: x | AB72: x | AC72: x
A73: 71 | B73: 11 | C73: Nguyễn Trọng Phú | D73: =VLOOKUP(C73,'DANHSACHKSK 2019MSBHYT'!$D$12:$E$336,4,0) -> #REF! | E73: 1976 | F73: Nguyễn Trọng | G73: Phú | H73: 1976 | I73: =C73&" "&H73 -> Nguyễn Trọng Phú 1976 | J73: =VLOOKUP(I73,'DANHSACHKSK 2019MSBHYT'!#REF!,2,0) -> #REF! | K73: 71 | L73: Phòng Quản trị - Dịch vụ | M73: Phòng Quản trị - Dịch vụ | N73: 46 | P73: 1976 | S73: x | U73: x | AA73: x | AB73: x | AC73: x
A74: 72 | B74: 46 | C74: Lê Hồng Anh Tuấn | D74: =VLOOKUP(C74,'DANHSACHKSK 2019MSBHYT'!$D$12:$E$336,4,0) -> #REF! | E74: 1991 | F74: Lê Hồng Anh | G74: Tuấn | H74: 1991 | I74: =C74&" "&H74 -> Lê Hồng Anh Tuấn 1991 | J74: =VLOOKUP(I74,'DANHSACHKSK 2019MSBHYT'!#REF!,2,0) -> #REF! | K74: 72 | L74: Phòng Quản trị - Dịch vụ | M74: Phòng Quản trị - Dịch vụ | N74: 27 | P74: 1991 | S74: x | U74: x | AA74: x | AB74: x | AC74: x | AM74: 1
A75: 73 | B75: 12 | C75: Vũ Ngọc Quang | D75: =VLOOKUP(C75,'DANHSACHKSK 2019MSBHYT'!$D$12:$E$336,4,0) -> #N/A | E75: 1984 | F75: Vũ Ngọc | G75: Quang | H75: 1984 | I75: =C75&" "&H75 -> Vũ Ngọc Quang 1984 | J75: =VLOOKUP(I75,'DANHSACHKSK 2019MSBHYT'!#REF!,2,0) -> #REF! | K75: 73 | L75: Phòng Quản trị - Dịch vụ | M75: Phòng Quản trị - Dịch vụ | N75: 34 | P75: 1984 | S75: x | U75: x | AA75: x | AB75: x | AC75: x
A76: 74 | B76: 10 | C76: Đỗ Văn Trong | D76: =VLOOKUP(C76,'DANHSACHKSK 2019MSBHYT'!$D$12:$E$336,4,0) -> #REF! | E76: 1982 | F76: Đỗ Văn | G76: Trong | H76: 1982 | I76: =C76&" "&H76 -> Đỗ Văn Trong 1982 | J76: =VLOOKUP(I76,'DANHSACHKSK 2019MSBHYT'!#REF!,2,0) -> #REF! | K76: 74 | L76: Phòng Quản trị - Dịch vụ | M76: Phòng Quản trị - Dịch vụ | N76: 36 | P76: 1982 | S76: x | U76: x | AA76: x | AB76: x | AC76: x
A77: 75 | B77: 16 | C77: Giáp Văn Thịnh | D77: =VLOOKUP(C77,'DANHSACHKSK 2019MSBHYT'!$D$12:$E$336,4,0) -> #REF! | E77: 1982 | F77: Giáp Văn | G77: Thịnh | H77: 1982 | I77: =C77&" "&H77 -> Giáp Văn Thịnh 1982 | J77: =VLOOKUP(I77,'DANHSACHKSK 2019MSBHYT'!#REF!,2,0) -> #REF! | K77: 75 | L77: Phòng Quản trị - Dịch vụ | M77: Phòng Quản trị - Dịch vụ | N77: 36 | P77: 1982 | S77: x | U77: x | AA77: x | AB77: x | AC77: x | AI77: 1 | AJ77: 1 | AS77: 1
A78: 76 | B78: 88 | C78: Dương Thị Thuỷ | D78: =VLOOKUP(C78,'DANHSACHKSK 2019MSBHYT'!$D$12:$E$336,4,0) -> #N/A | E78: 1989 | F78: Dương Thị | G78: Thuỷ | H78: 1989 | I78: =C78&" "&H78 -> Dương Thị Thuỷ 1989 | J78: =VLOOKUP(I78,'DANHSACHKSK 2019MSBHYT'!#REF!,2,0) -> #REF! | K78: 76 | L78: #N/A | M78: Phòng Quản trị - Dịch vụ | O78: 1989 | P78: 1989 | Q78: 29 | R78: 1989 | S78: x | U78: x | Y78: x | Z78: 1 | AA78: x | AB78: x | AC78: x
A79: 77 | B79: 18 | C79: Tạ Quốc Tấn | D79: =VLOOKUP(C79,'DANHSACHKSK 2019MSBHYT'!$D$12:$E$336,4,0) -> #REF! | E79: 1971 | F79: Tạ Quốc | G79: Tấn | H79: 1971 | I79: =C79&" "&H79 -> Tạ Quốc Tấn 1971 | J79: =VLOOKUP(I79,'DANHSACHKSK 2019MSBHYT'!#REF!,2,0) -> #REF! | K79: 77 | L79: Phòng Quản trị - Dịch vụ | M79: Phòng Quản trị - Dịch vụ | N79: 47 | P79: 1971 | S79: x | U79: x | AA79: x | AB79: x | AC79: x
A80: 78 | B80: 333 | C80: Huỳnh Thị Thu Hương | D80: =VLOOKUP(C80,'DANHSACHKSK 2019MSBHYT'!$D$12:$E$336,4,0) -> #REF! | E80: 1964 | F80: Huỳnh Thị Thu | G80: Hương | H80: 1964 | I80: =C80&" "&H80 -> Huỳnh Thị Thu Hương 1964 | J80: =VLOOKUP(I80,'DANHSACHKSK 2019MSBHYT'!#REF!,2,0) -> #REF! | K80: 78 | L80: #N/A | M80: Phòng Quản trị - Dịch vụ | O80: 1964 | P80: 1964 | Q80: 54 | R80: 1964 | S80: x | U80: x | Y80: 1 | AA80: x | AB80: x | AC80: x
A81: 79 | B81: 25 | C81: Trần Thị Kim Loan | D81: =VLOOKUP(C81,'DANHSACHKSK 2019MSBHYT'!$D$12:$E$336,4,0) -> #N/A | E81: 1965 | F81: Trần Thị Kim | G81: Loan | H81: 1965 | I81: =C81&" "&H81 -> Trần Thị Kim Loan 1965 | J81: =VLOOKUP(I81,'DANHSACHKSK 2019MSBHYT'!#REF!,2,0) -> #REF! | K81: 79 | L81: #N/A | M81: Phòng Quản trị - Dịch vụ | O81: 1965 | P81: 1965 | Q81: 53 | R81: 1965 | S81: x | U81: x | Y81: x | AA81: x | AB81: x | AC81: x
A82: 80 | B82: 24 | C82: Thi Thị Phím | D82: =VLOOKUP(C82,'DANHSACHKSK 2019MSBHYT'!$D$12:$E$336,4,0) -> #REF! | E82: 1964 | F82: Thi Thị | G82: Phím | H82: 1964 | I82: =C82&" "&H82 -> Thi Thị Phím 1964 | J82: =VLOOKUP(I82,'DANHSACHKSK 2019MSBHYT'!#REF!,2,0) -> #REF! | K82: 80 | L82: #N/A | M82: Phòng Quản trị - Dịch vụ | O82: 1964 | P82: 1964 | Q82: 54 | R82: 1964 | S82: x | T82: 1 | U82: x | Y82: 1 | Z82: 1 | AA82: x | AB82: x | AC82: x | AG82: 1 | AH82: 1 | AI82: 1
A83: 81 | B83: 30 | C83: Trang Thị Minh | D83: =VLOOKUP(C83,'DANHSACHKSK 2019MSBHYT'!$D$12:$E$336,4,0) -> #REF! | E83: 1964 | F83: Trang Thị | G83: Minh | H83: 1964 | I83: =C83&" "&H83 -> Trang Thị Minh 1964 | J83: =VLOOKUP(I83,'DANHSACHKSK 2019MSBHYT'!#REF!,2,0) -> #REF! | K83: 81 | L83: #N/A | M83: Phòng Quản trị - Dịch vụ | O83: 1964 | P83: 1964 | Q83: 54 | R83: 1964 | S83: x | U83: x | Y83: 1 | AA83: x | AB83: x | AC83: x | AK83: 1
A84: 82 | B84: 26 | C84: Nguyễn Thị Thu Trang | D84: =VLOOKUP(C84,'DANHSACHKSK 2019MSBHYT'!$D$12:$E$336,4,0) -> #REF! | E84: 1967 | F84: Nguyễn Thị Thu | G84: Trang | H84: 1967 | I84: =C84&" "&H84 -> Nguyễn Thị Thu Trang 1967 | J84: =VLOOKUP(I84,'DANHSACHKSK 2019MSBHYT'!#REF!,2,0) -> #REF! | K84: 82 | L84: #N/A | M84: Phòng Quản trị - Dịch vụ | O84: 1967 | P84: 1967 | Q84: 51 | R84: 1967 | S84: x | U84: x | Y84: x | AA84: x | AB84: x | AC84: x
A85: 83 | B85: 28 | C85: Trần Thị Thu | D85: =VLOOKUP(C85,'DANHSACHKSK 2019MSBHYT'!$D$12:$E$336,4,0) -> #REF! | E85: 1971 | F85: Trần Thị | G85: Thu | H85: 1971 | I85: =C85&" "&H85 -> Trần Thị Thu 1971 | J85: =VLOOKUP(I85,'DANHSACHKSK 2019MSBHYT'!#REF!,2,0) -> #REF! | K85: 83 | L85: #N/A | M85: Phòng Quản trị - Dịch vụ | O85: 1971 | P85: 1971 | Q85: 47 | R85: 1971 | S85: x | T85: 1 | U85: x | AA85: x | AB85: x | AC85: x
A86: 84 | B86: 31 | C86: Thân Thị Quyết | D86: =VLOOKUP(C86,'DANHSACHKSK 2019MSBHYT'!$D$12:$E$336,4,0) -> #REF! | E86: 1966 | F86: Thân Thị | G86: Quyết | H86: 1966 | I86: =C86&" "&H86 -> Thân Thị Quyết 1966 | J86: =VLOOKUP(I86,'DANHSACHKSK 2019MSBHYT'!#REF!,2,0) -> #REF! | K86: 84 | L86: #N/A | M86: Phòng Quản trị - Dịch vụ | O86: 1966 | P86: 1966 | Q86: 52 | R86: 1966 | S86: x | U86: x | Y86: x | AA86: x | AB86: x | AC86: x
A87: 85 | B87: 392 | C87: Nguyễn Lê Hồng Điệp | D87: =VLOOKUP(C87,'DANHSACHKSK 2019MSBHYT'!$D$12:$E$336,4,0) -> #REF! | E87: 1968 | F87: Nguyễn Lê Hồng | G87: Điệp | H87: 1968 | I87: =C87&" "&H87 -> Nguyễn Lê Hồng Điệp 1968 | J87: =VLOOKUP(I87,'DANHSACHKSK 2019MSBHYT'!#REF!,2,0) -> #REF! | K87: 85 | L87: #N/A | M87: Phòng Quản trị - Dịch vụ | O87: 1968 | P87: 1968 | Q87: 50 | R87: 1968 | S87: x | U87: x | Y87: 1 | AA87: x | AB87: x | AC87: x
A88: 86 | B88: 19 | C88: Huỳnh Thị Thu Nga | D88: =VLOOKUP(C88,'DANHSACHKSK 2019MSBHYT'!$D$12:$E$336,4,0) -> #REF! | E88: 1965 | F88: Huỳnh Thị Thu | G88: Nga | H88: 1965 | I88: =C88&" "&H88 -> Huỳnh Thị Thu Nga 1965 | J88: =VLOOKUP(I88,'DANHSACHKSK 2019MSBHYT'!#REF!,2,0) -> #REF! | K88: 86 | L88: #N/A | M88: Phòng Quản trị - Dịch vụ | O88: 1965 | P88: 1965 | Q88: 53 | R88: 1965 | S88: x | U88: x | Y88: 1 | AA88: x | AB88: x | AC88: x
A89: 87 | B89: 59 | C89: Lê Quang Liêm | D89: =VLOOKUP(C89,'DANHSACHKSK 2019MSBHYT'!$D$12:$E$336,4,0) -> #REF! | E89: 1972 | F89: Lê Quang | G89: Liêm | H89: 1972 | I89: =C89&" "&H89 -> Lê Quang Liêm 1972 | J89: =VLOOKUP(I89,'DANHSACHKSK 2019MSBHYT'!#REF!,2,0) -> #REF! | K89: 87 | L89: Phòng Quản trị - Dịch vụ | M89: Phòng Quản trị - Dịch vụ | N89: 46 | P89: 1972 | S89: x | U89: x | AA89: x | AB89: x | AC89: x
A90: 88 | B90: 117 | C90: Lê Thị Thiện | D90: =VLOOKUP(C90,'DANHSACHKSK 2019MSBHYT'!$D$12:$E$336,4,0) -> #N/A | E90: 1965 | F90: Lê Thị | G90: Thiện | H90: 1965 | I90: =C90&" "&H90 -> Lê Thị Thiện 1965 | J90: =VLOOKUP(I90,'DANHSACHKSK 2019MSBHYT'!#REF!,2,0) -> #REF! | K90: 88 | L90: #N/A | M90: Phòng Quản trị - Dịch vụ | O90: 1965 | P90: 1965 | Q90: 53 | R90: 1965 | S90: x | T90: 1 | U90: x | AA90: x | AB90: x | AC90: x
A91: 89 | B91: 126 | C91: Đỗ Thị Bích Thủy | D91: =VLOOKUP(C91,'DANHSACHKSK 2019MSBHYT'!$D$12:$E$336,4,0) -> #REF! | E91: 1968 | F91: Đỗ Thị Bích | G91: Thủy | H91: 1968 | I91: =C91&" "&H91 -> Đỗ Thị Bích Thủy 1968 | J91: =VLOOKUP(I91,'DANHSACHKSK 2019MSBHYT'!#REF!,2,0) -> #REF! | K91: 89 | L91: #N/A | M91: Phòng Quản trị - Dịch vụ | O91: 1968 | P91: 1968 | Q91: 50 | R91: 1968 | S91: x | U91: x | Y91: x | AA91: x | AB91: x | AC91: x
A92: 90 | B92: 153 | C92: Trần Thanh Quí | D92: =VLOOKUP(C92,'DANHSACHKSK 2019MSBHYT'!$D$12:$E$336,4,0) -> #N/A | E92: 1953 | F92: Trần Thanh | G92: Quí | H92: 1953 | I92: =C92&" "&H92 -> Trần Thanh Quí 1953 | J92: =VLOOKUP(I92,'DANHSACHKSK 2019MSBHYT'!#REF!,2,0) -> #REF! | K92: 90 | L92: Phòng Quản trị - Dịch vụ | M92: Phòng Quản trị - Dịch vụ | N92: 65 | P92: 1953 | S92: x | U92: x | AA92: x | AB92: x | AC92: x
A93: 91 | B93: 378 | C93: Nguyễn Xuân Lợi | D93: =VLOOKUP(C93,'DANHSACHKSK 2019MSBHYT'!$D$12:$E$336,4,0) -> #REF! | E93: 1986 | F93: Nguyễn Xuân | G93: Lợi | H93: 1986 | I93: =C93&" "&H93 -> Nguyễn Xuân Lợi 1986 | J93: =VLOOKUP(I93,'DANHSACHKSK 2019MSBHYT'!#REF!,2,0) -> #REF! | K93: 91 | L93: Phòng Quản trị - Dịch vụ | M93: Phòng Quản trị - Dịch vụ | N93: 32 | P93: 1986 | S93: x | U93: x | AA93: x | AB93: x | AC93: x | AE93: 1
A94: 92 | B94: 191 | C94: Ninh Đỗ Hiệp | D94: =VLOOKUP(C94,'DANHSACHKSK 2019MSBHYT'!$D$12:$E$336,4,0) -> #REF! | E94: 1986 | F94: Ninh Đỗ | G94: Hiệp | H94: 1986 | I94: =C94&" "&H94 -> Ninh Đỗ Hiệp 1986 | J94: =VLOOKUP(I94,'DANHSACHKSK 2019MSBHYT'!#REF!,2,0) -> #REF! | K94: 92 | L94: Phòng Quản trị - Dịch vụ | M94: Phòng Quản trị - Dịch vụ | N94: 32 | P94: 1986 | S94: x | U94: x | AA94: x | AB94: x | AC94: x
A95: 93 | B95: 7 | C95: Trần Văn Lý | D95: =VLOOKUP(C95,'DANHSACHKSK 2019MSBHYT'!$D$12:$E$336,4,0) -> #N/A | E95: 1965 | F95: Trần Văn | G95: Lý | H95: 1965 | I95: =C95&" "&H95 -> Trần Văn Lý 1965 | J95: =VLOOKUP(I95,'DANHSACHKSK 2019MSBHYT'!#REF!,2,0) -> #REF! | K95: 93 | L95: Phòng Công tác Chính trị - HSSV | M95: Phòng Công tác Chính trị - HSSV | N95: 53 | P95: 1965 | S95: x | U95: x | AA95: x | AB95: x | AC95: x
A96: 94 | B96: 164 | C96: Nguyễn Trung Dũng | D96: =VLOOKUP(C96,'DANHSACHKSK 2019MSBHYT'!$D$12:$E$336,4,0) -> #REF! | E96: 1982 | F96: Nguyễn Trung | G96: Dũng | H96: 1982 | I96: =C96&" "&H96 -> Nguyễn Trung Dũng 1982 | J96: =VLOOKUP(I96,'DANHSACHKSK 2019MSBHYT'!#REF!,2,0) -> #REF! | K96: 94 | L96: Phòng Công tác Chính trị - HSSV | M96: Phòng Công tác Chính trị - HSSV | N96: 36 | P96: 1982 | S96: x | U96: x | AA96: x | AB96: x | AC96: x
A97: 95 | B97: 82 | C97: Hoàng Ngọc Cảnh | D97: =VLOOKUP(C97,'DANHSACHKSK 2019MSBHYT'!$D$12:$E$336,4,0) -> #N/A | E97: 1958 | F97: Hoàng Ngọc | G97: Cảnh | H97: 1958 | I97: =C97&" "&H97 -> Hoàng Ngọc Cảnh 1958 | J97: =VLOOKUP(I97,'DANHSACHKSK 2019MSBHYT'!#REF!,2,0) -> #REF! | K97: 95 | L97: Phòng Công tác Chính trị - HSSV | M97: Phòng Công tác Chính trị - HSSV | N97: 60 | P97: 1958 | S97: x | U97: x | Z97: 1 | AA97: x | AB97: x | AC97: x | AM97: 1 | AR97: 1 | AW97: 1
A98: 96 | B98: 81 | C98: Hà Nhật Thanh | D98: =VLOOKUP(C98,'DANHSACHKSK 2019MSBHYT'!$D$12:$E$336,4,0) -> #N/A | E98: 1962 | F98: Hà Nhật | G98: Thanh | H98: 1962 | I98: =C98&" "&H98 -> Hà Nhật Thanh 1962 | J98: =VLOOKUP(I98,'DANHSACHKSK 2019MSBHYT'!#REF!,2,0) -> #REF! | K98: 96 | L98: Phòng Công tác Chính trị - HSSV | M98: Phòng Công tác Chính trị - HSSV | N98: 53 | P98: 1962 | S98: x | U98: x | AA98: x | AB98: x | AC98: x
A99: 97 | B99: 84 | C99: Nguyễn Ngọc Hiệp | D99: =VLOOKUP(C99,'DANHSACHKSK 2019MSBHYT'!$D$12:$E$336,4,0) -> #REF! | E99: 1973 | F99: Nguyễn Ngọc | G99: Hiệp | H99: 1973 | I99: =C99&" "&H99 -> Nguyễn Ngọc Hiệp 1973 | J99: =VLOOKUP(I99,'DANHSACHKSK 2019MSBHYT'!#REF!,2,0) -> #REF! | K99: 97 | L99: Phòng Công tác Chính trị - HSSV | M99: Phòng Công tác Chính trị - HSSV | N99: 45 | P99: 1973 | S99: x | U99: x | AA99: x | AB99: x | AC99: x
A100: 98 | B100: 85 | C100: Phan Đức Long | D100: =VLOOKUP(C100,'DANHSACHKSK 2019MSBHYT'!$D$12:$E$336,4,0) -> #REF! | E100: 1974 | F100: Phan Đức | G100: Long | H100: 1974 | I100: =C100&" "&H100 -> Phan Đức Long 1974 | J100: =VLOOKUP(I100,'DANHSACHKSK 2019MSBHYT'!#REF!,2,0) -> #REF! | K100: 98 | L100: Phòng Công tác Chính trị - HSSV | M100: Phòng Công tác Chính trị - HSSV | N100: 44 | P100: 1974 | S100: x | U100: x | AA100: x | AB100: x | AC100: x
A101: 99 | B101: 104 | C101: Nguyễn Tất Thắng | D101: =VLOOKUP(C101,'DANHSACHKSK 2019MSBHYT'!$D$12:$E$336,4,0) -> #REF! | E101: 1966 | F101: Nguyễn Tất | G101: Thắng | H101: 1966 | I101: =C101&" "&H101 -> Nguyễn Tất Thắng 1966 | J101: =VLOOKUP(I101,'DANHSACHKSK 2019MSBHYT'!#REF!,2,0) -> #REF! | K101: 99 | L101: Phòng Công tác Chính trị - HSSV | M101: Phòng Công tác Chính trị - HSSV | N101: 52 | P101: 1966 | S101: x | U101: x | AA101: x | AB101: x | AC101: x | AH101: 1 | AI101: 1 | AJ101: 1 | AS101: 1
...

Sheet DANHSACHKSK 2019MSBHYT
A1: Cấp ngành quản lý : SỞ GIÁO DỤC VÀ ĐÀO TẠO TP. HỒ CHÍ MINH
A2: Tên đơn vị : TRƯỜNG CAO ĐẲNG KỸ THUẬT LÝ TỰ TRỌNG
A3: Địa chỉ : 390 HOÀNG VĂN THỤ_PHƯỜNG 4 _ QUẬN TÂN BÌNH
A4: Điện thoại = 8119874
A6: DANH SÁCH LAO ĐỘNG VÀ QUỸ TIỀN LƯƠNG TRÍCH NỘP BẢO HIỂM XÃ HỘI
A9: STT | B9: ISO | C9: Mã số thẻBHYT | D9: HỌ VÀ TÊN | E9: NĂM SINH | G9: Nữ | H9: mã phòng ban | I9: Khám tổng quát | J9: Pap's mear | K9: X-Quang | L9: X-Quang CSTL | M9: Siêu âm Tuyến giáp | N9: Siêu âm nhũ | O9: Siêu âm tổng quát | P9: Điện tim | Q9: Huyết đồ | R9: TPTNT | S9: Glucose | T9: TPTNT | U9: ABO | V9: T3,T4, TSH | W9: Ure+ Cre | X9: Acid Uric | Y9: SGOT-SGPT | Z9: GGT | AA9: Bộ mỡ 4 thông số | AB9: HBA1C | AC9: HP-TEST | AD9: HBsAg | AE9: Anti HBs | AF9: HCV | AG9: Anti HCV | AH9: PSA | AI9: AFP | AJ9: CEA(Tq,Vú ,Ctc) | AK9: CA125(Buồng trứng ) | AL9: CA 15.3(vú) | AM9: CA.72.4 (dạ dày) | AN9: CYFRA 21.1(phổi ,bàng quang ) | AO9: CA 19.9(tiêu hóa)
F10: sinh | I10: 70000 | J10: 60000 | K10: 60000 | L10: 40000 | M10: 60000 | N10: 60000 | O10: 60000 | P10: Miễn phí | Q10: 50000 | R10: 45000 | S10: 40000 | T10: 45000 | U10: 80000 | W10: 50000 | X10: 40000 | Y10: 1 | Z10: 50000 | AA10: 100000 | AB10: 110000 | AC10: 150000 | AD10: 80000 | AE10: 150000 | AF10: 110000 | AG10: 100000 | AH10: 60000 | AI10: 90000 | AJ10: 140000 | AK10: 190000 | AL10: 190000 | AM10: 190000 | AN10: 170000 | AO10: 190000
A11: 1 | C11: 4 | F11: 5 | G11: 6
A12: 01 | C12: 029 624 1580 | D12: Đinh Hồng Minh | E12: 1969 | F12: 26/01/1969 | G12: x | H12: BAN GIÁM HIỆU
A13: 02 | B13: ME | C13: 029 624 1596 | D13: Nguyễn Văn Sơn | E13: 1965 | F13: 22/12/1965 | H13: Khoa Cơ Khí
A14: 03 | B14: SCD | C14: 029 624 1597 | D14: Hà Nhật Thanh | E14: 1962 | F14: 15/01/1962 | H14: Phòng Công tác Chính trị - HSSV
A15: 04 | B15: ME | C15: 029 624 1598 | D15: Võ Minh Quang | E15: 1963 | F15: 25/08/1963 | H15: Khoa Cơ Khí
A16: 05 | B16: IT | C16: 029 624 1602 | D16: Nguyễn Vân Giang | E16: 1967 | F16: 15/02/1967 | G16: x | H16: Khoa Công nghệ Thông tin
A17: 06 | B17: QA | C17: 029 624 1604 | D17: Võ Thị Anh Đào | E17: 1965 | F17: 29/07/1965 | G17: x | H17: Phòng Khảo thí - Đảm bảo chất lượng
A18: 07 | B18: ADM | C18: 029 624 1607 | D18: Nguyễn Văn Tấn | E18: 1962 | F18: 19/05/1962 | H18: Phòng Tuyển sinh - Đào tạo
A19: 08 | B19: INS | C19: 029 624 1609 | D19: Nguyễn Thanh Lâm | E19: 1960 | F19: 07/02/1960 | H19: Phòng Thanh tra - Pháp chế
A20: 09 | B20: BS | C20: 029 624 1613 | D20: Trần Kim Thu Liễu | E20: 1965 | F20: 04/01/1965 | G20: x | H20: Khoa - Khoa học cơ bản
A21: 10 | B21: ME | C21: 029 624 1620 | D21: Hà Phước Tuấn | E21: 1960 | F21: 01/11/1960 | H21: Khoa Cơ Khí
A22: 11 | B22: ME | C22: 029 624 1623 | D22: Phan Văn Thành | E22: 1964 | F22: 25/07/1964 | H22: Khoa Cơ Khí
A23: 12 | B23: INS | C23: 029 624 1626 | D23: Phạm Minh Nghĩa | E23: 1964 | F23: 09/08/1964 | H23: Phòng Thanh tra - Pháp chế
A24: 13 | B24: HV | C24: 029 624 1628 | D24: Võ Phước Quang | E24: 1959 | F24: 16/06/1959 | H24: Khoa Công Nghệ Nhiệt – Lạnh
A25: 14 | B25: EEE | C25: 029 624 1630 | D25: Nguyễn Minh Đức | E25: 1960 | F25: 19/02/1960 | H25: Khoa Công nghệ Điện - Điện tử
A26: 15 | B26: STM | C26: 029 624 1660 | D26: Nguyễn Ngọc Trang | E26: 1966 | F26: 24169 | G26: x | H26: Phòng Quản lý khoa học - Hợp tác quốc tế
A27: 16 | B27: EEE | C27: 029 624 1664 | D27: Trần Công Tiến | E27: 1972 | F27: 10/08/1972 | H27: Khoa Công nghệ Điện - Điện tử
A28: 17 | B28: EEE | C28: 029 624 1665 | D28: Huỳnh Ngọc Mai | E28: 1972 | F28: 09/04/1972 | H28: Khoa Công nghệ Điện - Điện tử
A29: 18 | B29: HR | C29: 029 624 1666 | D29: Lê Hùng Thanh | E29: 1960 | F29: 22/05/1960 | H29: Phòng Tổ chức - Hành chính - Tổng hợp
A30: 19 | B30: HR | C30: 029 624 1667 | D30: Trần Văn Cu Anh | E30: 1964 | F30: 30/12/1964 | H30: Phòng Tổ chức - Hành chính - Tổng hợp
A31: 20 | B31: SCD | C31: 029 624 1668 | D31: Trần Văn Lý | E31: 1965 | F31: 10/04/1965 | H31: Phòng Công tác Chính trị - HSSV
A32: 21 | B32: PR | C32: 029 624 1669 | D32: Đặng Thị Nhật Minh | E32: 1967 | F32: 28/09/1967 | G32: x | H32: Khoa - Lý luận chính trị
A33: 22 | B33: EEE | C33: 029 624 1670 | D33: Nguyễn Hồng Đức | E33: 1971 | F33: 21/02/1971 | H33: Khoa Công nghệ Điện - Điện tử
A34: 23 | B34: MA | C34: 029 624 1671 | D34: Nguyễn Văn Thành | E34: 1974 | F34: 30/12/1974 | H34: Phòng Quản trị - Dịch vụ
A35: 24 | B35: SF | C35: 029 802 2616 | D35: Trương Việt Khánh Trang | E35: 1970 | F35: 31/10/1970 | G35: x | H35: Khoa Công nghệ May - Thời trang
A36: 25 | B36: ME | C36: 029 802 2617 | D36: Nguyễn Thanh Vĩnh Phúc | E36: 1972 | F36: 29/03/1972 | H36: Khoa Cơ Khí
A37: 26 | B37: BS | C37: 029 802 2618 | D37: Cao Thị Nga | E37: 1969 | F37: 01/01/1969 | G37: x | H37: Khoa - Khoa học cơ bản
A38: 27 | B38: HR | C38: 029 602 6850 | D38: Nguyễn Thị Hoa | E38: 1965 | F38: 30/10/1965 | G38: x | H38: Phòng Tổ chức - Hành chính - Tổng hợp
A39: 28 | B39: ME | C39: 029 811 8090 | D39: Đỗ Thị Phương Khanh | E39: 1975 | F39: 22/04/1975 | G39: x | H39: Khoa Cơ Khí
A40: 29 | B40: ME | C40: 029 811 8091 | D40: Trương Thị Phương Hồng | E40: 1975 | F40: 25/08/1975 | G40: x | H40: Khoa Cơ Khí
A41: 30 | B41: ME | C41: 029 811 8092 | D41: Vũ Quang Khải | E41: 1971 | F41: 25/11/1971 | H41: Khoa Cơ Khí
A42: 31 | B42: EEE | C42: 029 811 8093 | D42: Nguyễn Minh Đức | E42: 1966 | F42: 03/12/1966 | H42: Khoa Công nghệ Điện - Điện tử
A43: 32 | B43: HR | C43: 029 811 8094 | D43: Lê Xuân Thiện | E43: 1965 | F43: 01/06/1965 | H43: Phòng Tổ chức - Hành chính - Tổng hợp
A44: 33 | B44: LIB | C44: 029 704 8194 | D44: Nguyễn Tứ Cảnh | E44: 1964 | F44: 25/04/1964 | H44: Trung tâm Truyền thông - Thư viện
A45: 34 | B45: SCD | C45: 029 811 8102 | D45: Nguyễn Ngọc Hiệp | E45: 1973 | F45: 01/01/1973 | H45: Phòng Công tác Chính trị - HSSV
A46: 35 | B46: ADM | C46: 029 811 8103 | D46: Hồ Văn Sĩ | E46: 1975 | F46: 03/09/1975 | H46: Phòng Tuyển sinh - Đào tạo
A47: 36 | B47: EEE | C47: 029 911 8225 | D47: Nguyễn Văn Yên | E47: 1973 | F47: 25/06/1973 | H47: Khoa Công nghệ Điện - Điện tử
A48: 37 | B48: BS | C48: 029 811 5739 | D48: Nguyễn Thanh Tú | E48: 1976 | F48: 18/09/1976 | H48: Khoa - Khoa học cơ bản
A49: 38 | B49: BS | C49: 020 013 4238 | D49: Nguyễn Thị Cẩm Thạch | E49: 1970 | F49: 31/10/1970 | G49: x | H49: Khoa - Khoa học cơ bản
A50: 39 | B50: SCD | C50: 020 013 4239 | D50: Phan Đức Long | E50: 1974 | F50: 17/07/1974 | H50: Phòng Công tác Chính trị - HSSV
A51: 40 | B51: SHE | C51: 020 108 1939 | D51: Trang Thị Xuân Uyên | E51: 1970 | F51: 10/03/1970 | G51: x | H51: Trung tâm Y tế
A52: 41 | B52: BS | C52: 029 601 1832 | D52: Nguyễn Đức Thắng | E52: 1965 | F52: 02/09/1965 | H52: Khoa - Khoa học cơ bản
A53: 42 | B53: IT | C53: 020 115 5202 | D53: Nguyễn Khoa | E53: 1963 | F53: 03/09/1963 | H53: Khoa Công nghệ Thông tin
A54: 43 | B54: EEE | C54: 020 115 5205 | D54: Ngô Hoàng Anh | E54: 1976 | F54: 20/10/1976 | H54: Khoa Công nghệ Điện - Điện tử
A55: 44 | B55: ME | C55: 020 115 5208 | D55: Nguyễn Tam Cương | E55: 1963 | F55: 13/02/1963 | H55: Khoa Cơ Khí
A56: 45 | B56: HV | C56: 020 115 5206 | D56: Đặng Thế Huân | E56: 1969 | F56: 23/09/1969 | H56: Khoa Công Nghệ Nhiệt – Lạnh
A57: 46 | B57: BS | C57: 020 115 5199 | D57: Vương Thanh Thủy | E57: 1972 | F57: 03/12/1972 | G57: x | H57: Khoa - Khoa học cơ bản
A58: 47 | B58: BS | C58: 020 115 5195 | D58: Phạm Thị Thu Nga | E58: 1976 | F58: 02/11/1976 | G58: x | H58: Khoa - Khoa học cơ bản
A59: 48 | B59: ADM | C59: 020 115 5198 | D59: Nguyễn Thị Nhuận | E59: 1979 | F59: 08/02/1979 | G59: x | H59: Phòng Tuyển sinh - Đào tạo
A60: 49 | B60: BS | C60: 020 115 5197 | D60: Nguyễn Văn Đông | E60: 1966 | F60: 21/05/1966 | H60: Khoa - Khoa học cơ bản
A61: 50 | B61: EEE | C61: 020 115 5204 | D61: Nguyễn Anh Tăng | E61: 1967 | F61: 31/08/1967 | H61: Khoa Công nghệ Điện - Điện tử
A62: 51 | B62: BS | C62: 020 115 5200 | D62: Nguyễn Thị Bảo Trân | E62: 1978 | F62: 09/12/1978 | G62: x | H62: Khoa - Khoa học cơ bản
A63: 52 | B63: PR | C63: 020 115 5201 | D63: Nguyễn Thị Dinh | E63: 1976 | F63: 01/01/1976 | G63: x | H63: Khoa - Lý luận chính trị
A64: 53 | B64: MA | C64: 020 115 5159 | D64: Tạ Quốc Tấn | E64: 1971 | F64: 03/03/1971 | H64: Phòng Quản trị - Dịch vụ
A65: 54 | B65: MA | C65: 020 115 5165 | D65: Nguyễn Trọng Phú | E65: 1976 | F65: 17/03/1976 | H65: Phòng Quản trị - Dịch vụ
A66: 55 | B66: MA | C66: 020 115 5170 | D66: Thi Thị Phím | E66: 1964 | F66: 12/04/1964 | G66: x | H66: Phòng Quản trị - Dịch vụ
A67: 56 | B67: MA | C67: 020 115 5171 | D67: Trang Thị Minh | E67: 1964 | F67: 19/04/1964 | G67: x | H67: Phòng Quản trị - Dịch vụ
A68: 57 | B68: MA | C68: 020 115 5173 | D68: Huỳnh Thị Thu Hương | E68: 1964 | F68: 01/03/1964 | G68: x | H68: Phòng Quản trị - Dịch vụ
A69: 58 | B69: SCD | C69: 020 115 5177 | D69: Nguyễn Tất Thắng | E69: 1966 | F69: 27/07/1966 | H69: Phòng Công tác Chính trị - HSSV
A70: 59 | B70: FIN | C70: 020 115 5184 | D70: Đỗ Thị Ngọc | E70: 1965 | F70: 10/10/1965 | G70: x | H70: Phòng Kế hoạch - Tài chính
A71: 60 | B71: MA | C71: 020 115 5187 | D71: Nguyễn Thị Thu Trang | E71: 1967 | F71: 06/05/1967 | G71: x | H71: Phòng Quản trị - Dịch vụ
A72: 61 | B72: MA | C72: 020 115 5188 | D72: Trần Thị Kim Loan | E72: 1965 | F72: 19/10/1965 | G72: x | H72: Phòng Quản trị - Dịch vụ
A73: 62 | C73: 020 115 5190 | D73: Đỗ Thị Tâm | E73: 1977 | F73: 01/08/1977 | G73: x | H73: Trung tâm Đào tạo Lý Tự Trọng
A74: 63 | B74: INS | C74: 020 206 0512 | D74: Nguyễn Thị Ngọc Anh | E74: 1975 | F74: 29/09/1975 | G74: x | H74: Phòng Thanh tra - Pháp chế
A75: 64 | B75: EEE | C75: 020 103 6366 | D75: Tăng Cẩm Huê | E75: 1977 | F75: 07/11/1977 | G75: x | H75: Khoa Công nghệ Điện - Điện tử
A76: 65 | B76: HV | C76: 020 220 1603 | D76: Võ Anh Hào | E76: 1975 | F76: 27/08/1975 | H76: Khoa Công Nghệ Nhiệt – Lạnh
A77: 66 | B77: EEE | C77: 020 220 1604 | D77: Võ Cường | E77: 1966 | F77: 16/11/1966 | H77: Khoa Công nghệ Điện - Điện tử
A78: 67 | B78: EEE | C78: 020 220 1605 | D78: Nguyễn Trần Thanh Nhàn | E78: 1979 | F78: 15/07/1979 | G78: x | H78: Khoa Công nghệ Điện - Điện tử
A79: 68 | B79: AUTO | C79: 020 220 1607 | D79: Võ Đắc Thịnh | E79: 1979 | F79: 16/01/1979 | H79: Khoa - Khoa Công nghệ Động lực
A80: 69 | B80: SCD | C80: 020 011 2477 | D80: Lê Thị Nữ | E80: 1967 | F80: 18/08/1967 | G80: x | H80: Phòng Công tác Chính trị - HSSV
A81: 70 | B81: FIN | C81: 020 326 1999 | D81: Nguyễn Thị Thùy | E81: 1973 | F81: 04/08/1973 | G81: x | H81: Phòng Kế hoạch - Tài chính
A82: 71 | B82: FIN | C82: 020 310 0252 | D82: Nguyễn Thị Kim Dung | E82: 1979 | F82: 18/01/1979 | G82: x | H82: Phòng Kế hoạch - Tài chính
A83: 72 | B83: MA | C83: 020 310 0255 | D83: Trần Thị Thu | E83: 1971 | F83: 21/08/1971 | G83: x | H83: Phòng Quản trị - Dịch vụ
A84: 73 | B84: ADM | C84: 020 331 8110 | D84: Võ Thị Xuân Thơ | E84: 1981 | F84: 10/02/1981 | G84: x | H84: Phòng Tuyển sinh - Đào tạo
A85: 74 | B85: QA | C85: 020 331 8108 | D85: Nguyễn Chí Nhân | E85: 1978 | F85: 22/02/1978 | H85: Phòng Khảo thí - Đảm bảo chất lượng
A86: 75 | B86: EEE | C86: 539 600 9947 | D86: Tạ Minh Cường | E86: 1965 | F86: 01/07/1965 | H86: Khoa Công nghệ Điện - Điện tử
A87: 76 | B87: EEE | C87: 020 331 8109 | D87: Lê Thế Huân | E87: 1965 | F87: 23/08/1965 | H87: Khoa Công nghệ Điện - Điện tử
A88: 77 | B88: EEE | C88: 020 331 8103 | D88: Nguyễn Thị Tố Nga | E88: 1980 | F88: 02/01/1980 | G88: x | H88: Khoa Công nghệ Điện - Điện tử
A89: 78 | B89: EEE | C89: 020 331 8106 | D89: Lê Tiến Đạt | E89: 1976 | F89: 13/03/1976 | H89: Khoa Công nghệ Điện - Điện tử
A90: 79 | B90: EEE | C90: 020 331 8105 | D90: Đặng Đức Minh | E90: 1974 | F90: 10/06/1974 | H90: Khoa Công nghệ Điện - Điện tử
A91: 80 | B91: EEE | C91: 020 331 8104 | D91: Trần Hiếu Trinh | E91: 1977 | F91: 17/12/1977 | G91: x | H91: Khoa Công nghệ Điện - Điện tử
A92: 81 | B92: EEE | C92: 020 331 8107 | D92: Nguyễn Thị Ngọc Hiền | E92: 1978 | F92: 22/10/1978 | G92: x | H92: Khoa Công nghệ Điện - Điện tử
A93: 82 | C93: 020 333 3893 | D93: Lương Thị Thắm | E93: 1974 | F93: 15/02/1974 | G93: x | H93: Trung tâm Đào tạo Lý Tự Trọng
A94: 83 | B94: LIB | C94: 020 412 4407 | D94: Trần Thị Diễm Thúy | E94: 1974 | F94: 12/01/1974 | G94: x | H94: Trung tâm Truyền thông - Thư viện
A95: 84 | B95: ME | C95: 020 009 2902 | D95: Phan Thị Xuân Trang | E95: 1971 | F95: 01/03/1971 | G95: x | H95: Khoa Cơ Khí
A96: 85 | B96: IT | C96: 020 431 6585 | D96: Dương Ngọc Vọng | E96: 1975 | F96: 25/04/1975 | H96: Khoa Công nghệ Thông tin
A97: 86 | B97: ME | C97: 020 434 3040 | D97: Chung Trần Thế Vinh | E97: 1981 | F97: 25/06/1981 | H97: Khoa Cơ Khí
A98: 87 | B98: ME | C98: 020 434 3041 | D98: Vũ Đức Pháp | E98: 1978 | F98: 26/09/1978 | H98: Khoa Cơ Khí
A99: 88 | B99: ME | C99: 020 434 3042 | D99: Dương Minh Chung | E99: 1976 | F99: 24/12/1976 | H99: Khoa Cơ Khí
A100: 89 | B100: BS | C100: 020 219 2376 | D100: Ngô Thanh Điền | E100: 1979 | F100: 12/09/1979 | H100: Khoa - Khoa học cơ bản
A101: 90 | B101: SCD | C101: 020 507 0951 | D101: Bùi Thị Dương | E101: 1978 | F101: 10/08/1978 | G101: x | H101: Phòng Công tác Chính trị - HSSV
A102: 91 | B102: MA | C102: 020 508 7400 | D102: Đỗ Văn Trong | E102: 1982 | F102: 06/10/1982 | H102: Phòng Quản trị - Dịch vụ
A103: 92 | B103: HR | C103: 020 516 9970 | D103: Trần Thị Phương Oanh | E103: 1981 | F103: 21/05/1981 | G103: x | H103: Phòng Thiết bị - Vật tư
...

Sheet DANHSACHKSK 2019
A1: Cấp ngành quản lý : SỞ GIÁO DỤC VÀ ĐÀO TẠO TP. HỒ CHÍ MINH
A2: Tên đơn vị : TRƯỜNG CAO ĐẲNG KỸ THUẬT LÝ TỰ TRỌNG
A3: Địa chỉ : 390 HOÀNG VĂN THỤ_PHƯỜNG 4 _ QUẬN TÂN BÌNH
A4: Điện thoại = 8119874
A6: DANH SÁCH LAO ĐỘNG VÀ QUỸ TIỀN LƯƠNG TRÍCH NỘP BẢO HIỂM XÃ HỘI
E9: Mã số | H9: Mã số | K9: Mã số | L9: Ngày | M9: Nữ
A10: STT | B10: Họ và tên | E10: thẻ BHYT | H10: thẻ BHYT | K10: thẻ BHYT | L10: Tháng | M10: (X)
L11: năm
L12: sinh
A13: 1 | B13: 2 | E13: 4 | H13: 4 | K13: 4 | L13: 5 | M13: 6
A14: 01 | B14: Đinh Hồng | C14: Minh | D14: =B14&""&C14 -> Đinh Hồng Minh | E14: HC 4 79 029 624 1580 | F14: 1969 | G14: Đinh Hồng Minh | H14: HC 4 79 029 624 1580 | I14: 1969 | J14: =G14&" "&I14 -> Đinh Hồng Minh 1969 | K14: HC 4 79 029 624 1580 | L14: 26/01/1969 | M14: x
A15: 02 | B15: Nguyễn Văn | C15: Sơn | D15: =B15&""&C15 -> Nguyễn Văn Sơn | E15: 029 624 1596 | F15: 1965 | G15: Nguyễn Văn Sơn | H15: 029 624 1596 | I15: 1965 | J15: =G15&" "&I15 -> Nguyễn Văn Sơn 1965 | K15: 029 624 1596 | L15: 22/12/1965
A16: 03 | B16: Hà Nhật | C16: Thanh | D16: =B16&""&C16 -> Hà Nhật Thanh | E16: 029 624 1597 | F16: 1962 | G16: Hà Nhật Thanh | H16: 029 624 1597 | I16: 1962 | J16: =G16&" "&I16 -> Hà Nhật Thanh 1962 | K16: 029 624 1597 | L16: 15/01/1962
A17: 04 | B17: Võ Minh | C17: Quang | D17: =B17&""&C17 -> Võ Minh Quang | E17: 029 624 1598 | F17: 1963 | G17: Võ Minh Quang | H17: 029 624 1598 | I17: 1963 | J17: =G17&" "&I17 -> Võ Minh Quang 1963 | K17: 029 624 1598 | L17: 25/08/1963
A18: 05 | B18: Nguyễn Vân | C18: Giang | D18: =B18&""&C18 -> Nguyễn Vân Giang | E18: 029 624 1602 | F18: 1967 | G18: Nguyễn Vân Giang | H18: 029 624 1602 | I18: 1967 | J18: =G18&" "&I18 -> Nguyễn Vân Giang 1967 | K18: 029 624 1602 | L18: 15/02/1967 | M18: x
A19: 06 | B19: Võ Thị Anh | C19: Đào | D19: =B19&" "&C19 -> Võ Thị Anh Đào | E19: 029 624 1604 | F19: 1965 | G19: Võ Thị Anh Đào | H19: 029 624 1604 | I19: 1965 | J19: =G19&" "&I19 -> Võ Thị Anh Đào 1965 | K19: 029 624 1604 | L19: 29/07/1965 | M19: x
A20: 07 | B20: Nguyễn Văn | C20: Tấn | D20: =B20&" "&C20 -> Nguyễn Văn Tấn | E20: 029 624 1607 | F20: 1962 | G20: Nguyễn Văn Tấn | H20: 029 624 1607 | I20: 1962 | J20: =G20&" "&I20 -> Nguyễn Văn Tấn 1962 | K20: 029 624 1607 | L20: 19/05/1962
A21: 08 | B21: Nguyễn Thanh | C21: Lâm | D21: =B21&" "&C21 -> Nguyễn Thanh Lâm | E21: 029 624 1609 | F21: 1960 | G21: Nguyễn Thanh Lâm | H21: 029 624 1609 | I21: 1960 | J21: =G21&" "&I21 -> Nguyễn Thanh Lâm 1960 | K21: 029 624 1609 | L21: 07/02/1960
A22: 09 | B22: Trần Kim Thu | C22: Liễu | D22: =B22&" "&C22 -> Trần Kim Thu Liễu | E22: 029 624 1613 | F22: 1965 | G22: Trần Kim Thu Liễu | H22: 029 624 1613 | I22: 1965 | J22: =G22&" "&I22 -> Trần Kim Thu Liễu 1965 | K22: 029 624 1613 | L22: 04/01/1965 | M22: x
A23: 10 | B23: Hà Phước | C23: Tuấn | D23: =B23&" "&C23 -> Hà Phước Tuấn | E23: 029 624 1620 | F23: 1960 | G23: Hà Phước Tuấn | H23: 029 624 1620 | I23: 1960 | J23: =G23&" "&I23 -> Hà Phước Tuấn 1960 | K23: 029 624 1620 | L23: 01/11/1960
A24: 11 | B24: Phan Văn | C24: Thành | D24: =B24&" "&C24 -> Phan Văn Thành | E24: 029 624 1623 | F24: 1964 | G24: Phan Văn Thành | H24: 029 624 1623 | I24: 1964 | J24: =G24&" "&I24 -> Phan Văn Thành 1964 | K24: 029 624 1623 | L24: 25/07/1964
A25: 12 | B25: Phạm Minh | C25: Nghĩa | D25: =B25&" "&C25 -> Phạm Minh Nghĩa | E25: 029 624 1626 | F25: 1964 | G25: Phạm Minh Nghĩa | H25: 029 624 1626 | I25: 1964 | J25: =G25&" "&I25 -> Phạm Minh Nghĩa 1964 | K25: 029 624 1626 | L25: 09/08/1964
A26: 13 | B26: Võ Phước | C26: Quang | D26: =B26&" "&C26 -> Võ Phước Quang | E26: 029 624 1628 | F26: 1959 | G26: Võ Phước Quang | H26: 029 624 1628 | I26: 1959 | J26: =G26&" "&I26 -> Võ Phước Quang 1959 | K26: 029 624 1628 | L26: 16/06/1959
A27: 14 | B27: Nguyễn Minh | C27: Đức | D27: =B27&" "&C27 -> Nguyễn Minh Đức | E27: 029 624 1630 | F27: 1960 | G27: Nguyễn Minh Đức | H27: 029 624 1630 | I27: 1960 | J27: =G27&" "&I27 -> Nguyễn Minh Đức 1960 | K27: 029 624 1630 | L27: 19/02/1960
A28: 15 | B28: Nguyễn Ngọc | C28: Trang | D28: =B28&" "&C28 -> Nguyễn Ngọc Trang | E28: 029 624 1660 | F28: 1966 | G28: Nguyễn Ngọc Trang | H28: 029 624 1660 | I28: 1966 | J28: =G28&" "&I28 -> Nguyễn Ngọc Trang 1966 | K28: 029 624 1660 | L28: 24169 | M28: x
A29: 16 | B29: Trần Công | C29: Tiến | D29: =B29&" "&C29 -> Trần Công Tiến | E29: 029 624 1664 | F29: 1972 | G29: Trần Công Tiến | H29: 029 624 1664 | I29: 1972 | J29: =G29&" "&I29 -> Trần Công Tiến 1972 | K29: 029 624 1664 | L29: 10/08/1972
A30: 17 | B30: Huỳnh Ngọc | C30: Mai | D30: =B30&" "&C30 -> Huỳnh Ngọc Mai | E30: 029 624 1665 | F30: 1972 | G30: Huỳnh Ngọc Mai | H30: 029 624 1665 | I30: 1972 | J30: =G30&" "&I30 -> Huỳnh Ngọc Mai 1972 | K30: 029 624 1665 | L30: 09/04/1972
A31: 18 | B31: Lê Hùng | C31: Thanh | D31: =B31&" "&C31 -> Lê Hùng Thanh | E31: 029 624 1666 | F31: 1960 | G31: Lê Hùng Thanh | H31: 029 624 1666 | I31: 1960 | J31: =G31&" "&I31 -> Lê Hùng Thanh 1960 | K31: 029 624 1666 | L31: 22/05/1960
A32: 19 | B32: Trần Văn Cu | C32: Anh | D32: =B32&" "&C32 -> Trần Văn Cu Anh | E32: 029 624 1667 | F32: 1964 | G32: Trần Văn Cu Anh | H32: 029 624 1667 | I32: 1964 | J32: =G32&" "&I32 -> Trần Văn Cu Anh 1964 | K32: 029 624 1667 | L32: 30/12/1964
A33: 20 | B33: Trần Văn | C33: Lý | D33: =B33&" "&C33 -> Trần Văn Lý | E33: 029 624 1668 | F33: 1965 | G33: Trần Văn Lý | H33: 029 624 1668 | I33: 1965 | J33: =G33&" "&I33 -> Trần Văn Lý 1965 | K33: 029 624 1668 | L33: 10/04/1965
A34: 21 | B34: Đặng Thị Nhật | C34: Minh | D34: =B34&" "&C34 -> Đặng Thị Nhật Minh | E34: 029 624 1669 | F34: 1967 | G34: Đặng Thị Nhật Minh | H34: 029 624 1669 | I34: 1967 | J34: =G34&" "&I34 -> Đặng Thị Nhật Minh 1967 | K34: 029 624 1669 | L34: 28/09/1967 | M34: x
A35: 22 | B35: Nguyễn Hồng | C35: Đức | D35: =B35&" "&C35 -> Nguyễn Hồng Đức | E35: 029 624 1670 | F35: 1971 | G35: Nguyễn Hồng Đức | H35: 029 624 1670 | I35: 1971 | J35: =G35&" "&I35 -> Nguyễn Hồng Đức 1971 | K35: 029 624 1670 | L35: 21/02/1971
A36: 23 | B36: Nguyễn Văn | C36: Thành | D36: =B36&" "&C36 -> Nguyễn Văn Thành | E36: 029 624 1671 | F36: 1974 | G36: Nguyễn Văn Thành | H36: 029 624 1671 | I36: 1974 | J36: =G36&" "&I36 -> Nguyễn Văn Thành 1974 | K36: 029 624 1671 | L36: 30/12/1974
A37: 24 | B37: Trương Việt Khánh | C37: Trang | D37: =B37&" "&C37 -> Trương Việt Khánh Trang | E37: 029 802 2616 | F37: 1970 | G37: Trương Việt Khánh Trang | H37: 029 802 2616 | I37: 1970 | J37: =G37&" "&I37 -> Trương Việt Khánh Trang 1970 | K37: 029 802 2616 | L37: 31/10/1970 | M37: x
A38: 25 | B38: Nguyễn Thanh Vĩnh | C38: Phúc | D38: =B38&" "&C38 -> Nguyễn Thanh Vĩnh Phúc | E38: 029 802 2617 | F38: 1972 | G38: Nguyễn Thanh Vĩnh Phúc | H38: 029 802 2617 | I38: 1972 | J38: =G38&" "&I38 -> Nguyễn Thanh Vĩnh Phúc 1972 | K38: 029 802 2617 | L38: 29/03/1972
A39: 26 | B39: Cao Thị | C39: Nga | D39: =B39&" "&C39 -> Cao Thị Nga | E39: 029 802 2618 | F39: 1969 | G39: Cao Thị Nga | H39: 029 802 2618 | I39: 1969 | J39: =G39&" "&I39 -> Cao Thị Nga 1969 | K39: 029 802 2618 | L39: 01/01/1969 | M39: x
A40: 27 | B40: Nguyễn Thị | C40: Hoa | D40: =B40&" "&C40 -> Nguyễn Thị Hoa | E40: 029 602 6850 | F40: 1965 | G40: Nguyễn Thị Hoa | H40: 029 602 6850 | I40: 1965 | J40: =G40&" "&I40 -> Nguyễn Thị Hoa 1965 | K40: 029 602 6850 | L40: 30/10/1965 | M40: x
A41: 28 | B41: Đỗ Thị Phương | C41: Khanh | D41: =B41&" "&C41 -> Đỗ Thị Phương Khanh | E41: 029 811 8090 | F41: 1975 | G41: Đỗ Thị Phương Khanh | H41: 029 811 8090 | I41: 1975 | J41: =G41&" "&I41 -> Đỗ Thị Phương Khanh 1975 | K41: 029 811 8090 | L41: 22/04/1975 | M41: x
A42: 29 | B42: Trương Thị Phương | C42: Hồng | D42: =B42&" "&C42 -> Trương Thị Phương Hồng | E42: 029 811 8091 | F42: 1975 | G42: Trương Thị Phương Hồng | H42: 029 811 8091 | I42: 1975 | J42: =G42&" "&I42 -> Trương Thị Phương Hồng 1975 | K42: 029 811 8091 | L42: 25/08/1975 | M42: x
A43: 30 | B43: Vũ Quang | C43: Khải | D43: =B43&" "&C43 -> Vũ Quang Khải | E43: 029 811 8092 | F43: 1971 | G43: Vũ Quang Khải | H43: 029 811 8092 | I43: 1971 | J43: =G43&" "&I43 -> Vũ Quang Khải 1971 | K43: 029 811 8092 | L43: 25/11/1971
A44: 31 | B44: Nguyễn Minh | C44: Đức | D44: =B44&" "&C44 -> Nguyễn Minh Đức | E44: 029 811 8093 | F44: 1966 | G44: Nguyễn Minh Đức | H44: 029 811 8093 | I44: 1966 | J44: =G44&" "&I44 -> Nguyễn Minh Đức 1966 | K44: 029 811 8093 | L44: 03/12/1966
A45: 32 | B45: Lê Xuân | C45: Thiện | D45: =B45&" "&C45 -> Lê Xuân Thiện | E45: 029 811 8094 | F45: 1965 | G45: Lê Xuân Thiện | H45: 029 811 8094 | I45: 1965 | J45: =G45&" "&I45 -> Lê Xuân Thiện 1965 | K45: 029 811 8094 | L45: 01/06/1965
A46: 33 | B46: Nguyễn Tứ | C46: Cảnh | D46: =B46&" "&C46 -> Nguyễn Tứ Cảnh | E46: 029 704 8194 | F46: 1964 | G46: Nguyễn Tứ Cảnh | H46: 029 704 8194 | I46: 1964 | J46: =G46&" "&I46 -> Nguyễn Tứ Cảnh 1964 | K46: 029 704 8194 | L46: 25/04/1964
A47: 34 | B47: Nguyễn Ngọc | C47: Hiệp | D47: =B47&" "&C47 -> Nguyễn Ngọc Hiệp | E47: 029 811 8102 | F47: 1973 | G47: Nguyễn Ngọc Hiệp | H47: 029 811 8102 | I47: 1973 | J47: =G47&" "&I47 -> Nguyễn Ngọc Hiệp 1973 | K47: 029 811 8102 | L47: 01/01/1973
A48: 35 | B48: Hồ Văn | C48: Sĩ | D48: =B48&" "&C48 -> Hồ Văn Sĩ | E48: 029 811 8103 | F48: 1975 | G48: Hồ Văn Sĩ | H48: 029 811 8103 | I48: 1975 | J48: =G48&" "&I48 -> Hồ Văn Sĩ 1975 | K48: 029 811 8103 | L48: 03/09/1975
A49: 36 | B49: Nguyễn Văn | C49: Yên | D49: =B49&" "&C49 -> Nguyễn Văn Yên | E49: 029 911 8225 | F49: 1973 | G49: Nguyễn Văn Yên | H49: 029 911 8225 | I49: 1973 | J49: =G49&" "&I49 -> Nguyễn Văn Yên 1973 | K49: 029 911 8225 | L49: 25/06/1973
A50: 37 | B50: Nguyễn Thanh | C50: Tú | D50: =B50&" "&C50 -> Nguyễn Thanh Tú | E50: 029 811 5739 | F50: 1976 | G50: Nguyễn Thanh Tú | H50: 029 811 5739 | I50: 1976 | J50: =G50&" "&I50 -> Nguyễn Thanh Tú 1976 | K50: 029 811 5739 | L50: 18/09/1976
A51: 38 | B51: Nguyễn Thị Cẩm | C51: Thạch | D51: =B51&" "&C51 -> Nguyễn Thị Cẩm Thạch | E51: 020 013 4238 | F51: 1970 | G51: Nguyễn Thị Cẩm Thạch | H51: 020 013 4238 | I51: 1970 | J51: =G51&" "&I51 -> Nguyễn Thị Cẩm Thạch 1970 | K51: 020 013 4238 | L51: 31/10/1970 | M51: x
A52: 39 | B52: Phan Đức | C52: Long | D52: =B52&" "&C52 -> Phan Đức Long | E52: 020 013 4239 | F52: 1974 | G52: Phan Đức Long | H52: 020 013 4239 | I52: 1974 | J52: =G52&" "&I52 -> Phan Đức Long 1974 | K52: 020 013 4239 | L52: 17/07/1974
A53: 40 | B53: Trang Thị Xuân | C53: Uyên | D53: =B53&" "&C53 -> Trang Thị Xuân Uyên | E53: 020 108 1939 | F53: 1970 | G53: Trang Thị Xuân Uyên | H53: 020 108 1939 | I53: 1970 | J53: =G53&" "&I53 -> Trang Thị Xuân Uyên 1970 | K53: 020 108 1939 | L53: 10/03/1970 | M53: x
A54: 41 | B54: Nguyễn Đức | C54: Thắng | D54: =B54&" "&C54 -> Nguyễn Đức Thắng | E54: 029 601 1832 | F54: 1965 | G54: Nguyễn Đức Thắng | H54: 029 601 1832 | I54: 1965 | J54: =G54&" "&I54 -> Nguyễn Đức Thắng 1965 | K54: 029 601 1832 | L54: 02/09/1965
A55: 42 | B55: Nguyễn | C55: Khoa | D55: =B55&" "&C55 -> Nguyễn Khoa | E55: 020 115 5202 | F55: 1963 | G55: Nguyễn Khoa | H55: 020 115 5202 | I55: 1963 | J55: =G55&" "&I55 -> Nguyễn Khoa 1963 | K55: 020 115 5202 | L55: 03/09/1963
A56: 43 | B56: Ngô Hoàng | C56: Anh | D56: =B56&" "&C56 -> Ngô Hoàng Anh | E56: 020 115 5205 | F56: 1976 | G56: Ngô Hoàng Anh | H56: 020 115 5205 | I56: 1976 | J56: =G56&" "&I56 -> Ngô Hoàng Anh 1976 | K56: 020 115 5205 | L56: 20/10/1976
A57: 44 | B57: Nguyễn Tam | C57: Cương | D57: =B57&" "&C57 -> Nguyễn Tam Cương | E57: 020 115 5208 | F57: 1963 | G57: Nguyễn Tam Cương | H57: 020 115 5208 | I57: 1963 | J57: =G57&" "&I57 -> Nguyễn Tam Cương 1963 | K57: 020 115 5208 | L57: 13/02/1963
A58: 45 | B58: Đặng Thế | C58: Huân | D58: =B58&" "&C58 -> Đặng Thế Huân | E58: 020 115 5206 | F58: 1969 | G58: Đặng Thế Huân | H58: 020 115 5206 | I58: 1969 | J58: =G58&" "&I58 -> Đặng Thế Huân 1969 | K58: 020 115 5206 | L58: 23/09/1969
A59: 46 | B59: Vương Thanh | C59: Thủy | D59: =B59&" "&C59 -> Vương Thanh Thủy | E59: 020 115 5199 | F59: 1972 | G59: Vương Thanh Thủy | H59: 020 115 5199 | I59: 1972 | J59: =G59&" "&I59 -> Vương Thanh Thủy 1972 | K59: 020 115 5199 | L59: 03/12/1972 | M59: x
A60: 47 | B60: Phạm Thị Thu | C60: Nga | D60: =B60&" "&C60 -> Phạm Thị Thu Nga | E60: 020 115 5195 | F60: 1976 | G60: Phạm Thị Thu Nga | H60: 020 115 5195 | I60: 1976 | J60: =G60&" "&I60 -> Phạm Thị Thu Nga 1976 | K60: 020 115 5195 | L60: 02/11/1976 | M60: x
A61: 48 | B61: Nguyễn Thị | C61: Nhuận | D61: =B61&" "&C61 -> Nguyễn Thị Nhuận | E61: 020 115 5198 | F61: 1979 | G61: Nguyễn Thị Nhuận | H61: 020 115 5198 | I61: 1979 | J61: =G61&" "&I61 -> Nguyễn Thị Nhuận 1979 | K61: 020 115 5198 | L61: 08/02/1979 | M61: x
A62: 49 | B62: Nguyễn Văn | C62: Đông | D62: =B62&" "&C62 -> Nguyễn Văn Đông | E62: 020 115 5197 | F62: 1966 | G62: Nguyễn Văn Đông | H62: 020 115 5197 | I62: 1966 | J62: =G62&" "&I62 -> Nguyễn Văn Đông 1966 | K62: 020 115 5197 | L62: 21/05/1966
A63: 50 | B63: Nguyễn Anh | C63: Tăng | D63: =B63&" "&C63 -> Nguyễn Anh Tăng | E63: 020 115 5204 | F63: 1967 | G63: Nguyễn Anh Tăng | H63: 020 115 5204 | I63: 1967 | J63: =G63&" "&I63 -> Nguyễn Anh Tăng 1967 | K63: 020 115 5204 | L63: 31/08/1967
A64: 51 | B64: Nguyễn Thị Bảo | C64: Trân | D64: =B64&" "&C64 -> Nguyễn Thị Bảo Trân | E64: 020 115 5200 | F64: 1978 | G64: Nguyễn Thị Bảo Trân | H64: 020 115 5200 | I64: 1978 | J64: =G64&" "&I64 -> Nguyễn Thị Bảo Trân 1978 | K64: 020 115 5200 | L64: 09/12/1978 | M64: x
A65: 52 | B65: Nguyễn Thị | C65: Dinh | D65: =B65&" "&C65 -> Nguyễn Thị Dinh | E65: 020 115 5201 | F65: 1976 | G65: Nguyễn Thị Dinh | H65: 020 115 5201 | I65: 1976 | J65: =G65&" "&I65 -> Nguyễn Thị Dinh 1976 | K65: 020 115 5201 | L65: 01/01/1976 | M65: x
A66: 53 | B66: Tạ Quốc | C66: Tấn | D66: =B66&" "&C66 -> Tạ Quốc Tấn | E66: 020 115 5159 | F66: 1971 | G66: Tạ Quốc Tấn | H66: 020 115 5159 | I66: 1971 | J66: =G66&" "&I66 -> Tạ Quốc Tấn 1971 | K66: 020 115 5159 | L66: 03/03/1971
A67: 54 | B67: Nguyễn Trọng | C67: Phú | D67: =B67&" "&C67 -> Nguyễn Trọng Phú | E67: 020 115 5165 | F67: 1976 | G67: Nguyễn Trọng Phú | H67: 020 115 5165 | I67: 1976 | J67: =G67&" "&I67 -> Nguyễn Trọng Phú 1976 | K67: 020 115 5165 | L67: 17/03/1976
A68: 55 | B68: Thi Thị | C68: Phím | D68: =B68&" "&C68 -> Thi Thị Phím | E68: 020 115 5170 | F68: 1964 | G68: Thi Thị Phím | H68: 020 115 5170 | I68: 1964 | J68: =G68&" "&I68 -> Thi Thị Phím 1964 | K68: 020 115 5170 | L68: 12/04/1964 | M68: x
A69: 56 | B69: Trang Thị | C69: Minh | D69: =B69&" "&C69 -> Trang Thị Minh | E69: 020 115 5171 | F69: 1964 | G69: Trang Thị Minh | H69: 020 115 5171 | I69: 1964 | J69: =G69&" "&I69 -> Trang Thị Minh 1964 | K69: 020 115 5171 | L69: 19/04/1964 | M69: x
A70: 57 | B70: Huỳnh Thị Thu | C70: Hương | D70: =B70&" "&C70 -> Huỳnh Thị Thu Hương | E70: 020 115 5173 | F70: 1964 | G70: Huỳnh Thị Thu Hương | H70: 020 115 5173 | I70: 1964 | J70: =G70&" "&I70 -> Huỳnh Thị Thu Hương 1964 | K70: 020 115 5173 | L70: 01/03/1964 | M70: x
A71: 58 | B71: Nguyễn Tất | C71: Thắng | D71: =B71&" "&C71 -> Nguyễn Tất Thắng | E71: 020 115 5177 | F71: 1966 | G71: Nguyễn Tất Thắng | H71: 020 115 5177 | I71: 1966 | J71: =G71&" "&I71 -> Nguyễn Tất Thắng 1966 | K71: 020 115 5177 | L71: 27/07/1966
A72: 59 | B72: Đỗ Thị | C72: Ngọc | D72: =B72&" "&C72 -> Đỗ Thị Ngọc | E72: 020 115 5184 | F72: 1965 | G72: Đỗ Thị Ngọc | H72: 020 115 5184 | I72: 1965 | J72: =G72&" "&I72 -> Đỗ Thị Ngọc 1965 | K72: 020 115 5184 | L72: 10/10/1965 | M72: x
A73: 60 | B73: Nguyễn Thị Thu | C73: Trang | D73: =B73&" "&C73 -> Nguyễn Thị Thu Trang | E73: 020 115 5187 | F73: 1967 | G73: Nguyễn Thị Thu Trang | H73: 020 115 5187 | I73: 1967 | J73: =G73&" "&I73 -> Nguyễn Thị Thu Trang 1967 | K73: 020 115 5187 | L73: 06/05/1967 | M73: x
A74: 61 | B74: Trần Thị Kim | C74: Loan | D74: =B74&" "&C74 -> Trần Thị Kim Loan | E74: 020 115 5188 | F74: 1965 | G74: Trần Thị Kim Loan | H74: 020 115 5188 | I74: 1965 | J74: =G74&" "&I74 -> Trần Thị Kim Loan 1965 | K74: 020 115 5188 | L74: 19/10/1965 | M74: x
A75: 62 | B75: Đỗ Thị | C75: Tâm | D75: =B75&" "&C75 -> Đỗ Thị Tâm | E75: 020 115 5190 | F75: 1977 | G75: Đỗ Thị Tâm | H75: 020 115 5190 | I75: 1977 | J75: =G75&" "&I75 -> Đỗ Thị Tâm 1977 | K75: 020 115 5190 | L75: 01/08/1977 | M75: x
A76: 63 | B76: Nguyễn Thị Ngọc | C76: Anh | D76: =B76&" "&C76 -> Nguyễn Thị Ngọc Anh | E76: 020 206 0512 | F76: 1975 | G76: Nguyễn Thị Ngọc Anh | H76: 020 206 0512 | I76: 1975 | J76: =G76&" "&I76 -> Nguyễn Thị Ngọc Anh 1975 | K76: 020 206 0512 | L76: 29/09/1975 | M76: x
A77: 64 | B77: Tăng Cẩm | C77: Huê | D77: =B77&" "&C77 -> Tăng Cẩm Huê | E77: 020 103 6366 | F77: 1977 | G77: Tăng Cẩm Huê | H77: 020 103 6366 | I77: 1977 | J77: =G77&" "&I77 -> Tăng Cẩm Huê 1977 | K77: 020 103 6366 | L77: 07/11/1977 | M77: x
A78: 65 | B78: Võ Anh | C78: Hào | D78: =B78&" "&C78 -> Võ Anh Hào | E78: 020 220 1603 | F78: 1975 | G78: Võ Anh Hào | H78: 020 220 1603 | I78: 1975 | J78: =G78&" "&I78 -> Võ Anh Hào 1975 | K78: 020 220 1603 | L78: 27/08/1975
A79: 66 | B79: Võ | C79: Cường | D79: =B79&" "&C79 -> Võ Cường | E79: 020 220 1604 | F79: 1966 | G79: Võ Cường | H79: 020 220 1604 | I79: 1966 | J79: =G79&" "&I79 -> Võ Cường 1966 | K79: 020 220 1604 | L79: 16/11/1966
A80: 67 | B80: Nguyễn Trần Thanh | C80: Nhàn | D80: =B80&" "&C80 -> Nguyễn Trần Thanh Nhàn | E80: 020 220 1605 | F80: 1979 | G80: Nguyễn Trần Thanh Nhàn | H80: 020 220 1605 | I80: 1979 | J80: =G80&" "&I80 -> Nguyễn Trần Thanh Nhàn 1979 | K80: 020 220 1605 | L80: 15/07/1979 | M80: x
A81: 68 | B81: Võ Đắc | C81: Thịnh | D81: =B81&" "&C81 -> Võ Đắc Thịnh | E81: 020 220 1607 | F81: 1979 | G81: Võ Đắc Thịnh | H81: 020 220 1607 | I81: 1979 | J81: =G81&" "&I81 -> Võ Đắc Thịnh 1979 | K81: 020 220 1607 | L81: 16/01/1979
A82: 69 | B82: Lê Thị | C82: Nữ | D82: =B82&" "&C82 -> Lê Thị Nữ | E82: 020 011 2477 | F82: 1967 | G82: Lê Thị Nữ | H82: 020 011 2477 | I82: 1967 | J82: =G82&" "&I82 -> Lê Thị Nữ 1967 | K82: 020 011 2477 | L82: 18/08/1967 | M82: x
A83: 70 | B83: Nguyễn Thị | C83: Thùy | D83: =B83&" "&C83 -> Nguyễn Thị Thùy | E83: 020 326 1999 | F83: 1973 | G83: Nguyễn Thị Thùy | H83: 020 326 1999 | I83: 1973 | J83: =G83&" "&I83 -> Nguyễn Thị Thùy 1973 | K83: 020 326 1999 | L83: 04/08/1973 | M83: x
A84: 71 | B84: Nguyễn Thị Kim | C84: Dung | D84: =B84&" "&C84 -> Nguyễn Thị Kim Dung | E84: 020 310 0252 | F84: 1979 | G84: Nguyễn Thị Kim Dung | H84: 020 310 0252 | I84: 1979 | J84: =G84&" "&I84 -> Nguyễn Thị Kim Dung 1979 | K84: 020 310 0252 | L84: 18/01/1979 | M84: x
A85: 72 | B85: Trần Thị | C85: Thu | D85: =B85&" "&C85 -> Trần Thị Thu | E85: 020 310 0255 | F85: 1971 | G85: Trần Thị Thu | H85: 020 310 0255 | I85: 1971 | J85: =G85&" "&I85 -> Trần Thị Thu 1971 | K85: 020 310 0255 | L85: 21/08/1971 | M85: x
A86: 73 | B86: Võ Thị Xuân | C86: Thơ | D86: =B86&" "&C86 -> Võ Thị Xuân Thơ | E86: 020 331 8110 | F86: 1981 | G86: Võ Thị Xuân Thơ | H86: 020 331 8110 | I86: 1981 | J86: =G86&" "&I86 -> Võ Thị Xuân Thơ 1981 | K86: 020 331 8110 | L86: 10/02/1981 | M86: x
A87: 74 | B87: Nguyễn Chí | C87: Nhân | D87: =B87&" "&C87 -> Nguyễn Chí Nhân | E87: 020 331 8108 | F87: 1978 | G87: Nguyễn Chí Nhân | H87: 020 331 8108 | I87: 1978 | J87: =G87&" "&I87 -> Nguyễn Chí Nhân 1978 | K87: 020 331 8108 | L87: 22/02/1978
A88: 75 | B88: Tạ Minh | C88: Cường | D88: =B88&" "&C88 -> Tạ Minh Cường | E88: 539 600 9947 | F88: 1965 | G88: Tạ Minh Cường | H88: 539 600 9947 | I88: 1965 | J88: =G88&" "&I88 -> Tạ Minh Cường 1965 | K88: 539 600 9947 | L88: 01/07/1965
A89: 76 | B89: Lê Thế | C89: Huân | D89: =B89&" "&C89 -> Lê Thế Huân | E89: 020 331 8109 | F89: 1965 | G89: Lê Thế Huân | H89: 020 331 8109 | I89: 1965 | J89: =G89&" "&I89 -> Lê Thế Huân 1965 | K89: 020 331 8109 | L89: 23/08/1965
A90: 77 | B90: Nguyễn Thị Tố | C90: Nga | D90: =B90&" "&C90 -> Nguyễn Thị Tố Nga | E90: 020 331 8103 | F90: 1980 | G90: Nguyễn Thị Tố Nga | H90: 020 331 8103 | I90: 1980 | J90: =G90&" "&I90 -> Nguyễn Thị Tố Nga 1980 | K90: 020 331 8103 | L90: 02/01/1980 | M90: x
A91: 78 | B91: Lê Tiến | C91: Đạt | D91: =B91&" "&C91 -> Lê Tiến Đạt | E91: 020 331 8106 | F91: 1976 | G91: Lê Tiến Đạt | H91: 020 331 8106 | I91: 1976 | J91: =G91&" "&I91 -> Lê Tiến Đạt 1976 | K91: 020 331 8106 | L91: 13/03/1976
A92: 79 | B92: Đặng Đức | C92: Minh | D92: =B92&" "&C92 -> Đặng Đức Minh | E92: 020 331 8105 | F92: 1974 | G92: Đặng Đức Minh | H92: 020 331 8105 | I92: 1974 | J92: =G92&" "&I92 -> Đặng Đức Minh 1974 | K92: 020 331 8105 | L92: 10/06/1974
A93: 80 | B93: Trần Hiếu | C93: Trinh | D93: =B93&" "&C93 -> Trần Hiếu Trinh | E93: 020 331 8104 | F93: 1977 | G93: Trần Hiếu Trinh | H93: 020 331 8104 | I93: 1977 | J93: =G93&" "&I93 -> Trần Hiếu Trinh 1977 | K93: 020 331 8104 | L93: 17/12/1977 | M93: x
A94: 81 | B94: Nguyễn Thị Ngọc | C94: Hiền | D94: =B94&" "&C94 -> Nguyễn Thị Ngọc Hiền | E94: 020 331 8107 | F94: 1978 | G94: Nguyễn Thị Ngọc Hiền | H94: 020 331 8107 | I94: 1978 | J94: =G94&" "&I94 -> Nguyễn Thị Ngọc Hiền 1978 | K94: 020 331 8107 | L94: 22/10/1978 | M94: x
A95: 82 | B95: Lương Thị | C95: Thắm | D95: =B95&" "&C95 -> Lương Thị Thắm | E95: 020 333 3893 | F95: 1974 | G95: Lương Thị Thắm | H95: 020 333 3893 | I95: 1974 | J95: =G95&" "&I95 -> Lương Thị Thắm 1974 | K95: 020 333 3893 | L95: 15/02/1974 | M95: x
A96: 83 | B96: Trần Thị Diễm | C96: Thúy | D96: =B96&" "&C96 -> Trần Thị Diễm Thúy | E96: 020 412 4407 | F96: 1974 | G96: Trần Thị Diễm Thúy | H96: 020 412 4407 | I96: 1974 | J96: =G96&" "&I96 -> Trần Thị Diễm Thúy 1974 | K96: 020 412 4407 | L96: 12/01/1974 | M96: x
A97: 84 | B97: Phan Thị Xuân | C97: Trang | D97: =B97&" "&C97 -> Phan Thị Xuân Trang | E97: 020 009 2902 | F97: 1971 | G97: Phan Thị Xuân Trang | H97: 020 009 2902 | I97: 1971 | J97: =G97&" "&I97 -> Phan Thị Xuân Trang 1971 | K97: 020 009 2902 | L97: 01/03/1971 | M97: x
A98: 85 | B98: Dương Ngọc | C98: Vọng | D98: =B98&" "&C98 -> Dương Ngọc Vọng | E98: 020 431 6585 | F98: 1975 | G98: Dương Ngọc Vọng | H98: 020 431 6585 | I98: 1975 | J98: =G98&" "&I98 -> Dương Ngọc Vọng 1975 | K98: 020 431 6585 | L98: 25/04/1975
A99: 86 | B99: Chung Trần Thế | C99: Vinh | D99: =B99&" "&C99 -> Chung Trần Thế Vinh | E99: 020 434 3040 | F99: 1981 | G99: Chung Trần Thế Vinh | H99: 020 434 3040 | I99: 1981 | J99: =G99&" "&I99 -> Chung Trần Thế Vinh 1981 | K99: 020 434 3040 | L99: 25/06/1981
A100: 87 | B100: Vũ Đức | C100: Pháp | D100: =B100&" "&C100 -> Vũ Đức Pháp | E100: 020 434 3041 | F100: 1978 | G100: Vũ Đức Pháp | H100: 020 434 3041 | I100: 1978 | J100: =G100&" "&I100 -> Vũ Đức Pháp 1978 | K100: 020 434 3041 | L100: 26/09/1978
A101: 88 | B101: Dương Minh | C101: Chung | D101: =B101&" "&C101 -> Dương Minh Chung | E101: 020 434 3042 | F101: 1976 | G101: Dương Minh Chung | H101: 020 434 3042 | I101: 1976 | J101: =G101&" "&I101 -> Dương Minh Chung 1976 | K101: 020 434 3042 | L101: 24/12/1976
A102: 89 | B102: Ngô Thanh | C102: Điền | D102: =B102&" "&C102 -> Ngô Thanh Điền | E102: 020 219 2376 | F102: 1979 | G102: Ngô Thanh Điền | H102: 020 219 2376 | I102: 1979 | J102: =G102&" "&I102 -> Ngô Thanh Điền 1979 | K102: 020 219 2376 | L102: 12/09/1979
A103: 90 | B103: Bùi Thị | C103: Dương | D103: =B103&" "&C103 -> Bùi Thị Dương | E103: 020 507 0951 | F103: 1978 | G103: Bùi Thị Dương | H103: 020 507 0951 | I103: 1978 | J103: =G103&" "&I103 -> Bùi Thị Dương 1978 | K103: 020 507 0951 | L103: 10/08/1978 | M103: x
...

Sheet KTQ
A1: STT | B1: ID | C1: Họ và tên | D1: Năm sinh | F1: Tuổi | G1: Tuổi | H1: Giới tính | I1: Đơn vị | J1: Chiều cao | K1: Cân nặng | L1: Huyết áp | M1: Tuần hoàn | N1: Hô hấp | O1: Tiêu hóa | P1: Thận- Tiết niệu | Q1: Nội tiết | R1: Cơ- xương - khớp | S1: Thần kinh | T1: Tâm thần | U1: Ngoại khoa | V1: Mắt | W1: Tai mũi họng | X1: Răng hàm mặt | Y1: Da liễu | Z1: Phụ khoa | AA1: PLSK | AB1: Lý do | AC1: Kiến nghị
A2: 1 | B2: 62 | C2: Phạm Hữu Lộc | D2: 1966 | E2: =C2&" "&D2 -> Phạm Hữu Lộc 1966 | F2: 52 | G2: 53 | H2: Nam | I2: BAN GIÁM HIỆU | J2: 164 | K2: 66 | L2: 130/80 | M2: Tiền căn đặt stent mạch vành, Tăng huyết áp đang điều trị | N2: Bình thường | O2: Bình thường | P2: Bình thường | Q2: Đái tháo đường tuýp 2 đang điều trị | R2: Bình thường | S2: Bình thường | T2: Bình thường | U2: Tiền căn phẫu thuật sỏi niệu quản + Xương đòn trái | V2: Lão thị hai mắt | W2: Bình thường | X2: Sức nhai 85% | Y2: Bình thường | AA2: 3 | AC2: Khám chuyên khoa Tim mạch, Nội tiết, Mắt, Răng hàm mặt, Tập thể dục, Hạn chế chất ngọt béo
A3: 3 | B3: 125 | C3: Đinh Văn Đệ | D3: 1972 | E3: =C3&" "&D3 -> Đinh Văn Đệ 1972 | F3: 46 | G3: 47 | H3: Nam | I3: BAN GIÁM HIỆU | J3: 173 | K3: 120 | L3: 140/80 | M3: Theo dõi tăng huyết áp | N3: Bình thường | O3: Bình thường | P3: Bình thường | Q3: Bình thường | R3: Bình thường | S3: Bình thường | T3: Bình thường | U3: Bình thường | V3: Viễn thị | W3: Bình thường | X3: Sức nhai 95% | Y3: Bình thường | AA3: 4 | AB3: Cân nặng | AC3: Khám chuyên khoa Mắt, Kiểm tra lại huyết áp, Tập thể dục, Giảm cân, Hạn chế chất ngọt béo
A4: 4 | B4: 3 | C4: Đinh Hồng Minh | D4: 1969 | E4: =C4&" "&D4 -> Đinh Hồng Minh 1969 | F4: 48 | G4: 49 | H4: Nữ | I4: BAN GIÁM HIỆU | J4: 166 | K4: 54 | L4: 120/80 | M4: Bình thường | N4: Bình thường | O4: Bình thường | P4: Bình thường | Q4: Bình thường | R4: Bình thường | S4: Bình thường | T4: Bình thường | U4: Tiền căn phẫu thuật ruột thừa | V4: Lão thị hai mắt | W4: Bình thường | X4: Sâu răng | Y4: Chàm hai bàn chân mạn | AA4: 2 | AC4: Khám chuyên khoa Mắt, Răng hàm mặt, Da liễu
A5: 5 | B5: 5 | C5: Lê Xuân Thiện | D5: 1965 | E5: =C5&" "&D5 -> Lê Xuân Thiện 1965 | F5: 53 | G5: 54 | H5: Nam | I5: Phòng Tổ chức - Hành chính - Tổng hợp | J5: 168 | K5: 61 | L5: 120/80 | M5: Bình thường | N5: Bình thường | O5: Bình thường | P5: Bình thường | Q5: Bình thường | R5: Bình thường | S5: Bình thường | T5: Bình thường | U5: Bình thường | V5: Tật khúc xạ hai mắt | W5: Bình thường | X5: Sức nhai 100% | Y5: Bình thường | AA5: 2 | AC5: Khám chuyên khoa Mắt
A6: 6 | B6: 32 | C6: Nguyễn Thị Bích Liễu | D6: 1988 | E6: =C6&" "&D6 -> Nguyễn Thị Bích Liễu 1988 | F6: 30 | G6: 31 | H6: Nữ | I6: Phòng Tổ chức - Hành chính - Tổng hợp | J6: 158 | K6: 55 | L6: 120/70 | M6: Bình thường | N6: Bình thường | O6: Bình thường | P6: Bình thường | Q6: Bình thường | R6: Bình thường | S6: Bình thường | T6: Bình thường | U6: Bình thường | V6: Tiền căn phẫu thuật lasik | W6: Bình thường | X6: Sức nhai 100% | Y6: Bình thường | Z6: Bình thường | AA6: 2 | AC6: Tập thể dục, Hạn chế chất ngọt béo
A7: 7 | B7: 6 | C7: Trần Văn Cu Anh | D7: 1964 | E7: =C7&" "&D7 -> Trần Văn Cu Anh 1964 | F7: 54 | G7: 55 | H7: Nam | I7: Phòng Tổ chức - Hành chính - Tổng hợp | J7: 156 | K7: 65 | L7: 130/80 | M7: Bình thường | N7: Bình thường | O7: Bình thường | P7: Bình thường | Q7: Bình thường | R7: Bình thường | S7: Bình thường | T7: Bình thường | U7: Bình thường | V7: Lão thị hai mắt | W7: Bình thường | X7: Sức nhai 80% | Y7: Bình thường | AA7: 3 | AC7: Khám chuyên khoa Mắt, Răng hàm mặt, Tập thể dục, Giảm cân
A8: 8 | B8: 20 | C8: Nguyễn Tiến Hưng | D8: 1959 | E8: =C8&" "&D8 -> Nguyễn Tiến Hưng 1959 | F8: 59 | G8: 60 | H8: Nam | I8: Phòng Tổ chức - Hành chính - Tổng hợp | J8: 164 | K8: 65 | L8: 100/60 | M8: Ngoại tâm thu thất 6-8 lần/phút | N8: Bình thường | O8: Bình thường | P8: Bình thường | Q8: Bình thường | R8: Bình thường | S8: Bình thường | T8: Bình thường | U8: Bình thường | V8: Tật khúc xạ hai mắt | W8: Bình thường | X8: Sức nhai 60% | Y8: Viêm quanh móng ngón 1 chân phải | AA8: 4 | AB8: Giảm sức nhai | AC8: Khám chuyên khoa Tim mạch, Mắt, Răng hàm mặt, Da liễu, Tập thể dục, Hạn chế chất ngọt béo
A9: 9 | B9: 33 | C9: Nguyễn Hữu Xuân Vũ | D9: 1974 | E9: =C9&" "&D9 -> Nguyễn Hữu Xuân Vũ 1974 | F9: 43 | G9: 44 | H9: Nam | I9: Phòng Tổ chức - Hành chính - Tổng hợp | J9: 154 | K9: 57 | L9: 110/80 | M9: Nhịp tim nhanh 95 lần/phút | N9: Bình thường | O9: Bình thường | P9: Bình thường | Q9: Bình thường | R9: Bình thường | S9: Bình thường | T9: Bình thường | U9: Bình thường | V9: Bình thường | W9: Viêm mũi dị ứng | X9: Sức nhai 100% | Y9: Bình thường | AA9: 3 | AC9: Khám chuyên khoa Tai mũi họng, Kiểm tra lại nhịp tim, Tập thể dục, Hạn chế chất ngọt béo
A10: 10 | B10: 34 | C10: Huỳnh Bá Thành | D10: 1958 | E10: =C10&" "&D10 -> Huỳnh Bá Thành 1958 | F10: 60 | G10: 61 | H10: Nam | I10: Phòng Tổ chức - Hành chính - Tổng hợp | J10: 160 | K10: 74 | L10: 110/70 | M10: Tăng huyết áp đang điều trị | N10: Bình thường | O10: Bình thường | P10: Bình thường | Q10: Bình thường | R10: Bình thường | S10: Bình thường | T10: Bình thường | U10: Bình thường | V10: Giảm thị lực mắt phải | W10: Bình thường | X10: Sức nhai 70% | Y10: Nấm móng ngón 1 hai ngón chân hai bên + Tay trái | AA10: 4 | AB10: Giảm sức nhai | AC10: Khám chuyên khoa Tim mạch, Mắt, Răng hàm mặt, Da liễu, Tập thể dục, Giảm cân
A11: 11 | B11: 36 | C11: Lê Hồng Phúc | D11: 1966 | E11: =C11&" "&D11 -> Lê Hồng Phúc 1966 | F11: 52 | G11: 53 | H11: Nam | I11: Phòng Tổ chức - Hành chính - Tổng hợp | J11: 174 | K11: 84 | L11: 130/80 | M11: Bình thường | N11: Bình thường | O11: Bình thường | P11: Bình thường | Q11: Bình thường | R11: Tiền căn gãy đầu dưới xương quay trái + Đứt dây chằng chéo gối phải | S11: Bình thường | T11: Bình thường | U11: Bình thường | V11: Tật khúc xạ hai mắt | W11: Tiền căn cắt amydal | X11: Sức nhai 70% | Y11: Bình thường | AA11: 4 | AB11: Giảm sức nhai | AC11: Khám chuyên khoa Mắt, Răng hàm mặt, Tập thể dục, Giảm cân
A12: 12 | B12: 77 | C12: Đồng Anh Tuấn | D12: 1983 | E12: =C12&" "&D12 -> Đồng Anh Tuấn 1983 | F12: 35 | G12: 36 | H12: Nam | I12: Phòng Tổ chức - Hành chính - Tổng hợp | J12: 168 | K12: 61 | L12: 120/80 | M12: Bình thường | N12: Bình thường | O12: Bình thường | P12: Bình thường | Q12: Bình thường | R12: Bình thường | S12: Bình thường | T12: Bình thường | U12: Tiền căn phẫu thuật vùng mặt do chấn thương | V12: Bình thường | W12: Bình thường | X12: Sức nhai 96% | Y12: Vẩy nến | AA12: 2 | AC12: Khám chuyên khoa Da liễu, Tập thể dục, Hạn chế chất ngọt béo
A13: 13 | B13: 17 | C13: Hồ Thị Tuyết | D13: 1954 | E13: =C13&" "&D13 -> Hồ Thị Tuyết 1954 | F13: 64 | G13: 65 | H13: Nữ | I13: Phòng Tổ chức - Hành chính - Tổng hợp | J13: 161 | K13: 78 | L13: 140/80 | M13: Tăng huyết áp đang điều trị | N13: Bình thường | O13: Bình thường | P13: Bình thường | Q13: Bình thường | R13: Viêm đa khớp | S13: Bình thường | T13: Bình thường | U13: Tiền căn phẫu thuật u buồng trứng trái | V13: Lão thị hai mắt | W13: Bình thường | X13: Sức nhai 60% | Y13: Chàm cổ chân phải mạn | Z13: Bình thường | AA13: 4 | AB13: Giảm sức nhai | AC13: Khám chuyên khoa Tim mạch, Nội khớp, Mắt, Răng hàm mặt, Da liễu, Tập thể dục, Giảm cân
A14: 14 | B14: 370 | C14: Phan Ngọc Phát | D14: 1958 | E14: =C14&" "&D14 -> Phan Ngọc Phát 1958 | F14: 60 | G14: 61 | H14: Nam | I14: Phòng Tổ chức - Hành chính - Tổng hợp | J14: 168 | K14: 59 | L14: 130/80 | M14: Bình thường | N14: Lao phổi cũ | O14: Bình thường | P14: Bình thường | Q14: Bình thường | R14: Bình thường | S14: Bình thường | T14: Bình thường | U14: Bình thường | V14: Tật khúc xạ + Lão thị hai mắt | W14: Bình thường | X14: Sức nhai 60% | Y14: Bình thường | AA14: 4 | AB14: Giảm sức nhai | AC14: Khám chuyên khoa Hô hấp, Mắt, Răng hàm mặt, Thận
A15: 17 | B15: 14 | C15: Phan Thị Ngọc Phượng | D15: 1980 | E15: =C15&" "&D15 -> Phan Thị Ngọc Phượng 1980 | F15: 38 | G15: 39 | H15: Nữ | I15: Phòng Tổ chức - Hành chính - Tổng hợp | J15: 161 | K15: 52 | L15: 120/80 | M15: Bình thường | N15: Bình thường | O15: Bình thường | P15: Bình thường | Q15: Bình thường | R15: Bình thường | S15: Bình thường | T15: Bình thường | U15: Tiền căn sanh mổ 2005 | V15: Giảm thị lực mắt trái | W15: Bình thường | X15: Viêm nướu | Y15: Bình thường | Z15: Bình thường | AA15: 2 | AC15: Khám chuyên khoa Mắt, Răng hàm mặt
A16: 18 | B16: 55 | C16: Lưu Hoàng Hải Yến | D16: 1985 | E16: =C16&" "&D16 -> Lưu Hoàng Hải Yến 1985 | F16: 33 | G16: 34 | H16: Nữ | I16: Phòng Tổ chức - Hành chính - Tổng hợp | J16: 154 | K16: 51 | L16: 120/80 | M16: Bình thường | N16: Bình thường | O16: Bình thường | P16: Bình thường | Q16: Bình thường | R16: Bình thường | S16: Bình thường | T16: Bình thường | U16: Bình thường | V16: Bình thường | W16: Viêm mũi dị ứng | X16: Sâu răng | Y16: Bình thường | AA16: 2 | AC16: Khám chuyên khoa Tai mũi họng, Răng hàm mặt, Uống nhiều nước trên 2 lít/ngày
A17: 19 | B17: 54 | C17: Thái Thị My Sa | D17: 1988 | E17: =C17&" "&D17 -> Thái Thị My Sa 1988 | F17: 30 | G17: 31 | H17: Nữ | I17: Phòng Tổ chức - Hành chính - Tổng hợp | J17: 150 | K17: 44 | L17: 110/70 | M17: Bình thường | N17: Bình thường | O17: Bình thường | P17: Bình thường | Q17: Bình thường | R17: Bình thường | S17: Bình thường | T17: Bình thường | U17: Tiền căn sanh mổ 2016 | V17: Bình thường | W17: Bình thường | X17: Sâu răng | Y17: Bình thường | AA17: 3 | AC17: Khám chuyên khoa Răng hàm mặt
A18: 20 | B18: 48 | C18: Nguyễn Cao Thắng | D18: 1984 | E18: =C18&" "&D18 -> Nguyễn Cao Thắng 1984 | F18: 34 | G18: 35 | H18: Nam | I18: Phòng Tổ chức - Hành chính - Tổng hợp | J18: 166 | K18: 45 | L18: 110/70 | M18: Bình thường | N18: Bình thường | O18: Viêm dạ dày | P18: Bình thường | Q18: Bình thường | R18: Bình thường | S18: Bình thường | T18: Bình thường | U18: Bình thường | V18: Tật khúc xạ hai mắt | W18: Bình thường | X18: Sức nhai 90% | Y18: Bình thường | AA18: 3 | AC18: Khám chuyên khoa Tiêu hóa, Mắt, Răng hàm mặt, Tăng cường dinh dưỡng
A19: 21 | B19: 21 | C19: Phạm Hữu Tấn | D19: 1964 | E19: =C19&" "&D19 -> Phạm Hữu Tấn 1964 | F19: 54 | G19: 55 | H19: Nam | I19: Phòng Tổ chức - Hành chính - Tổng hợp | J19: 161 | K19: 65 | L19: 120/70 | M19: Tăng huyết áp đang điều trị | N19: Bình thường | O19: Bình thường | P19: Bình thường | Q19: Đái tháo đường tuýp 2 đang điều trị | R19: Bình thường | S19: Bình thường | T19: Bình thường | U19: Bình thường | V19: Tật khúc xạ + Mộng thịt hai mắt | W19: Bình thường | X19: Viêm nướu | Y19: Bình thường | AA19: 3 | AC19: Khám chuyên khoa Tim mạch, Nội tiết, Mắt, Răng hàm mặt, Tập thể dục, Hạn chế chất ngọt béo
A20: 22 | B20: 29 | C20: Huỳnh Thanh Nhàn | D20: 1991 | E20: =C20&" "&D20 -> Huỳnh Thanh Nhàn 1991 | F20: 27 | G20: 28 | H20: Nam | I20: Phòng Tổ chức - Hành chính - Tổng hợp | J20: 170 | K20: 65 | L20: 100/60 | M20: Bình thường | N20: Bình thường | O20: Bình thường | P20: Bình thường | Q20: Bình thường | R20: Tiền căn gãy xương cẳng tay phải | S20: Bình thường | T20: Bình thường | U20: Bình thường | V20: Bình thường | W20: Amydal quá phát | X20: Sức nhai 98% | Y20: Bình thường | AA20: 2 | AC20: Khám chuyên khoa Tai mũi họng
A21: 23 | B21: 43 | C21: Phạm Hữu Thành Phú | D21: 1984 | E21: =C21&" "&D21 -> Phạm Hữu Thành Phú 1984 | F21: 34 | G21: 35 | H21: Nam | I21: Phòng Tổ chức - Hành chính - Tổng hợp | J21: 175 | K21: 68 | L21: 110/70 | M21: Bình thường | N21: Bình thường | O21: Bình thường | P21: Bình thường | Q21: Bình thường | R21: Bình thường | S21: Bình thường | T21: Bình thường | U21: Bình thường | V21: Bình thường | W21: Bình thường | X21: Sâu răng | Y21: Viêm da vùng lưng | AA21: 2 | AC21: Khám chuyên khoa Răng hàm mặt, Da liễu
A22: 25 | B22: 180 | C22: Trần Thị Ánh Phượng | D22: 1987 | E22: =C22&" "&D22 -> Trần Thị Ánh Phượng 1987 | F22: 31 | G22: 32 | H22: Nữ | I22: Phòng Tổ chức - Hành chính - Tổng hợp | J22: 146 | K22: 64 | L22: 110/70 | M22: Bình thường | N22: Bình thường | O22: Bình thường | P22: Bình thường | Q22: Thai 27 tuần | R22: Bình thường | S22: Bình thường | T22: Bình thường | U22: Tiền căn sanh mổ 2013 | V22: Tiền căn phẫu thuật lasik | W22: Bình thường | X22: Sức nhai 90% | Y22: Bình thường | AA22: 4 | AB22: Chiều cao | AC22: Khám chuyên khoa Răng hàm mặt, Theo dõi thai định kỳ
A23: 26 | B23: 371 | C23: Nguyễn Văn Chì | D23: 1979 | E23: =C23&" "&D23 -> Nguyễn Văn Chì 1979 | F23: 39 | G23: 40 | H23: Nam | I23: Phòng Tổ chức - Hành chính - Tổng hợp | J23: 157 | K23: 61 | L23: 140/80 | M23: Theo dõi tăng huyết áp | N23: Bình thường | O23: Bình thường | P23: Bình thường | Q23: Bình thường | R23: Bình thường | S23: Bình thường | T23: Bình thường | U23: Bình thường | V23: Tật khúc xạ hai mắt | W23: Bình thường | X23: Sức nhai 86% | Y23: Bình thường | AA23: 3 | AC23: Khám chuyên khoa Mắt, Răng hàm mặt, Kiểm tra lại huyết áp
A24: 27 | B24: 395 | C24: Lê Hồng Sơn | D24: 1963 | E24: =C24&" "&D24 -> Lê Hồng Sơn 1963 | F24: 55 | G24: 56 | H24: Nam | I24: Phòng Tổ chức - Hành chính - Tổng hợp | J24: 170 | K24: 80 | L24: 140/80 | M24: Tăng huyết áp đang điều trị | N24: Bình thường | O24: Bình thường | P24: Bình thường | Q24: Bình thường | R24: Bình thường | S24: Bình thường | T24: Bình thường | U24: Bình thường | V24: Phaco + Iol mắt trái | W24: Bình thường | X24: Hàm giả | Y24: Bình thường | AA24: 3 | AC24: Khám chuyên khoa Tim mạch, Mắt, Tập thể dục, Giảm cân
A25: 28 | B25: 396 | C25: Nguyễn Thị Vân | D25: 1988 | E25: =C25&" "&D25 -> Nguyễn Thị Vân 1988 | F25: 30 | G25: 31 | H25: Nữ | I25: Phòng Tổ chức - Hành chính - Tổng hợp | J25: 152 | K25: 48 | L25: 100/60 | M25: Bình thường | N25: Bình thường | O25: Bình thường | P25: Bình thường | Q25: Bình thường | R25: Bình thường | S25: Bình thường | T25: Bình thường | U25: Tiền căn sanh mổ 2013 | V25: Tật khúc xạ hai mắt | W25: Bình thường | X25: Sức nhai 100% | Y25: Bình thường | Z25: Bình thường | AA25: 2 | AC25: Khám chuyên khoa Mắt
A26: 29 | B26: 44 | C26: Nguyễn Kính | D26: 1965 | E26: =C26&" "&D26 -> Nguyễn Kính 1965 | F26: 53 | G26: 54 | H26: Nam | I26: Phòng Kế hoạch - Tài chính | J26: 155 | K26: 65 | L26: 120/80 | M26: Bình thường | N26: Bình thường | O26: Bình thường | P26: Bình thường | Q26: Bình thường | R26: Bình thường | S26: Bình thường | T26: Bình thường | U26: Bình thường | V26: Bình thường | W26: Bình thường | X26: Sức nhai 60% | Y26: Bình thường | AA26: 4 | AB26: Giảm sức nhai | AC26: Khám chuyên khoa Răng hàm mặt, Tập thể dục, Giảm cân, Hạn chế chất ngọt béo
A27: 30 | B27: 40 | C27: Nguyễn Thị Kim Dung | D27: 1979 | E27: =C27&" "&D27 -> Nguyễn Thị Kim Dung 1979 | F27: 39 | G27: 40 | H27: Nữ | I27: Phòng Kế hoạch - Tài chính | J27: 155 | K27: 51 | L27: 100/60 | M27: Bình thường | N27: Bình thường | O27: Bình thường | P27: Bình thường | Q27: Bình thường | R27: Bình thường | S27: Bình thường | T27: Bình thường | U27: Bình thường | V27: Tiền căn phẫu thuật lasik | W27: Viêm xoang mạn | X27: Sâu răng | Y27: Bình thường | AA27: 2 | AC27: Khám chuyên khoa Tai mũi họng, Răng hàm mặt
A28: 31 | B28: 330 | C28: Đỗ Thị Ngọc | D28: 1965 | E28: =C28&" "&D28 -> Đỗ Thị Ngọc 1965 | F28: 53 | G28: 54 | H28: Nữ | I28: Phòng Kế hoạch - Tài chính | J28: 147 | K28: 49 | L28: 130/80 | M28: Bình thường | N28: Bình thường | O28: Bình thường | P28: Bình thường | Q28: Bình thường | R28: Theo dõi viêm khớp vai | S28: Bình thường | T28: Bình thường | U28: Tiền căn sanh mổ 1997 | V28: Tật khúc xạ hai mắt | W28: Bình thường | X28: Sức nhai 80% | Y28: Bình thường | AA28: 3 | AC28: Khám chuyên khoa Nội khớp, Mắt, Răng hàm mặt
A29: 32 | B29: 47 | C29: Trần Thị Minh Thoa | D29: 1983 | E29: =C29&" "&D29 -> Trần Thị Minh Thoa 1983 | F29: 35 | G29: 36 | H29: Nữ | I29: Phòng Kế hoạch - Tài chính | J29: 150 | K29: 56 | L29: 110/70 | M29: Bình thường | N29: Bình thường | O29: Bình thường | P29: Bình thường | Q29: Bình thường | R29: Bình thường | S29: Bình thường | T29: Bình thường | U29: Bình thường | V29: Bình thường | W29: Bình thường | X29: Sức nhai 86% | Y29: Bình thường | AA29: 3 | AC29: Khám chuyên khoa Răng hàm mặt, Tập thể dục, Giảm cân
A30: 33 | B30: 68 | C30: Phạm Lê Đông Hưng | D30: 1991 | E30: =C30&" "&D30 -> Phạm Lê Đông Hưng 1991 | F30: 27 | G30: 28 | H30: Nam | I30: Phòng Kế hoạch - Tài chính | J30: 174 | K30: 84 | L30: 120/80 | M30: Bình thường | N30: Bình thường | O30: Bình thường | P30: Bình thường | Q30: Bình thường | R30: Bình thường | S30: Bình thường | T30: Bình thường | U30: Bình thường | V30: Tật khúc xạ hai mắt | W30: Bình thường | X30: Sức nhai 98% | Y30: Bình thường | AA30: 2 | AC30: Khám chuyên khoa Mắt, Tập thể dục, Giảm cân
A31: 34 | B31: 397 | C31: Lê Hửu Nhân | D31: 1994 | E31: =C31&" "&D31 -> Lê Hửu Nhân 1994 | F31: 24 | G31: 25 | H31: Nam | I31: Phòng Kế hoạch - Tài chính | J31: 160 | K31: 65 | L31: 110/70 | M31: Bình thường | N31: Bình thường | O31: Trĩ ngoại đang điều trị | P31: Bình thường | Q31: Bình thường | R31: Bình thường | S31: Bình thường | T31: Bình thường | U31: Bình thường | V31: Tật khúc xạ hai mắt | W31: Viêm mũi dị ứng, Amydal quá phát | X31: Sức nhai 100% | Y31: Bình thường | AA31: 2 | AC31: Khám chuyên khoa Mắt, Tai mũi họng, Trĩ, Tập thể dục, Giảm cân
A32: 35 | B32: 61 | C32: Nguyễn Thị Hồng Thắm | D32: 1991 | E32: =C32&" "&D32 -> Nguyễn Thị Hồng Thắm 1991 | F32: 27 | G32: 28 | H32: Nữ | I32: Phòng Kế hoạch - Tài chính | J32: 152 | K32: 44 | L32: 120/80 | M32: Bình thường | N32: Bình thường | O32: Bình thường | P32: Bình thường | Q32: Bình thường | R32: Bình thường | S32: Bình thường | T32: Bình thường | U32: Bình thường | V32: Tật khúc xạ hai mắt | W32: Bình thường | X32: Sức nhai 80% | Y32: Bình thường | AA32: 5 | AB32: Mắt (6/20) | AC32: Khám chuyên khoa Mắt, Răng hàm mặt
A33: 36 | B33: 80 | C33: Trần Thị Thảo Vân | D33: 1988 | E33: =C33&" "&D33 -> Trần Thị Thảo Vân 1988 | F33: 30 | G33: 31 | H33: Nữ | I33: Phòng Kế hoạch - Tài chính | J33: 154 | K33: 60 | L33: 110/70 | M33: Bình thường | N33: Bình thường | O33: Bình thường | P33: Bình thường | Q33: Bình thường | R33: Bình thường | S33: Bình thường | T33: Bình thường | U33: Tiền căn sanh mổ | V33: Tật khúc xạ mắt trái | W33: Amydal quá phát | X33: Sức nhai 90% | Y33: Bình thường | Z33: Bình thường | AA33: 2 | AC33: Khám chuyên khoa Mắt, Tai mũi họng, Răng hàm mặt, Tập thể dục, Giảm cân, Hạn chế chất ngọt béo
A34: 37 | B34: 45 | C34: Hồng Mộng Tuyết Dung | D34: 1970 | E34: =C34&" "&D34 -> Hồng Mộng Tuyết Dung 1970 | F34: 48 | G34: 49 | H34: Nữ | I34: Phòng Kế hoạch - Tài chính | J34: 156 | K34: 56 | L34: 120/80 | M34: Bình thường | N34: Bình thường | O34: Bình thường | P34: Bình thường | Q34: Bình thường | R34: Bình thường | S34: Bình thường | T34: Bình thường | U34: Tiền căn phẫu thuật ruột thừa + Sanh mổ | V34: Lão thị hai mắt | W34: Viêm mũi dị ứng | X34: Sức nhai 70% | Y34: Bình thường | Z34: Bình thường | AA34: 4 | AB34: Giảm sức nhai | AC34: Khám chuyên khoa Mắt, Tai mũi họng, Răng hàm mặt
A35: 38 | B35: 398 | C35: Nguyễn Thị Minh Thùy | D35: 1993 | E35: =C35&" "&D35 -> Nguyễn Thị Minh Thùy 1993 | F35: 25 | G35: 26 | H35: Nữ | I35: Phòng Kế hoạch - Tài chính | J35: 156 | K35: 48 | L35: 110/70 | M35: Bình thường | N35: Bình thường | O35: Bình thường | P35: Bình thường | Q35: Bình thường | R35: Bình thường | S35: Bình thường | T35: Bình thường | U35: Bình thường | V35: Bình thường | W35: Bình thường | X35: Sức nhai 100% | Y35: Bình thường | AA35: 1 | AC35: Sức khỏe tốt
A36: 39 | B36: 71 | C36: Nguyễn Văn Tấn | D36: 1962 | E36: =C36&" "&D36 -> Nguyễn Văn Tấn 1962 | F36: 56 | G36: 57 | H36: Nam | I36: Phòng Tuyển sinh - Đào tạo | J36: 158 | K36: 61 | L36: 120/80 | M36: Bình thường | N36: Bình thường | O36: Bình thường | P36: Bình thường | Q36: Bình thường | R36: Bình thường | S36: Bình thường | T36: Bình thường | U36: Bình thường | V36: Lão thị hai mắt | W36: Bình thường | X36: Sức nhai 98% | Y36: Bình thường | AA36: 2 | AC36: Khám chuyên khoa Mắt
A37: 41 | B37: 69 | C37: Võ Thị Xuân Thơ | D37: 1981 | E37: =C37&" "&D37 -> Võ Thị Xuân Thơ 1981 | F37: 37 | G37: 38 | H37: Nữ | I37: Phòng Tuyển sinh - Đào tạo | J37: 142 | K37: 53 | L37: 110/70 | M37: Bình thường | N37: Bình thường | O37: Bình thường | P37: Bình thường | Q37: Bình thường | R37: Bình thường | S37: Bình thường | T37: Bình thường | U37: Tiền căn sanh mổ 2011, 2016 | V37: Tật khúc xạ hai mắt | W37: Viêm mũi dị ứng | X37: Sức nhai 98% | Y37: Bình thường | Z37: Bình thường | AA37: 5 | AB37: Chiều cao | AC37: Khám chuyên khoa Mắt, Tai mũi họng, Tập thể dục, Giảm cân
A38: 42 | B38: 74 | C38: Huỳnh Thị Mai | D38: 1978 | E38: =C38&" "&D38 -> Huỳnh Thị Mai 1978 | F38: 40 | G38: 41 | H38: Nữ | I38: Phòng Tuyển sinh - Đào tạo | J38: 152 | K38: 50 | L38: 110/70 | M38: Bình thường | N38: Bình thường | O38: Bình thường | P38: Bình thường | Q38: Bình thường | R38: Bình thường | S38: Bình thường | T38: Bình thường | U38: Bình thường | V38: Bình thường | W38: Viêm mũi dị ứng | X38: Sức nhai 100% | Y38: Bình thường | Z38: Bình thường | AA38: 2 | AC38: Khám chuyên khoa Tai mũi họng
A39: 43 | B39: 152 | C39: Sỹ Thị Chung | D39: 1986 | E39: =C39&" "&D39 -> Sỹ Thị Chung 1986 | F39: 32 | G39: 33 | H39: Nữ | I39: Phòng Tuyển sinh - Đào tạo | J39: 161 | K39: 41 | L39: 110/70 | M39: Bình thường | N39: Bình thường | O39: Bình thường | P39: Bình thường | Q39: Bình thường | R39: Bình thường | S39: Bình thường | T39: Bình thường | U39: Bình thường | V39: Tật khúc xạ hai mắt | W39: Viêm xoang mạn | X39: Sức nhai 98% | Y39: Chàm cẳng chân phải | AA39: 3 | AC39: Khám chuyên khoa Mắt, Tai mũi họng, Da liễu, Tăng cường dinh dưỡng, Uống nhiều nuốc trên 2 lít/ngày
A40: 44 | B40: 367 | C40: Lương Xuân Thịnh | D40: 1991 | E40: =C40&" "&D40 -> Lương Xuân Thịnh 1991 | F40: 27 | G40: 28 | H40: Nam | I40: Trung tâm Quan hệ - Doanh nghiệp | J40: 171 | K40: 74 | L40: 130/70 | M40: Bình thường | N40: Bình thường | O40: Bình thường | P40: Bình thường | Q40: Bình thường | R40: Bình thường | S40: Bình thường | T40: Bình thường | U40: Bình thường | V40: Cận thị | W40: Bình thường | X40: Sức nhai 100% | Y40: Bình thường | AA40: 2 | AC40: Khám chuyên khoa Mắt
A41: 45 | B41: 78 | C41: Huỳnh Thị Minh Ly | D41: 1979 | E41: =C41&" "&D41 -> Huỳnh Thị Minh Ly 1979 | F41: 39 | G41: 40 | H41: Nữ | I41: Phòng Tuyển sinh - Đào tạo | J41: 152 | K41: 51 | L41: 110/70 | M41: Bình thường | N41: Bình thường | O41: Bình thường | P41: Bình thường | Q41: Bình thường | R41: Bình thường | S41: Bình thường | T41: Bình thường | U41: Tiền căn sanh mổ 2007, 2013 | V41: Tật khúc xạ hai mắt | X41: Sức nhai 100% | Y41: Bình thường | AA41: 3 | AC41: Khám chuyên khoa Mắt
A42: 46 | B42: 227 | C42: Nguyễn Thị Thanh Thảo | D42: 1982 | E42: =C42&" "&D42 -> Nguyễn Thị Thanh Thảo 1982 | F42: 36 | G42: 37 | H42: Nữ | I42: Phòng Tuyển sinh - Đào tạo | J42: 153 | K42: 50 | L42: 110/80 | M42: Bình thường | N42: Bình thường | O42: Bình thường | P42: Bình thường | Q42: Bình thường | R42: Bình thường | S42: Bình thường | T42: Bình thường | U42: Bình thường | V42: Tật khúc xạ hai mắt | W42: Bình thường | X42: Sức nhai 98% | Y42: Bình thường | Z42: Bình thường | AA42: 2 | AC42: Khám chuyên khoa Mắt
A43: 47 | B43: 79 | C43: Giáp Thị Vượng | D43: 1987 | E43: =C43&" "&D43 -> Giáp Thị Vượng 1987 | F43: 31 | G43: 32 | H43: Nữ | I43: Phòng Tuyển sinh - Đào tạo | J43: 161 | K43: 51 | L43: 110/70 | M43: Bình thường | N43: Bình thường | O43: Bình thường | P43: Bình thường | Q43: Theo dõi bướu giáp | R43: Bình thường | S43: Bình thường | T43: Bình thường | U43: Bình thường | V43: Tật khúc xạ hai mắt | W43: Amydal quá phát | X43: Sức nhai 90% | Y43: Chàm ngón 3 bàn tay phải | Z43: Bình thường | AA43: 2 | AC43: Khám chuyên khoa Nội tiết, Mắt, Tai mũi họng, Răng hàm mặt, Da liễu
A44: 50 | B44: 364 | C44: Nguyễn Thị Tất | D44: 1988 | E44: =C44&" "&D44 -> Nguyễn Thị Tất 1988 | F44: 30 | G44: 31 | H44: Nữ | I44: Phòng Tuyển sinh - Đào tạo | J44: 148 | K44: 46 | L44: 100/60 | M44: Bình thường | N44: Bình thường | O44: Bình thường | P44: Bình thường | Q44: Bình thường | R44: Bình thường | S44: Bình thường | T44: Bình thường | U44: Tiền căn sanh mổ 2014 | V44: Bình thường | W44: Bình thường | X44: Sức nhai 90% | Y44: Bình thường | AA44: 3 | AC44: Khám chuyên khoa Răng hàm mặt
A45: 51 | B45: 58 | C45: Nguyễn Ngọc Trang | D45: 1966 | E45: =C45&" "&D45 -> Nguyễn Ngọc Trang 1966 | F45: 52 | G45: 53 | H45: Nữ | I45: Phòng Quản lý khoa học - Hợp tác quốc tế | J45: 155 | K45: 53 | L45: 130/80 | M45: Bình thường | N45: Bình thường | O45: Bình thường | P45: Bình thường | Q45: Bình thường | R45: Bình thường | S45: Bình thường | T45: Bình thường | U45: Bình thường | V45: Tật khúc xạ hai mắt | W45: Bình thường | X45: Sức nhai 80% | Y45: Bình thường | Z45: Bình thường | AA45: 3 | AC45: Khám chuyên khoa Mắt, Răng hàm mặt
A46: 52 | B46: 394 | C46: Lê Tiến Dũng | D46: 1982 | E46: =C46&" "&D46 -> Lê Tiến Dũng 1982 | F46: 36 | G46: 37 | H46: Nam | I46: Phòng Quản lý khoa học - Hợp tác quốc tế | J46: 173 | K46: 68 | L46: 120/80 | M46: Bình thường | N46: Bình thường | O46: Bình thường | P46: Bình thường | Q46: Bình thường | R46: Bình thường | S46: Bình thường | T46: Bình thường | U46: Bình thường | V46: Bình thường | W46: Viêm mũi dị ứng | X46: Sức nhai 98% | Y46: Vẩy nến | AA46: 2 | AC46: Khám chuyên khoa Tai mũi họng, Da liễu
A47: 53 | B47: 399 | C47: Huỳnh Thị Cẩm Hoa | D47: 1984 | E47: =C47&" "&D47 -> Huỳnh Thị Cẩm Hoa 1984 | F47: 34 | G47: 35 | H47: Nữ | I47: Phòng Quản lý khoa học - Hợp tác quốc tế | J47: 148 | K47: 47 | L47: 100/60 | M47: Bình thường | N47: Bình thường | O47: Bình thường | P47: Bình thường | Q47: Bình thường | R47: Bình thường | S47: Bình thường | T47: Bình thường | U47: Tiền căn sanh mổ 2012 | V47: Giảm thị lực mắt phải | W47: Bình thường | X47: Sức nhai 86% | Y47: Bình thường | AA47: 3 | AC47: Khám chuyên khoa Mắt, Răng hàm mặt
A48: 54 | B48: 400 | C48: Trần Nhật Minh | D48: 1992 | E48: =C48&" "&D48 -> Trần Nhật Minh 1992 | F48: 26 | G48: 27 | H48: Nam | I48: Phòng Quản lý khoa học - Hợp tác quốc tế | J48: 172 | K48: 79 | L48: 110/70 | M48: Bình thường | N48: Bình thường | O48: Hội chứng dạ dày | P48: Bình thường | Q48: Bình thường | R48: Bình thường | S48: Bình thường | T48: Bình thường | U48: Bình thường | V48: Tật khúc xạ hai mắt | W48: Bình thường | X48: Sức nhai 100% | Y48: Bình thường | AA48: 2 | AC48: Khám chuyên khoa Tiêu hóa, Mắt, Tập thể dục, Giảm cân, Hạn chế chất ngọt béo
A49: 55 | B49: 60 | C49: Nguyễn Thành Nam | D49: 1979 | E49: =C49&" "&D49 -> Nguyễn Thành Nam 1979 | F49: 39 | G49: 40 | H49: Nam | I49: Phòng Tổ chức - Hành chính - Tổng hợp | J49: 167 | K49: 76 | L49: 140/90 | M49: Tăng huyết áp | N49: Bình thường | O49: Bình thường | P49: Bình thường | Q49: Bình thường | R49: Bình thường | S49: Bình thường | T49: Bình thường | U49: Bình thường | V49: Lão thị hai mắt | W49: Bình thường | X49: Sức nhai 100% | Y49: Chàm hai bàn tay mạn | AA49: 3 | AC49: Khám chuyên khoa Tim mạch, Mắt, Da liễu, Tập thể dục, Giảm cân
A50: 56 | B50: 89 | C50: Hà Phước Tuấn | D50: 1960 | E50: =C50&" "&D50 -> Hà Phước Tuấn 1960 | F50: 58 | G50: 59 | H50: Nam | I50: Khoa Cơ Khí | J50: 171 | K50: 53 | L50: 130/90 | M50: Tăng huyết áp đang điều trị | N50: Bình thường | O50: Bình thường | P50: Bình thường | Q50: Bình thường | R50: Bình thường | S50: Bình thường | T50: Bình thường | U50: Bình thường | V50: Tật khúc xạ hai mắt | W50: Bình thường | X50: Viêm nha chu | Y50: Viêm da tiết bã | AA50: 3 | AC50: Khám chuyên khoa Tim mạch, Mắt, Răng hàm mặt, Da liễu
A51: 57 | B51: 72 | C51: Võ Thị Anh Đào | D51: 1965 | E51: =C51&" "&D51 -> Võ Thị Anh Đào 1965 | F51: 53 | G51: 54 | H51: Nữ | I51: Phòng Khảo thí - Đảm bảo chất lượng | J51: 158 | K51: 68 | L51: 120/70 | M51: Bình thường | N51: Bình thường | O51: Bình thường | P51: Bình thường | Q51: Bình thường | R51: Bình thường | S51: Bình thường | T51: Bình thường | U51: Bình thường | V51: Lão thị hai mắt | W51: Viêm mũi dị ứng | X51: Sức nhai 80% | Y51: Bình thường | Z51: Bình thường | AA51: 3 | AC51: Khám chuyên khoa Mắt, Tai mũi họng, Răng hàm mặt, Tập thể dục, Giảm cân
A52: 58 | B52: 375 | C52: Nguyễn Thanh Sơn | D52: 1963 | E52: =C52&" "&D52 -> Nguyễn Thanh Sơn 1963 | F52: 55 | G52: 56 | H52: Nam | I52: Phòng Khảo thí - Đảm bảo chất lượng | J52: 173 | K52: 80 | L52: 120/80 | M52: Bình thường | N52: Bình thường | O52: Bình thường | P52: Bình thường | Q52: Bình thường | R52: Thoái hóa cột sống thắt lưng | S52: Bình thường | T52: Bình thường | U52: Bình thường | V52: Lão thị hai mắt | W52: Bình thường | X52: Sức nhai 86% | Y52: Bình thường | AA52: 3 | AC52: Khám chuyên khoa Cơ xương khớp, Mắt, Răng hàm mặt, Tập thể dục, Giảm cân, Hạn chế chất ngọt béo
A53: 59 | B53: 76 | C53: Nguyễn Văn Sơn | D53: 1965 | E53: =C53&" "&D53 -> Nguyễn Văn Sơn 1965 | F53: 53 | G53: 54 | H53: Nam | I53: Phòng Khảo thí - Đảm bảo chất lượng | J53: 160 | K53: 46 | L53: 100/70 | M53: Bình thường | N53: Bình thường | O53: Bình thường | P53: Bình thường | Q53: Bình thường | R53: Bình thường | S53: Bình thường | T53: Bình thường | U53: Bình thường | V53: Lão thị hai mắt | W53: Viêm mũi dị ứng | X53: Sức nhai 80% | Y53: Bình thường | AA53: 3 | AC53: Khám chuyên khoa Mắt, Tai mũi họng, Răng hàm mặt, Tăng cường dinh dưỡng
A54: 60 | B54: 99 | C54: Nguyễn Yến Nhi | D54: 1989 | E54: =C54&" "&D54 -> Nguyễn Yến Nhi 1989 | F54: 29 | G54: 30 | H54: Nữ | I54: Phòng Khảo thí - Đảm bảo chất lượng | J54: 147 | K54: 45 | L54: 100/60 | M54: Bình thường | N54: Bình thường | O54: Bình thường | P54: Bình thường | Q54: Bình thường | R54: Bình thường | S54: Bình thường | T54: Bình thường | U54: Bình thường | V54: Tật khúc xạ hai mắt | W54: Viêm mũi dị ứng | X54: Sức nhai 100% | Y54: Bình thường | AA54: 3 | AC54: Khám chuyên khoa Mắt, Tai mũi họng
A55: 61 | B55: 70 | C55: Vũ Thị Thu Thủy | D55: 1986 | E55: =C55&" "&D55 -> Vũ Thị Thu Thủy 1986 | F55: 32 | G55: 33 | H55: Nữ | I55: Phòng Khảo thí - Đảm bảo chất lượng | J55: 151 | K55: 52 | L55: 130/80 | M55: Bình thường | N55: Bình thường | O55: Viêm gan siêu vi B | P55: Bình thường | Q55: Bình thường | R55: Bình thường | S55: Bình thường | T55: Bình thường | U55: Tiền căn sanh mổ 2014 | V55: Bình thường | W55: Bình thường | X55: Sức nhai 100% | Y55: Bình thường | AA55: 3 | AC55: Khám chuyên khoa Gan mật
A56: 62 | B56: 64 | C56: Nguyễn Chí Nhân | D56: 1978 | E56: =C56&" "&D56 -> Nguyễn Chí Nhân 1978 | F56: 40 | G56: 41 | H56: Nam | I56: Phòng Khảo thí - Đảm bảo chất lượng | J56: 170 | K56: 49 | L56: 110/70 | M56: Bình thường | N56: Bình thường | O56: Bình thường | P56: Bình thường | Q56: Bình thường | R56: Bình thường | S56: Bình thường | T56: Bình thường | U56: Bình thường | V56: Bình thường | W56: Bình thường | X56: Sức nhai 98% | Y56: Bình thường | AA56: 2 | AC56: Tăng cường dinh dưỡng
A57: 63 | B57: 52 | C57: Nguyễn Thị Hoa | D57: 1965 | E57: =C57&" "&D57 -> Nguyễn Thị Hoa 1965 | F57: 53 | G57: 54 | H57: Nữ | I57: Phòng Tổ chức - Hành chính - Tổng hợp | J57: 155 | K57: 58 | L57: 130/80 | M57: Bình thường | N57: Bình thường | O57: Hội chứng dạ dày | P57: Bình thường | Q57: Bình thường | R57: Bình thường | S57: Bình thường | T57: Bình thường | U57: Bình thường | V57: Lão thị hai mắt | W57: Bình thường | X57: Sức nhai 80% | Y57: Bình thường | AA57: 3 | AC57: Khám chuyên khoa Tiêu hóa, Mắt, Răng hàm mặt, Tập thể dục, Hạn chế chất ngọt béo
A58: 64 | B58: 98 | C58: Thân Thị Nhung | D58: 1991 | E58: =C58&" "&D58 -> Thân Thị Nhung 1991 | F58: 27 | G58: 28 | H58: Nữ | I58: Phòng Thiết bị - Vật tư | J58: 165 | K58: 56 | L58: 110/70 | M58: Bình thường | N58: Bình thường | O58: Bình thường | P58: Bình thường | Q58: Bình thường | R58: Bình thường | S58: Bình thường | T58: Bình thường | U58: Bình thường | V58: Tật khúc xạ hai mắt | W58: Bình thường | X58: Sâu răng | Y58: Viêm da vùng lưng | AA58: 3 | AC58: Khám chuyên khoa Mắt, Răng hàm mặt, Da liễu
A59: 65 | B59: 49 | C59: Huỳnh Thị Xuân Mai | D59: 1970 | E59: =C59&" "&D59 -> Huỳnh Thị Xuân Mai 1970 | F59: 48 | G59: 49 | H59: Nữ | I59: Phòng Thiết bị - Vật tư | J59: 151 | K59: 50 | L59: 110/70 | M59: Bình thường | N59: Bình thường | O59: Bình thường | P59: Bình thường | Q59: Tiền căn cường giáp | R59: Bình thường | S59: Bình thường | T59: Bình thường | U59: Tiền căn sanh mổ 1995, 2000 | V59: Lão thị hai mắt | W59: Bình thường | X59: Sức nhai 90% | Y59: Bình thường | Z59: Bình thường | AA59: 3 | AC59: Khám chuyên khoa Mắt, Răng hàm mặt, Kiểm tra lại công thức máu
A60: 66 | B60: 293 | C60: Trần Thị Phương Oanh | D60: 1981 | E60: =C60&" "&D60 -> Trần Thị Phương Oanh 1981 | F60: 37 | G60: 38 | H60: Nữ | I60: Phòng Thiết bị - Vật tư | J60: 153 | K60: 50 | L60: 110/70 | M60: Bình thường | N60: Bình thường | O60: Bình thường | P60: Bình thường | Q60: Bình thường | R60: Bình thường | S60: Bình thường | T60: Bình thường | U60: Tiền căn phẫu thuật hẹp niệu quản + U xơ tử cung | V60: Bình thường | W60: Bình thường | X60: Sức nhai 90% | Y60: Bình thường | Z60: Bình thường | AA60: 3 | AC60: Khám chuyên khoa Thận, Răng hàm mặt
A61: 67 | B61: 93 | C61: Nguyễn Văn Chiến | D61: 1974 | E61: =C61&" "&D61 -> Nguyễn Văn Chiến 1974 | F61: 44 | G61: 45 | H61: Nam | I61: Phòng Thiết bị - Vật tư | J61: 171 | K61: 64 | L61: 100/60 | M61: Bình thường | N61: Bình thường | O61: Bình thường | P61: Bình thường | Q61: Bình thường | R61: Bình thường | S61: Bình thường | T61: Bình thường | U61: Bình thường | V61: Cận thị | W61: Bình thường | X61: Sức nhai 95% | Y61: Bình thường | AA61: 2 | AC61: Khám chuyên khoa Mắt
A62: 68 | B62: 92 | C62: Lâm Viết Dũng | D62: 1976 | E62: =C62&" "&D62 -> Lâm Viết Dũng 1976 | F62: 42 | G62: 43 | H62: Nam | I62: Phòng Thiết bị - Vật tư | J62: 164 | K62: 82 | L62: 120/80 | M62: Bình thường | N62: Bình thường | O62: Bình thường | P62: Bình thường | Q62: Bình thường | R62: Bình thường | S62: Bình thường | T62: Bình thường | U62: Tiền căn phẫu thuật đặt nẹp xương cánh tay phải | V62: Mộng thịt hai mắt | W62: Viêm mũi dị ứng | X62: Sức nhai 100% | Y62: Bình thường | AA62: 3 | AC62: Khám chuyên khoa Mắt, Tai mũi họng, Tập thể dục, Giảm cân, Hạn chế chất ngọt béo
A63: 69 | B63: 56 | C63: Mai Thu Hương | D63: 1986 | E63: =C63&" "&D63 -> Mai Thu Hương 1986 | F63: 32 | G63: 33 | H63: Nữ | I63: Phòng Quản trị - Dịch vụ | J63: 151 | K63: 45 | L63: 110/70 | M63: Bình thường | N63: Bình thường | O63: Bình thường | P63: Bình thường | Q63: Bình thường | R63: Bình thường | S63: Bình thường | T63: Bình thường | U63: Bình thường | V63: Tật khúc xạ hai mắt | W63: Bình thường | X63: Sức nhai 100% | Y63: Bình thường | Z63: Bình thường | AA63: 2 | AC63: Khám chuyên khoa Mắt
A64: 70 | B64: 223 | C64: Nguyễn Văn Thành | D64: 1974 | E64: =C64&" "&D64 -> Nguyễn Văn Thành 1974 | F64: 44 | G64: 45 | H64: Nam | I64: Phòng Quản trị - Dịch vụ | J64: 157 | K64: 56 | L64: 120/80 | M64: Bình thường | N64: Bình thường | O64: Bình thường | P64: Bình thường | Q64: Tiểu đường tuýp 2 đang điều trị | R64: Bình thường | S64: Bình thường | T64: Bình thường | U64: Bình thường | V64: Giảm thị lực mắt phải | W64: Bình thường | X64: Sức nhai 90% | Y64: Sẹo vùng thái dương phải | AA64: 3 | AC64: Khám chuyên khoa Nội tiết, Mắt, Răng hàm mặt, Kiểm tra lại công thức máu
A65: 71 | B65: 11 | C65: Nguyễn Trọng Phú | D65: 1976 | E65: =C65&" "&D65 -> Nguyễn Trọng Phú 1976 | F65: 46 | G65: 47 | H65: Nam | I65: Phòng Quản trị - Dịch vụ | J65: 163 | K65: 80 | L65: 120/80 | M65: Bình thường | N65: Bình thường | O65: Bình thường | P65: Bình thường | Q65: Bình thường | R65: Bình thường | S65: Bình thường | T65: Bình thường | U65: Bình thường | V65: Bình thường | W65: Bình thường | X65: Sức nhai 98% | Y65: Bình thường | AA65: 3 | AC65: Tập thể dục, Giảm cân, Hạn chế chất ngọt béo
A66: 72 | B66: 46 | C66: Lê Hồng Anh Tuấn | D66: 1991 | E66: =C66&" "&D66 -> Lê Hồng Anh Tuấn 1991 | F66: 27 | G66: 28 | H66: Nam | I66: Phòng Quản trị - Dịch vụ | J66: 170 | K66: 56 | L66: 90/60 | M66: Theo dõi huyết áp thấp | N66: Bình thường | O66: HP (+) | P66: Bình thường | Q66: Bình thường | R66: Bình thường | S66: Bình thường | T66: Bình thường | U66: Bình thường | V66: Bình thường | W66: Bình thường | X66: Viêm nướu | Y66: Bình thường | AA66: 3 | AC66: Khám chuyên khoa Tiêu hóa, Răng hàm mặt, Kiểm tra lại huyết áp
A67: 73 | B67: 12 | C67: Vũ Ngọc Quang | D67: 1984 | E67: =C67&" "&D67 -> Vũ Ngọc Quang 1984 | F67: 34 | G67: 35 | H67: Nam | I67: Phòng Quản trị - Dịch vụ | J67: 170 | K67: 70 | L67: 110/70 | M67: Bình thường | N67: Bình thường | O67: Bình thường | P67: Bình thường | Q67: Bình thường | R67: Bình thường | S67: Bình thường | T67: Bình thường | U67: Tiền căn phẫu thuật trĩ ngoại | V67: Bình thường | W67: Bình thường | X67: Sức nhai 98% | Y67: Bình thường | AA67: 3 | AC67: Tập thể dục, Hạn chế chất ngọt béo
A68: 74 | B68: 10 | C68: Đỗ Văn Trong | D68: 1982 | E68: =C68&" "&D68 -> Đỗ Văn Trong 1982 | F68: 36 | G68: 37 | H68: Nam | I68: Phòng Quản trị - Dịch vụ | J68: 175 | K68: 85 | L68: 150/90 | M68: Tăng huyết áp | N68: Bình thường | O68: Bình thường | P68: Bình thường | Q68: Bình thường | R68: Bình thường | S68: Bình thường | T68: Bình thường | U68: Bình thường | V68: Bình thường | W68: Bình thường | X68: Sức nhai 80% | Y68: Bình thường | AA68: 3 | AC68: Khám chuyên khoa Răng hàm mặt, Tim mạch, Tập thể dục, Giảm cân
A69: 75 | B69: 16 | C69: Giáp Văn Thịnh | D69: 1982 | E69: =C69&" "&D69 -> Giáp Văn Thịnh 1982 | F69: 36 | G69: 37 | H69: Nam | I69: Phòng Quản trị - Dịch vụ | J69: 172 | K69: 74 | L69: 120/80 | M69: Bình thường | N69: Bình thường | O69: Bình thường | P69: Bình thường | Q69: Bình thường | R69: Bình thường | S69: Bình thường | T69: Bình thường | U69: Bình thường | V69: Bình thường | W69: Bình thường | X69: Sức nhai 98% | Y69: Bình thường | AA69: 1 | AC69: Sức khỏe tốt
A70: 76 | B70: 88 | C70: Dương Thị Thuỷ | D70: 1989 | E70: =C70&" "&D70 -> Dương Thị Thuỷ 1989 | F70: 29 | G70: 30 | H70: Nữ | I70: Phòng Quản trị - Dịch vụ | J70: 142 | K70: 38 | L70: 110/70 | M70: Bình thường | N70: Bình thường | O70: Bình thường | P70: Bình thường | Q70: Bình thường | R70: Bình thường | S70: Bình thường | T70: Bình thường | U70: Bình thường | V70: Tật khúc xạ hai mắt | W70: Bình thường | X70: Sức nhai 100% | Y70: Bình thường | AA70: 5 | AB70: Chiều cao | AC70: Khám chuyên khoa Mắt
A71: 77 | B71: 18 | C71: Tạ Quốc Tấn | D71: 1971 | E71: =C71&" "&D71 -> Tạ Quốc Tấn 1971 | F71: 47 | G71: 48 | H71: Nam | I71: Phòng Quản trị - Dịch vụ | J71: 162 | K71: 63 | L71: 110/80 | M71: Bình thường | N71: Bình thường | O71: Bình thường | P71: Bình thường | Q71: Bình thường | R71: Bình thường | S71: Bình thường | T71: Bình thường | U71: Bình thường | V71: Viễn thị | W71: Bình thường | X71: Sức nhai 95% | Y71: Bình thường | AA71: 2 | AC71: Khám chuyên khoa Mắt
A72: 78 | B72: 333 | C72: Huỳnh Thị Thu Hương | D72: 1964 | E72: =C72&" "&D72 -> Huỳnh Thị Thu Hương 1964 | F72: 54 | G72: 55 | H72: Nữ | I72: Phòng Quản trị - Dịch vụ | J72: 154 | K72: 75 | L72: 120/80 | M72: Suy nút xoay (đặt máy tạo nhịp 2016) | N72: Bình thường | O72: Bình thường | P72: Bình thường | Q72: Bình thường | R72: Bình thường | S72: Bình thường | T72: Bình thường | U72: Bình thường | V72: Lão thị hai mắt | W72: Viêm xoang mạn | X72: Sức nhai 70% | Y72: Bình thường | AA72: 4 | AB72: Giảm sức nhai | AC72: Khám chuyên khoa Tim mạch, Mắt, Tai mũi họng, Răng hàm mặt, Tập thể dục, Giảm cân, Hạn chế chất ngọt béo
A73: 79 | B73: 25 | C73: Trần Thị Kim Loan | D73: 1965 | E73: =C73&" "&D73 -> Trần Thị Kim Loan 1965 | F73: 53 | G73: 54 | H73: Nữ | I73: Phòng Quản trị - Dịch vụ | J73: 148 | K73: 41 | L73: 110/70 | M73: Bình thường | N73: Bình thường | O73: Rối loạn tiêu hóa | P73: Bình thường | Q73: Bình thường | R73: Bình thường | S73: Bình thường | T73: Bình thường | U73: Tiền căn phẫu thuật u xơ tử cung | V73: Theo dõi đục thủy tinh thể mắt trái, Lão thị hai mắt | W73: Viêm mũi dị ứng | X73: Sức nhai 78% | Y73: Bình thường | AA73: 3 | AC73: Khám chuyên khoa Tiêu hóa, Mắt, Tai mũi họng, Răng hàm mặt, Gan mật
A74: 80 | B74: 24 | C74: Thi Thị Phím | D74: 1964 | E74: =C74&" "&D74 -> Thi Thị Phím 1964 | F74: 54 | G74: 55 | H74: Nữ | I74: Phòng Quản trị - Dịch vụ | J74: 147 | K74: 53 | L74: 110/80 | M74: Bình thường | N74: Bình thường | O74: Bình thường | P74: Bình thường | Q74: Bình thường | R74: Đau nhức các khớp | S74: Bình thường | T74: Bình thường | U74: Bình thường | V74: Bình thường | W74: Bình thường | X74: Sức nhai 78% | Y74: Bình thường | Z74: Bình thường | AA74: 3 | AC74: Khám chuyên khoa Răng hàm mặt, Gan mật, Thận, Cơ xương khớp, Tập thể dục, Giảm cân, Hạn chế chất ngọt béo
A75: 81 | B75: 30 | C75: Trang Thị Minh | D75: 1964 | E75: =C75&" "&D75 -> Trang Thị Minh 1964 | F75: 54 | G75: 55 | H75: Nữ | I75: Phòng Quản trị - Dịch vụ | J75: 159 | K75: 63 | L75: 130/80 | M75: Bình thường | N75: Bình thường | O75: Bình thường | P75: Bình thường | Q75: Bình thường | R75: Mất đốt 1 ngón 1, đốt 2,3 ngón 2 bàn tay phải | S75: Bình thường | T75: Bình thường | U75: Bình thường | V75: Bình thường | W75: Bình thường | X75: Sức nhai 96% | Y75: Bình thường | Z75: Bình thường | AA75: 3 | AC75: Mất đốt cũ
A76: 82 | B76: 26 | C76: Nguyễn Thị Thu Trang | D76: 1967 | E76: =C76&" "&D76 -> Nguyễn Thị Thu Trang 1967 | F76: 51 | G76: 52 | H76: Nữ | I76: Phòng Quản trị - Dịch vụ | J76: 148 | K76: 62 | L76: 140/90 | M76: Theo dõi tăng huyết áp | N76: Bình thường | O76: Tiền căn viêm hang vị | P76: Bình thường | Q76: Bình thường | R76: Bình thường | S76: Bình thường | T76: Bình thường | U76: Tiền căn phẫu thuật ruột thừa | V76: Tật khúc xạ hai mắt | W76: Viêm xoang mạn | X76: Sức nhai 78% | Y76: Bình thường | AA76: 5 | AB76: Mắt (9/20) | AC76: Khám chuyên khoa Mắt, Tai mũi họng, Răng hàm mặt, Kiểm tra lại huyết áp, Tập thể dục, Giảm cân, Hạn chế chất ngọt béo
A77: 83 | B77: 28 | C77: Trần Thị Thu | D77: 1971 | E77: =C77&" "&D77 -> Trần Thị Thu 1971 | F77: 47 | G77: 48 | H77: Nữ | I77: Phòng Quản trị - Dịch vụ | J77: 158 | K77: 56 | L77: 130/80 | M77: Bình thường | N77: Bình thường | O77: Bình thường | P77: Bình thường | Q77: Bình thường | R77: Bình thường | S77: Bình thường | T77: Bình thường | V77: Tật khúc xạ + Lão thị hai mắt | W77: Amydal quá phát | X77: Sức nhai 90% | Z77: Bình thường | AA77: 2 | AC77: Khám chuyên khoa Mắt, Tai mũi họng, Răng hàm mặt
A78: 84 | B78: 31 | C78: Thân Thị Quyết | D78: 1966 | E78: =C78&" "&D78 -> Thân Thị Quyết 1966 | F78: 52 | G78: 53 | H78: Nữ | I78: Phòng Quản trị - Dịch vụ | J78: 152 | K78: 41 | L78: 120/80 | M78: Bình thường | N78: Bình thường | O78: Bình thường | P78: Bình thường | Q78: Nhân giáp | R78: Bình thường | S78: Bình thường | T78: Bình thường | U78: Bình thường | V78: Bình thường | W78: Viêm mũi dị ứng | X78: Sức nhai 100% | Y78: Bình thường | AA78: 2 | AC78: Khám chuyên khoa Nội tiết, Tai mũi họng, Tăng cường dinh dưỡng, Kiểm tra lại công thức máu
A79: 85 | B79: 392 | C79: Nguyễn Lê Hồng Điệp | D79: 1968 | E79: =C79&" "&D79 -> Nguyễn Lê Hồng Điệp 1968 | F79: 50 | G79: 51 | H79: Nữ | I79: Phòng Quản trị - Dịch vụ | J79: 148 | K79: 55 | L79: 170/100 | M79: Tăng huyết áp | N79: Bình thường | O79: Bình thường | P79: Bình thường | Q79: Bình thường | R79: Bình thường | S79: Bình thường | T79: Bình thường | U79: Tiền căn phẫu thuật hội chứng ống cổ tay phải | V79: Tật khúc xạ hai mắt | W79: Bình thường | X79: Sức nhai 100% | Y79: Bình thường | AA79: 4 | AB79: Huyết áp | AC79: Khám chuyên khoa Tim mạch, Mắt, Tập thể dục, Giảm cân
A80: 86 | B80: 19 | C80: Huỳnh Thị Thu Nga | D80: 1965 | E80: =C80&" "&D80 -> Huỳnh Thị Thu Nga 1965 | F80: 53 | G80: 54 | H80: Nữ | I80: Phòng Quản trị - Dịch vụ | J80: 155 | K80: 76 | L80: 140/90 | M80: Tăng huyết áp, Dãn tĩnh mạch chi dưới đang điều trị | N80: Bình thường | O80: Hội chứng dạ dày | P80: Bình thường | Q80: Bình thường | R80: Bình thường | S80: Bình thường | T80: Bình thường | U80: Bình thường | V80: Lão thị hai mắt | W80: Viêm mũi dị ứng | X80: Sức nhai 60% | Y80: Bình thường | AA80: 4 | AB80: Giảm sức nhai | AC80: Khám chuyên khoa Tim mạch, Mắt, Tai mũi họng, Răng hàm mặt, Tiêu hóa, Tập thể dục, Giảm cân, Hạn chế chất ngọt béo
A81: 87 | B81: 59 | C81: Lê Quang Liêm | D81: 1972 | E81: =C81&" "&D81 -> Lê Quang Liêm 1972 | F81: 46 | G81: 47 | H81: Nam | I81: Phòng Quản trị - Dịch vụ | J81: 163 | K81: 72 | L81: 140/90 | M81: Theo dõi tăng huyết áp | N81: Bình thường | O81: Bình thường | P81: Bình thường | Q81: Bình thường | R81: Tiền căn gãy xương đốt bàn ngón 4 tay trái | S81: Bình thường | T81: Bình thường | U81: Bình thường | V81: Lão thị hai mắt | W81: Bình thường | X81: Hàm giả | Y81: Bình thường | AA81: 3 | AC81: Khám chuyên khoa Mắt, Kiểm tra lại huyết áp, Tập thể dục, Giảm cân, Hạn chế chất ngọt béo
A82: 88 | B82: 117 | C82: Lê Thị Thiện | D82: 1965 | E82: =C82&" "&D82 -> Lê Thị Thiện 1965 | F82: 53 | G82: 54 | H82: Nữ | I82: Phòng Quản trị - Dịch vụ | J82: 140 | K82: 49 | L82: 120/80 | M82: Bình thường | N82: Bình thường | O82: Bình thường | P82: Bình thường | Q82: Tiểu đường tuýp 2 đang điều trị | R82: Bình thường | S82: Bình thường | T82: Bình thường | U82: Bình thường | V82: U vàng mi mắt, Lão thị | W82: Bình thường | X82: Sức nhai 90% | Y82: Bình thường | AA82: 5 | AB82: Chiều cao | AC82: Khám chuyên khoa Nội tiết, Mắt, Răng hàm mặt, Tập thể dục, Giảm cân, Hạn chế chất ngọt béo
A83: 89 | B83: 126 | C83: Đỗ Thị Bích Thủy | D83: 1968 | E83: =C83&" "&D83 -> Đỗ Thị Bích Thủy 1968 | F83: 50 | G83: 51 | H83: Nữ | I83: Phòng Quản trị - Dịch vụ | J83: 151 | K83: 69 | L83: 120/80 | M83: Bình thường | N83: Bình thường | O83: Bình thường | P83: Bình thường | Q83: Bình thường | R83: Đau nhức khớp gối phải | S83: Bình thường | T83: Bình thường | U83: Bình thường | V83: Lão thị hai mắt | W83: Bình thường | X83: Sức nhai 70% | Y83: Melasma | Z83: Bình thường | AA83: 4 | AB83: Giảm sức nhai | AC83: Khám chuyên khoa Cơ xương khớp, Mắt, Răng hàm mặt, Da liễu, Tập thể dục, Giảm cân
A84: 90 | B84: 153 | C84: Trần Thanh Quí | D84: 1953 | E84: =C84&" "&D84 -> Trần Thanh Quí 1953 | F84: 65 | G84: 66 | H84: Nam | I84: Phòng Quản trị - Dịch vụ | J84: 159 | K84: 48 | L84: 120/80 | M84: Bình thường | N84: Bình thường | O84: Bình thường | P84: Bình thường | Q84: Bình thường | R84: Bình thường | S84: Bình thường | T84: Bình thường | U84: Bình thường | V84: Tật khúc xạ hai mắt | W84: Bình thường | X84: Sức nhai 50% | Y84: Nấm móng chân hai bên | AA84: 5 | AB84: Giảm sức nhai | AC84: Khám chuyên khoa Mắt, Răng hàm mặt, Da liễu
A85: 91 | B85: 378 | C85: Nguyễn Xuân Lợi | D85: 1986 | E85: =C85&" "&D85 -> Nguyễn Xuân Lợi 1986 | F85: 32 | G85: 33 | H85: Nam | I85: Phòng Quản trị - Dịch vụ | J85: 157 | K85: 50 | L85: 120/80 | M85: Bình thường | N85: Bình thường | O85: Bình thường | P85: Bình thường | Q85: Bình thường | R85: Bình thường | S85: Bình thường | T85: Bình thường | U85: Bình thường | V85: Bình thường | W85: Bình thường | X85: Sức nhai 100% | Y85: Chàm hai bàn chân mạn | AA85: 3 | AC85: Khám chuyên khoa Da liễu
A86: 92 | B86: 191 | C86: Ninh Đỗ Hiệp | D86: 1986 | E86: =C86&" "&D86 -> Ninh Đỗ Hiệp 1986 | F86: 32 | G86: 33 | H86: Nam | I86: Phòng Quản trị - Dịch vụ | J86: 172 | K86: 90 | L86: 120/80 | M86: Bình thường | N86: Bình thường | O86: Bình thường | P86: Bình thường | Q86: Bình thường | R86: Bình thường | S86: Bình thường | T86: Bình thường | U86: Bình thường | V86: Tật khúc xạ hai mắt | W86: Bình thường | X86: Sâu răng | Y86: Bình thường | AA86: 3 | AC86: Khám chuyên khoa Mắt, Răng hàm mặt, Tập thể dục, Giảm cân
A87: 93 | B87: 7 | C87: Trần Văn Lý | D87: 1965 | E87: =C87&" "&D87 -> Trần Văn Lý 1965 | F87: 53 | G87: 54 | H87: Nam | I87: Phòng Công tác Chính trị - HSSV | J87: 169 | K87: 70 | L87: 110/70 | M87: Tiền căn nhồi máu cơ tim (đặt stent) | N87: Bình thường | O87: Bình thường | P87: Bình thường | Q87: Bình thường | R87: Bình thường | S87: Bình thường | T87: Bình thường | U87: Bình thường | V87: Mộng thịt + Lão thị hai mắt | W87: Bình thường | X87: Hàm giả | Y87: Bình thường | AA87: 3 | AC87: Khám chuyên khoa Mắt, Gan mật
A88: 94 | B88: 164 | C88: Nguyễn Trung Dũng | D88: 1982 | E88: =C88&" "&D88 -> Nguyễn Trung Dũng 1982 | F88: 36 | G88: 37 | H88: Nam | I88: Phòng Công tác Chính trị - HSSV | J88: 165 | K88: 66 | L88: 130/80 | M88: Bình thường | N88: Bình thường | O88: Bình thường | P88: Bình thường | Q88: Bình thường | R88: Bình thường | S88: Bình thường | T88: Bình thường | U88: Bình thường | V88: Mộng thịt mắt trái | W88: Bình thường | X88: Sức nhai 90% | Y88: Bình thường | AA88: 2 | AC88: Khám chuyên khoa Mắt, Răng hàm mặt
A89: 95 | B89: 82 | C89: Hoàng Ngọc Cảnh | D89: 1958 | E89: =C89&" "&D89 -> Hoàng Ngọc Cảnh 1958 | F89: 60 | G89: 61 | H89: Nam | I89: Phòng Công tác Chính trị - HSSV | J89: 167 | K89: 54 | L89: 120/70 | M89: Bình thường | N89: Bình thường | O89: Bình thường | P89: Bình thường | Q89: Bình thường | R89: Bình thường | S89: Bình thường | T89: Bình thường | U89: Bình thường | V89: Lão thị hai mắt | W89: Bình thường | X89: Viêm nha chu | Y89: Bình thường | AA89: 2 | AC89: Khám chuyên khoa Mắt, Răng hàm mặt
A90: 96 | B90: 81 | C90: Hà Nhật Thanh | D90: 1962 | E90: =C90&" "&D90 -> Hà Nhật Thanh 1962 | F90: 53 | G90: 54 | H90: Nam | I90: Phòng Công tác Chính trị - HSSV | J90: 153 | K90: 55 | L90: 120/80 | M90: Tăng huyết áp đang điều trị | N90: Bình thường | O90: Bình thường | P90: Bình thường | Q90: Bình thường | R90: Bình thường | S90: Bình thường | T90: Bình thường | U90: Bình thường | V90: Lão thị hai mắt | W90: Bình thường | X90: Sức nhai 78% | Y90: Bình thường | AA90: 3 | AC90: Khám chuyên khoa Tim mạch, Mắt, Răng hàm mặt, Kiểm tra lại công thức máu
A91: 97 | B91: 84 | C91: Nguyễn Ngọc Hiệp | D91: 1973 | E91: =C91&" "&D91 -> Nguyễn Ngọc Hiệp 1973 | F91: 45 | G91: 46 | H91: Nam | I91: Phòng Công tác Chính trị - HSSV | J91: 170 | K91: 85 | L91: 130/80 | M91: Bình thường | N91: Bình thường | O91: Bình thường | P91: Bình thường | Q91: Bình thường | R91: Bình thường | S91: Bình thường | T91: Bình thường | U91: Bình thường | V91: Nhược thị mắt phải | W91: Bình thường | X91: Sức nhai 86% | Y91: Bình thường | AA91: 4 | AB91: Mắt (11/20) | AC91: Khám chuyên khoa Mắt, Răng hàm mặt, Tập thể dục, Giảm cân
A92: 98 | B92: 85 | C92: Phan Đức Long | D92: 1974 | E92: =C92&" "&D92 -> Phan Đức Long 1974 | F92: 44 | G92: 45 | H92: Nam | I92: Phòng Công tác Chính trị - HSSV | J92: 160 | K92: 58 | L92: 120/80 | M92: Bình thường | N92: Bình thường | O92: Bình thường | P92: Bình thường | Q92: Bình thường | R92: Bình thường | S92: Bình thường | T92: Bình thường | U92: Bình thường | V92: Lão thị hai mắt | W92: Bình thường | X92: Sức nhai 80% | Y92: Bình thường | AA92: 3 | AC92: Khám chuyên khoa Mắt, Răng hàm mặt
A93: 99 | B93: 104 | C93: Nguyễn Tất Thắng | D93: 1966 | E93: =C93&" "&D93 -> Nguyễn Tất Thắng 1966 | F93: 52 | G93: 53 | H93: Nam | I93: Phòng Công tác Chính trị - HSSV | J93: 171 | K93: 68 | L93: 130/80 | M93: Bình thường | N93: Bình thường | O93: Bình thường | P93: Bình thường | Q93: Bình thường | R93: Bình thường | S93: Bình thường | T93: Bình thường | U93: Bình thường | V93: Lão thị hai mắt | W93: Bình thường | X93: Sức nhai 98% | Y93: Bình thường | AA93: 3 | AC93: Khám chuyên khoa Mắt, Thận, Tập thể dục, Hạn chế chất ngọt béo
A94: 100 | B94: 101 | C94: Phạm Thị Lê Chi | D94: 1980 | E94: =C94&" "&D94 -> Phạm Thị Lê Chi 1980 | F94: 38 | G94: 39 | H94: Nữ | I94: Phòng Công tác Chính trị - HSSV | J94: 156 | K94: 50 | L94: 100/60 | M94: Bình thường | N94: Bình thường | O94: Bình thường | P94: Bình thường | Q94: Bướu giáp đơn thuần | R94: Bình thường | S94: Bình thường | T94: Bình thường | V94: Bình thường | W94: Bình thường | X94: Sâu răng | AA94: 2 | AC94: Khám chuyên khoa Răng hàm mặt, Nội tiết
A95: 101 | B95: 96 | C95: Phạm Huy Hoàng | D95: 1984 | E95: =C95&" "&D95 -> Phạm Huy Hoàng 1984 | F95: 34 | G95: 35 | H95: Nam | I95: Phòng Thanh tra - Pháp chế | J95: 174 | K95: 65 | L95: 120/80 | M95: Bình thường | N95: Bình thường | O95: Bình thường | P95: Bình thường | Q95: Bình thường | R95: Bình thường | S95: Bình thường | T95: Bình thường | U95: Bình thường | V95: Tật khúc xạ hai mắt | W95: Viêm mũi dị ứng | X95: Sức nhai 100% | Y95: Bình thường | AA95: 2 | AC95: Khám chuyên khoa Mắt, Tai mũi họng
A96: 102 | B96: 86 | C96: Lê Thị Nữ | D96: 1967 | E96: =C96&" "&D96 -> Lê Thị Nữ 1967 | F96: 51 | G96: 52 | H96: Nữ | I96: Phòng Công tác Chính trị - HSSV | J96: 151 | K96: 50 | L96: 130/80 | M96: Bình thường | N96: Bình thường | O96: Bình thường | P96: Bình thường | Q96: Bình thường | R96: Bình thường | S96: Bình thường | T96: Bình thường | U96: Bình thường | V96: Tật khúc xạ + Lão thị hai mắt | W96: Bình thường | X96: Sức nhai 90% | Y96: Bình thường | Z96: Bình thường | AA96: 3 | AC96: Khám chuyên khoa Mắt, Răng hàm mặt, Sản phụ khoa, Kiểm tra lại công thức máu
A97: 103 | B97: 83 | C97: Bùi Hiền Lương | D97: 1958 | E97: =C97&" "&D97 -> Bùi Hiền Lương 1958 | F97: 60 | G97: 61 | H97: Nam | I97: Phòng Công tác Chính trị - HSSV | J97: 162 | K97: 74 | L97: 150/90 | M97: Tăng huyết áp đang điều trị | N97: Bình thường | O97: Bình thường | P97: Bình thường | Q97: Bình thường | R97: Bình thường | S97: Bình thường | T97: Bình thường | U97: Bình thường | V97: Lão thị hai mắt | W97: Bình thường | X97: Sức nhai 80% | Y97: Bình thường | AA97: 3 | AC97: Khám chuyên khoa Tim mạch, Mắt, Răng hàm mặt, Tập thể dục, Giảm cân
A98: 104 | B98: 278 | C98: Bùi Thị Dương | D98: 1978 | E98: =C98&" "&D98 -> Bùi Thị Dương 1978 | F98: 40 | G98: 41 | H98: Nữ | I98: Phòng Công tác Chính trị - HSSV | J98: 154 | K98: 51 | L98: 90/60 | M98: Theo dõi huyết áp thấp | N98: Bình thường | O98: Bình thường | P98: Bình thường | Q98: Bình thường | R98: Đau mỏi khớp gối hai bên | S98: Bình thường | T98: Bình thường | U98: Bình thường | V98: Tật khúc xạ hai mắt | W98: Bình thường | X98: Sức nhai 100% | Y98: Bình thường | Z98: Bình thường | AA98: 3 | AC98: Khám chuyên khoa Mắt, Cơ xương khớp, Gan mật, Kiểm tra lại huyết áp
A99: 105 | B99: 67 | C99: Trịnh Tuấn Vũ | D99: 1973 | E99: =C99&" "&D99 -> Trịnh Tuấn Vũ 1973 | F99: 45 | G99: 46 | H99: Nam | I99: Phòng Công tác Chính trị - HSSV | J99: 164 | K99: 76 | L99: 130/80 | M99: Bình thường | N99: Bình thường | O99: Bình thường | P99: Bình thường | Q99: Bình thường | R99: Bình thường | S99: Bình thường | T99: Bình thường | U99: Tiền căn phẫu thuật cắt lách do võ tạng | V99: Mộng thịt hai mắt | W99: Viêm mũi dị ứng | X99: Sâu răng | Y99: Cơ địa sẹo lồi | AA99: 2 | AC99: Khám chuyên khoa Mắt, Tai mũi họng, Răng hàm mặt, Tập thể dục, Giảm cân, Kiểm tra lại công thức máu
A100: 106 | B100: 15 | C100: Nguyễn Thị Kim Anh | D100: 1975 | E100: =C100&" "&D100 -> Nguyễn Thị Kim Anh 1975 | F100: 43 | G100: 44 | H100: Nữ | I100: Phòng Công tác Chính trị - HSSV | J100: 159 | K100: 52 | L100: 100/60 | M100: Bình thường | N100: Bình thường | O100: Bình thường | P100: Tiền căn tán sỏi | Q100: Bình thường | R100: Bình thường | S100: Bình thường | T100: Bình thường | U100: Bình thường | V100: Lão thị hai mắt | W100: Viêm mũi dị ứng | X100: Sức nhai 100% | Y100: Chàm hai bàn tay mạn | Z100: Bình thường | AA100: 3 | AC100: Khám chuyên khoa Mắt, Tai mũi họng, Da liễu, Thận
...

Sheet ĐĂNGKÝ2018)
A2: STT | B2: ID | C2: HỌ VÀ TÊN | D2: ĐƠN VỊ Cũ | G2: ĐƠN VỊ Cũ | M2: STT | O2: ĐƠN VỊ Cũ | P2: NAM | S2: NỮ | U2: Khám tổng quát | V2: Pap's mear | W2: X-Quang | X2: X-Quang CSTL | Y2: Siêu âm Tuyến giáp | Z2: Siêu âm nhũ | AA2: Siêu âm tổng quát | AB2: Điện tim | AC2: Huyết đồ | AD2: TPTNT | AE2: Glucose | AF2: TPTNT | AG2: ABO | AH2: T3,T4, TSH | AI2: Ure+ Cre | AJ2: Acid Uric | AK2: SGOT-SGPT | AL2: GGT | AM2: Bộ mỡ 4 thông số | AN2: HBA1C | AO2: HP-TEST | AP2: HBsAg | AQ2: Anti HBs | AR2: HCV | AS2: Anti HCV | AT2: PSA | AU2: AFP | AV2: CEA(Tq,Vú ,Ctc) | AW2: CA125(Buồng trứng ) | AX2: CA 15.3(vú) | AY2: CA.72.4 (dạ dày) | AZ2: CYFRA 21.1(phổi ,bàng quang ) | BA2: CA 19.9(tiêu hóa) | BB2: ion đồ
E3: MÃ SỐ BHYT | F3: NĂM SINH | J3: NĂM SINH | L3: MÃ SỐ BHYT | N3: mới | U3: 70000 | V3: 60000 | W3: 60000 | X3: 40000 | Y3: 60000 | Z3: 60000 | AA3: 60000 | AB3: Miễn phí | AC3: 50000 | AD3: 45000 | AE3: 40000 | AF3: 45000 | AG3: 80000 | AI3: 50000 | AJ3: 40000 | AK3: 1 | AL3: 50000 | AM3: 100000 | AN3: 110000 | AO3: 150000 | AP3: 80000 | AQ3: 150000 | AR3: 110000 | AS3: 100000 | AT3: 60000 | AU3: 90000 | AV3: 140000 | AW3: 190000 | AX3: 190000 | AY3: 190000 | AZ3: 170000 | BA3: 190000
A4: 1 | B4: 62 | C4: Phạm Hữu Lộc | D4: BAN GIÁM HIỆU | E4: =VLOOKUP(C4,'DANHSACHKSK 2019MSBHYT'!$D$12:$E$336,4,0) -> #REF! | F4: 1966 | G4: BAN GIÁM HIỆU | H4: Phạm Hữu | I4: Lộc | J4: 1966 | K4: =C4&" "&J4 -> Phạm Hữu Lộc 1966 | L4: =VLOOKUP(K4,'DANHSACHKSK 2019MSBHYT'!#REF!,2,0) -> #REF! | M4: 1 | N4: BAN GIÁM HIỆU | O4: BAN GIÁM HIỆU | P4: 52 | R4: 1966 | U4: x | W4: x | AA4: x | AB4: 1 | AC4: x | AD4: x | AE4: x | AF4: x | AI4: 1 | AK4: 1 | AL4: 1 | AM4: 1 | AN4: 1 | AT4: 1 | AU4: 1 | AZ4: 1
A5: 3 | B5: 125 | C5: Đinh Văn Đệ | D5: BAN GIÁM HIỆU | E5: =VLOOKUP(C5,'DANHSACHKSK 2019MSBHYT'!$D$12:$E$336,4,0) -> #REF! | F5: 1974 | G5: BAN GIÁM HIỆU | H5: Đinh Văn | I5: Đệ | J5: 1974 | K5: =C5&" "&J5 -> Đinh Văn Đệ 1974 | L5: =VLOOKUP(K5,'DANHSACHKSK 2019MSBHYT'!#REF!,2,0) -> #REF! | M5: 3 | N5: BAN GIÁM HIỆU | O5: BAN GIÁM HIỆU | P5: 46 | R5: 1972 | U5: x | W5: x | AA5: x | AC5: x | AD5: x | AE5: x | AF5: x | AI5: 1 | AK5: 1 | AL5: 1 | AM5: 1 | AN5: 1 | AT5: 1 | AU5: 1 | AZ5: 1
A6: 4 | B6: 3 | C6: Đinh Hồng Minh | D6: BAN GIÁM HIỆU | E6: =VLOOKUP(C6,'DANHSACHKSK 2019MSBHYT'!$D$12:$E$336,4,0) -> #REF! | F6: 1969 | G6: BAN GIÁM HIỆU | H6: Đinh Hồng | I6: Minh | J6: 1969 | K6: =C6&" "&J6 -> Đinh Hồng Minh 1969 | L6: =VLOOKUP(K6,'DANHSACHKSK 2019MSBHYT'!#REF!,2,0) -> #REF! | M6: 4 | N6: #N/A | O6: BAN GIÁM HIỆU | Q6: 1969 | R6: 1969 | S6: 48 | T6: 1969 | U6: x | V6: 1 | W6: x | Y6: 1 | AA6: 1 | AB6: 1 | AC6: x | AD6: x | AE6: x | AF6: x | AI6: 1 | AJ6: 1 | AK6: 1 | AL6: 1 | AM6: 1 | AO6: 1 | AP6: 1 | AQ6: 1 | AR6: 1 | AU6: 1 | AV6: 1 | AW6: 1 | AX6: 1 | AY6: 1 | BA6: 1
A7: 5 | B7: 5 | C7: Lê Xuân Thiện | D7: Phòng Tổ chức - Hành chính - Tổng hợp | E7: =VLOOKUP(C7,'DANHSACHKSK 2019MSBHYT'!$D$12:$E$336,4,0) -> #REF! | F7: 1965 | G7: Phòng Tổ chức - Hành chính - Tổng hợp | H7: Lê Xuân | I7: Thiện | J7: 1965 | K7: =C7&" "&J7 -> Lê Xuân Thiện 1965 | L7: =VLOOKUP(K7,'DANHSACHKSK 2019MSBHYT'!#REF!,2,0) -> #REF! | M7: 5 | N7: Phòng Tổ chức - Hành chính - Tổng hợp | O7: Phòng Tổ chức - Hành chính - Tổng hợp | P7: 53 | R7: 1965 | U7: x | W7: x | AA7: x | AC7: x | AD7: x | AE7: x
A8: 6 | B8: 32 | C8: Nguyễn Thị Bích Liễu | D8: Phòng Tổ chức - Hành chính - Tổng hợp | E8: =VLOOKUP(C8,'DANHSACHKSK 2019MSBHYT'!$D$12:$E$336,4,0) -> #REF! | F8: 1988 | G8: Phòng Tổ chức - Hành chính - Tổng hợp | H8: Nguyễn Thị Bích | I8: Liễu | J8: 1988 | K8: =C8&" "&J8 -> Nguyễn Thị Bích Liễu 1988 | L8: =VLOOKUP(K8,'DANHSACHKSK 2019MSBHYT'!#REF!,2,0) -> #REF! | M8: 6 | N8: #N/A | O8: Phòng Tổ chức - Hành chính - Tổng hợp | Q8: 1988 | R8: 1988 | S8: 30 | T8: 1988 | U8: x | W8: x | AA8: x | AC8: x | AD8: x | AE8: x
A9: 7 | B9: 6 | C9: Trần Văn Cu Anh | D9: Phòng Tổ chức - Hành chính - Tổng hợp | E9: =VLOOKUP(C9,'DANHSACHKSK 2019MSBHYT'!$D$12:$E$336,4,0) -> #N/A | F9: 1964 | G9: Phòng Tổ chức - Hành chính - Tổng hợp | H9: Trần Văn Cu | I9: Anh | J9: 1964 | K9: =C9&" "&J9 -> Trần Văn Cu Anh 1964 | L9: =VLOOKUP(K9,'DANHSACHKSK 2019MSBHYT'!#REF!,2,0) -> #REF! | M9: 7 | N9: Phòng Tổ chức - Hành chính - Tổng hợp | O9: Phòng Tổ chức - Hành chính - Tổng hợp | P9: 54 | R9: 1964 | U9: x | W9: x | AA9: x | AC9: x | AD9: x | AE9: x | AF9: x | AI9: 1 | AK9: 1 | AL9: 1 | AM9: 1 | AP9: 1
A10: 8 | B10: 20 | C10: Nguyễn Tiến Hưng | D10: Phòng Tổ chức - Hành chính - Tổng hợp | E10: =VLOOKUP(C10,'DANHSACHKSK 2019MSBHYT'!$D$12:$E$336,4,0) -> #REF! | F10: 1961 | G10: Phòng Tổ chức - Hành chính - Tổng hợp | H10: Nguyễn Tiến | I10: Hưng | J10: 1961 | K10: =C10&" "&J10 -> Nguyễn Tiến Hưng 1961 | L10: =VLOOKUP(K10,'DANHSACHKSK 2019MSBHYT'!#REF!,2,0) -> #REF! | M10: 8 | N10: Phòng Tổ chức - Hành chính - Tổng hợp | O10: Phòng Tổ chức - Hành chính - Tổng hợp | P10: 59 | R10: 1959 | U10: x | W10: x | AA10: x | AC10: x | AD10: x | AE10: x
A11: 9 | B11: 33 | C11: Nguyễn Hữu Xuân Vũ | D11: Phòng Tổ chức - Hành chính - Tổng hợp | E11: =VLOOKUP(C11,'DANHSACHKSK 2019MSBHYT'!$D$12:$E$336,4,0) -> #N/A | F11: 1974 | G11: Phòng Tổ chức - Hành chính - Tổng hợp | H11: Nguyễn Hữu Xuân | I11: Vũ | J11: 1974 | K11: =C11&" "&J11 -> Nguyễn Hữu Xuân Vũ 1974 | L11: =VLOOKUP(K11,'DANHSACHKSK 2019MSBHYT'!#REF!,2,0) -> #REF! | M11: 9 | N11: Phòng Tổ chức - Hành chính - Tổng hợp | O11: Phòng Tổ chức - Hành chính - Tổng hợp | P11: 43 | R11: 1974 | U11: x | W11: x | AA11: x | AB11: 1 | AC11: x | AD11: x | AE11: x | AF11: x | AI11: 1 | AK11: 1 | AM11: 1 | AO11: 1 | AU11: 1 | BA11: 1
A12: 10 | B12: 34 | C12: Huỳnh Bá Thành | D12: Phòng Tổ chức - Hành chính - Tổng hợp | E12: =VLOOKUP(C12,'DANHSACHKSK 2019MSBHYT'!$D$12:$E$336,4,0) -> #N/A | F12: 1958 | G12: Phòng Tổ chức - Hành chính - Tổng hợp | H12: Huỳnh Bá | I12: Thành | J12: 1958 | K12: =C12&" "&J12 -> Huỳnh Bá Thành 1958 | L12: =VLOOKUP(K12,'DANHSACHKSK 2019MSBHYT'!#REF!,2,0) -> #REF! | M12: 10 | N12: Nghỉ Hưu | O12: Phòng Tổ chức - Hành chính - Tổng hợp | P12: 60 | R12: 1958 | U12: x | W12: x | AA12: x | AC12: x | AD12: x | AE12: x
A13: 11 | B13: 36 | C13: Lê Hồng Phúc | D13: Phòng Tổ chức - Hành chính - Tổng hợp | E13: =VLOOKUP(C13,'DANHSACHKSK 2019MSBHYT'!$D$12:$E$336,4,0) -> #REF! | F13: 1966 | G13: Phòng Tổ chức - Hành chính - Tổng hợp | H13: Lê Hồng | I13: Phúc | J13: 1966 | K13: =C13&" "&J13 -> Lê Hồng Phúc 1966 | L13: =VLOOKUP(K13,'DANHSACHKSK 2019MSBHYT'!#REF!,2,0) -> #REF! | M13: 11 | N13: Phòng Tổ chức - Hành chính - Tổng hợp | O13: Phòng Tổ chức - Hành chính - Tổng hợp | P13: 52 | R13: 1966 | U13: x | W13: x | AA13: x | AC13: x | AD13: x | AE13: x
A14: 12 | B14: 77 | C14: Đồng Anh Tuấn | D14: Phòng Tổ chức - Hành chính - Tổng hợp | E14: =VLOOKUP(C14,'DANHSACHKSK 2019MSBHYT'!$D$12:$E$336,4,0) -> #REF! | F14: 1983 | G14: Phòng Tổ chức - Hành chính - Tổng hợp | H14: Đồng Anh | I14: Tuấn | J14: 1983 | K14: =C14&" "&J14 -> Đồng Anh Tuấn 1983 | L14: =VLOOKUP(K14,'DANHSACHKSK 2019MSBHYT'!#REF!,2,0) -> #REF! | M14: 12 | N14: Phòng Tổ chức - Hành chính - Tổng hợp | O14: Phòng Tổ chức - Hành chính - Tổng hợp | P14: 35 | R14: 1983 | U14: x | W14: x | AA14: x | AC14: x | AD14: x | AE14: x
A15: 13 | B15: 17 | C15: Hồ Thị Tuyết | D15: Phòng Tổ chức - Hành chính - Tổng hợp | E15: =VLOOKUP(C15,'DANHSACHKSK 2019MSBHYT'!$D$12:$E$336,4,0) -> #N/A | F15: 1954 | G15: Phòng Tổ chức - Hành chính - Tổng hợp | H15: Hồ Thị | I15: Tuyết | J15: 1954 | K15: =C15&" "&J15 -> Hồ Thị Tuyết 1954 | L15: =VLOOKUP(K15,'DANHSACHKSK 2019MSBHYT'!#REF!,2,0) -> #REF! | M15: 13 | N15: #N/A | O15: Phòng Tổ chức - Hành chính - Tổng hợp | Q15: 1954 | R15: 1954 | S15: 64 | T15: 1954 | U15: x | W15: x | AA15: x | AC15: x | AD15: x | AE15: x
A16: 14 | B16: 370 | C16: Phan Ngọc Phát | D16: Phòng Tổ chức - Hành chính - Tổng hợp | E16: =VLOOKUP(C16,'DANHSACHKSK 2019MSBHYT'!$D$12:$E$336,4,0) -> #N/A | F16: 1958 | G16: Phòng Tổ chức - Hành chính - Tổng hợp | H16: Phan Ngọc | I16: Phát | J16: 1958 | K16: =C16&" "&J16 -> Phan Ngọc Phát 1958 | L16: =VLOOKUP(K16,'DANHSACHKSK 2019MSBHYT'!#REF!,2,0) -> #REF! | M16: 14 | N16: Nghỉ Hưu | O16: Phòng Tổ chức - Hành chính - Tổng hợp | P16: 60 | R16: 1958 | U16: x | W16: x | AA16: x | AC16: x | AD16: x | AE16: x
A17: 15 | B17: 8 | C17: Lê Hùng Thanh | D17: Phòng Tổ chức - Hành chính - Tổng hợp | E17: =VLOOKUP(C17,'DANHSACHKSK 2019MSBHYT'!$D$12:$E$336,4,0) -> #N/A | F17: 1960 | G17: Phòng Tổ chức - Hành chính - Tổng hợp | H17: Lê Hùng | I17: Thanh | J17: 1960 | K17: =C17&" "&J17 -> Lê Hùng Thanh 1960 | L17: =VLOOKUP(K17,'DANHSACHKSK 2019MSBHYT'!#REF!,2,0) -> #REF! | M17: 15 | N17: Phòng Tổ chức - Hành chính - Tổng hợp | O17: Phòng Tổ chức - Hành chính - Tổng hợp | P17: 58 | R17: 1960 | U17: x | W17: x | AA17: x | AB17: 1 | AC17: x | AD17: x | AE17: x | AF17: x | AI17: 1 | AJ17: 1 | AK17: 1 | AL17: 1 | AM17: 1 | AO17: 1 | AQ17: 1 | AR17: 1 | AT17: 1 | AU17: 1 | AY17: 1 | AZ17: 1 | BA17: 1
A18: 16 | B18: 13 | C18: Vũ Như Quỳnh | D18: Phòng Tổ chức - Hành chính - Tổng hợp | E18: =VLOOKUP(C18,'DANHSACHKSK 2019MSBHYT'!$D$12:$E$336,4,0) -> #REF! | F18: 1983 | G18: Phòng Tổ chức - Hành chính - Tổng hợp | H18: Vũ Như | I18: Quỳnh | J18: 1983 | K18: =C18&" "&J18 -> Vũ Như Quỳnh 1983 | L18: =VLOOKUP(K18,'DANHSACHKSK 2019MSBHYT'!#REF!,2,0) -> #REF! | M18: 16 | N18: #N/A | O18: Phòng Tổ chức - Hành chính - Tổng hợp | Q18: 1983 | R18: 1983 | S18: 35 | T18: 1983 | U18: x | W18: x | AA18: x | AC18: x | AD18: x | AE18: x
A19: 17 | B19: 14 | C19: Phan Thị Ngọc Phượng | D19: Phòng Tổ chức - Hành chính - Tổng hợp | E19: =VLOOKUP(C19,'DANHSACHKSK 2019MSBHYT'!$D$12:$E$336,4,0) -> #REF! | F19: 1980 | G19: Phòng Tổ chức - Hành chính - Tổng hợp | H19: Phan Thị Ngọc | I19: Phượng | J19: 1980 | K19: =C19&" "&J19 -> Phan Thị Ngọc Phượng 1980 | L19: =VLOOKUP(K19,'DANHSACHKSK 2019MSBHYT'!#REF!,2,0) -> #REF! | M19: 17 | N19: #N/A | O19: Phòng Tổ chức - Hành chính - Tổng hợp | Q19: 1980 | R19: 1980 | S19: 38 | T19: 1980 | U19: x | V19: 1 | W19: x | AC19: x | AD19: x | AE19: x | AF19: x
A20: 18 | B20: 55 | C20: Lưu Hoàng Hải Yến | D20: Phòng Tổ chức - Hành chính - Tổng hợp | E20: =VLOOKUP(C20,'DANHSACHKSK 2019MSBHYT'!$D$12:$E$336,4,0) -> #REF! | F20: 1985 | G20: Phòng Tổ chức - Hành chính - Tổng hợp | H20: Lưu Hoàng Hải | I20: Yến | J20: 1985 | K20: =C20&" "&J20 -> Lưu Hoàng Hải Yến 1985 | L20: =VLOOKUP(K20,'DANHSACHKSK 2019MSBHYT'!#REF!,2,0) -> #REF! | M20: 18 | N20: #N/A | O20: Phòng Tổ chức - Hành chính - Tổng hợp | Q20: 1985 | R20: 1985 | S20: 33 | T20: 1985 | U20: x | W20: x | AA20: 1 | AB20: 1 | AC20: x | AD20: x | AE20: x | AF20: x
A21: 19 | B21: 54 | C21: Thái Thị My Sa | D21: Phòng Tổ chức - Hành chính - Tổng hợp | E21: =VLOOKUP(C21,'DANHSACHKSK 2019MSBHYT'!$D$12:$E$336,4,0) -> #REF! | F21: 1988 | G21: Phòng Tổ chức - Hành chính - Tổng hợp | H21: Thái Thị My | I21: Sa | J21: 1988 | K21: =C21&" "&J21 -> Thái Thị My Sa 1988 | L21: =VLOOKUP(K21,'DANHSACHKSK 2019MSBHYT'!#REF!,2,0) -> #REF! | M21: 19 | N21: #N/A | O21: Phòng Tổ chức - Hành chính - Tổng hợp | Q21: 1988 | R21: 1988 | S21: 30 | T21: 1988 | U21: x | V21: 1 | W21: x | AA21: 1 | AB21: 1 | AC21: x | AD21: x | AE21: x | AF21: x
A22: 20 | B22: 48 | C22: Nguyễn Cao Thắng | D22: Phòng Tổ chức - Hành chính - Tổng hợp | E22: =VLOOKUP(C22,'DANHSACHKSK 2019MSBHYT'!$D$12:$E$336,4,0) -> #REF! | F22: 1984 | G22: Phòng Tổ chức - Hành chính - Tổng hợp | H22: Nguyễn Cao | I22: Thắng | J22: 1984 | K22: =C22&" "&J22 -> Nguyễn Cao Thắng 1984 | L22: =VLOOKUP(K22,'DANHSACHKSK 2019MSBHYT'!#REF!,2,0) -> #REF! | M22: 20 | N22: Phòng Tổ chức - Hành chính - Tổng hợp | O22: Phòng Tổ chức - Hành chính - Tổng hợp | P22: 34 | R22: 1984 | U22: x | W22: x | AA22: x | AC22: x | AD22: x | AE22: x
A23: 21 | B23: 21 | C23: Phạm Hữu Tấn | D23: Phòng Tổ chức - Hành chính - Tổng hợp | E23: =VLOOKUP(C23,'DANHSACHKSK 2019MSBHYT'!$D$12:$E$336,4,0) -> #N/A | F23: 1964 | G23: Phòng Tổ chức - Hành chính - Tổng hợp | H23: Phạm Hữu | I23: Tấn | J23: 1964 | K23: =C23&" "&J23 -> Phạm Hữu Tấn 1964 | L23: =VLOOKUP(K23,'DANHSACHKSK 2019MSBHYT'!#REF!,2,0) -> #REF! | M23: 21 | N23: Phòng Tổ chức - Hành chính - Tổng hợp | O23: Phòng Tổ chức - Hành chính - Tổng hợp | P23: 54 | R23: 1964 | U23: x | W23: x | AA23: x | AB23: 1 | AC23: x | AD23: x | AE23: x | AI23: 1 | AJ23: 1 | AK23: 1 | AL23: 1 | AM23: 1 | AN23: 1 | AT23: 1 | AU23: 1
A24: 22 | B24: 29 | C24: Huỳnh Thanh Nhàn | D24: Phòng Tổ chức - Hành chính - Tổng hợp | E24: =VLOOKUP(C24,'DANHSACHKSK 2019MSBHYT'!$D$12:$E$336,4,0) -> #REF! | F24: 1991 | G24: Phòng Tổ chức - Hành chính - Tổng hợp | H24: Huỳnh Thanh | I24: Nhàn | J24: 1991 | K24: =C24&" "&J24 -> Huỳnh Thanh Nhàn 1991 | L24: =VLOOKUP(K24,'DANHSACHKSK 2019MSBHYT'!#REF!,2,0) -> #REF! | M24: 22 | N24: Phòng Tổ chức - Hành chính - Tổng hợp | O24: Phòng Tổ chức - Hành chính - Tổng hợp | P24: 27 | R24: 1991 | U24: x | W24: x | AA24: x | AC24: x | AD24: x | AE24: x
A25: 23 | B25: 43 | C25: Phạm Hữu Thành Phú | D25: Phòng Tổ chức - Hành chính - Tổng hợp | E25: =VLOOKUP(C25,'DANHSACHKSK 2019MSBHYT'!$D$12:$E$336,4,0) -> #N/A | F25: 1984 | G25: Phòng Tổ chức - Hành chính - Tổng hợp | H25: Phạm Hữu Thành | I25: Phú | J25: 1984 | K25: =C25&" "&J25 -> Phạm Hữu Thành Phú 1984 | L25: =VLOOKUP(K25,'DANHSACHKSK 2019MSBHYT'!#REF!,2,0) -> #REF! | M25: 23 | N25: Phòng Tổ chức - Hành chính - Tổng hợp | O25: Phòng Tổ chức - Hành chính - Tổng hợp | P25: 34 | R25: 1984 | U25: x | W25: x | AA25: x | AC25: x | AD25: x | AE25: x
A26: 24 | B26: 51 | C26: Hồ Minh Lợi | D26: Phòng Công tác Chính trị - HSSV | E26: =VLOOKUP(C26,'DANHSACHKSK 2019MSBHYT'!$D$12:$E$336,4,0) -> #N/A | F26: 1962 | G26: Phòng Công tác Chính trị - HSSV | H26: Hồ Minh | I26: Lợi | J26: 1962 | K26: =C26&" "&J26 -> Hồ Minh Lợi 1962 | L26: =VLOOKUP(K26,'DANHSACHKSK 2019MSBHYT'!#REF!,2,0) -> #REF! | M26: 24 | N26: #N/A | O26: Phòng Công tác Chính trị - HSSV | P26: 56 | R26: 1962 | U26: x | W26: x | AC26: x | AD26: x | AE26: x
A27: 25 | B27: 180 | C27: Trần Thị Ánh Phượng | D27: Phòng Tổ chức - Hành chính - Tổng hợp | E27: =VLOOKUP(C27,'DANHSACHKSK 2019MSBHYT'!$D$12:$E$336,4,0) -> #REF! | F27: 1987 | G27: Phòng Tổ chức - Hành chính - Tổng hợp | H27: Trần Thị Ánh | I27: Phượng | J27: 1987 | K27: =C27&" "&J27 -> Trần Thị Ánh Phượng 1987 | L27: =VLOOKUP(K27,'DANHSACHKSK 2019MSBHYT'!#REF!,2,0) -> #REF! | M27: 25 | N27: #N/A | O27: Phòng Tổ chức - Hành chính - Tổng hợp | Q27: 1987 | R27: 1987 | S27: 31 | T27: 1987 | U27: x | W27: x | AA27: 1 | AC27: x | AD27: x | AE27: x | AF27: x
A28: 26 | B28: 371 | C28: Nguyễn Văn Chì | D28: Phòng Tổ chức - Hành chính - Tổng hợp | E28: =VLOOKUP(C28,'DANHSACHKSK 2019MSBHYT'!$D$12:$E$336,4,0) -> #REF! | F28: 1979 | G28: Phòng Tổ chức - Hành chính - Tổng hợp | H28: Nguyễn Văn | I28: Chì | J28: 1979 | K28: =C28&" "&J28 -> Nguyễn Văn Chì 1979 | L28: =VLOOKUP(K28,'DANHSACHKSK 2019MSBHYT'!#REF!,2,0) -> #REF! | M28: 26 | N28: Phòng Tổ chức - Hành chính - Tổng hợp | O28: Phòng Tổ chức - Hành chính - Tổng hợp | P28: 39 | R28: 1979 | U28: x | W28: x | AA28: x | AC28: x | AD28: x | AE28: x
A29: 27 | B29: 395 | C29: Lê Hồng Sơn | D29: Phòng Tổ chức - Hành chính - Tổng hợp | E29: =VLOOKUP(C29,'DANHSACHKSK 2019MSBHYT'!$D$12:$E$336,4,0) -> #N/A | F29: 1963 | G29: Phòng Tổ chức - Hành chính - Tổng hợp | H29: Lê Hồng | I29: Sơn | J29: 1963 | K29: =C29&" "&J29 -> Lê Hồng Sơn 1963 | L29: =VLOOKUP(K29,'DANHSACHKSK 2019MSBHYT'!#REF!,2,0) -> #REF! | M29: 27 | N29: Phòng Tổ chức - Hành chính - Tổng hợp | O29: Phòng Tổ chức - Hành chính - Tổng hợp | P29: 55 | R29: 1963 | U29: x | W29: x | AA29: x | AC29: x | AD29: x | AE29: x
A30: 28 | B30: 396 | C30: Nguyễn Thị Vân | D30: Phòng Tổ chức - Hành chính - Tổng hợp | E30: =VLOOKUP(C30,'DANHSACHKSK 2019MSBHYT'!$D$12:$E$336,4,0) -> #N/A | F30: 1988 | G30: Phòng Tổ chức - Hành chính - Tổng hợp | H30: Nguyễn Thị | I30: Vân | J30: 1988 | K30: =C30&" "&J30 -> Nguyễn Thị Vân 1988 | L30: =VLOOKUP(K30,'DANHSACHKSK 2019MSBHYT'!#REF!,2,0) -> #REF! | M30: 28 | N30: #N/A | O30: Phòng Tổ chức - Hành chính - Tổng hợp | Q30: 1988 | R30: 1988 | S30: 30 | T30: 1988 | U30: x | W30: x | AA30: x | AC30: x | AD30: x | AE30: x
A31: 29 | B31: 44 | C31: Nguyễn Kính | D31: Phòng Kế hoạch - Tài chính | E31: =VLOOKUP(C31,'DANHSACHKSK 2019MSBHYT'!$D$12:$E$336,4,0) -> #N/A | F31: 1965 | G31: Phòng Kế hoạch - Tài chính | H31: Nguyễn | I31: Kính | J31: 1965 | K31: =C31&" "&J31 -> Nguyễn Kính 1965 | L31: =VLOOKUP(K31,'DANHSACHKSK 2019MSBHYT'!#REF!,2,0) -> #REF! | M31: 29 | N31: Phòng Kế hoạch - Tài chính | O31: Phòng Kế hoạch - Tài chính | P31: 53 | R31: 1965 | U31: x | W31: x | AA31: 1 | AB31: 1 | AC31: x | AD31: x | AE31: x
