Workbook
Name CENTER: #REF!
Name CENTER: #REF!
Name CENTER: #REF!
Name CENTER: #REF!
Name CENTER: #REF!
Name CENTER: #REF!
Name CONGHOA: #REF!
Name CONGHOA: #REF!
Name CONGHOA: #REF!
Name CONGHOA: #REF!
Name CONGHOA: #REF!
Name CONGHOA: #REF!
Name DS: #REF!
Name DS: #REF!
Name DS: #REF!
Name DS: #REF!
Name DS: #REF!
Name DS: #REF!
Name DTH: #REF!
Name DTH: #REF!
Name DTH: #REF!
Name DTH: #REF!
Name DTH: #REF!
Name DTH: #REF!
Name DUTRU: #REF!
Name DUTRU: #REF!
Name DUTRU: #REF!
Name GTHANH: #REF!
Name GTHANH: #REF!
Name GTHANH: #REF!
Name GTHANH: #REF!
Name GTHANH: #REF!
Name GTHANH: #REF!
Name HeSo: #REF!
Name HeSo: #REF!
Name HeSo: #REF!
Name HeSo: #REF!
Name HeSo: #REF!
Name HeSo: #REF!
Name HG: #REF!
Name HG: #REF!
Name HG: #REF!
Name HG: #REF!
Name HG: #REF!
Name HG: #REF!
Name HN: #REF!
Name HN: #REF!
Name HN: #REF!
Name HN: #REF!
Name HN: #REF!
Name HN: #REF!
Name khamsuckhoe: #REF!
Name khamsuckhoe: #REF!
Name khamsuckhoe: #REF!
Name khamsuckhoe: #REF!
Name khamsuckhoe: #REF!
Name khamsuckhoe: #REF!
Name KHAMSUCKHOE2019: #REF!
Name KHAMSUCKHOE2019: #REF!
Name KHAMSUCKHOE2019: #REF!

Sheet TH
A1: STT | B1: ID | C1: SỐ | D1: Họ và tên | E1: Đơn vị | F1: Năm sinh | G1: Tuổi | I1: Giới tính | J1: Đơn vị | L1: MÃ
A2: 118 | B2: 165 | C2: 30 | D2: Trần Thanh Trúc | E2: Khoa - Khoa học cơ bản | F2: 1990 | G2: 28 | H2: =G2+1 -> 29 | I2: Nữ | J2: Khoa - Khoa học cơ bản | K2: CB | L2: =K2&""&F2&""&C2 -> CB199030
A3: 149 | B3: 207 | C3: 02 | D3: Phạm Thị Thu Hiền | E3: Khoa - Khoa học cơ bản | F3: 1988 | G3: 30 | H3: =G3+1 -> 31 | I3: Nữ | J3: Khoa - Khoa học cơ bản | K3: CB | L3: =K3&""&F3&""&C3 -> CB198802
A4: 146 | B4: 168 | C4: 03 | D4: Dương Đức Kiên | E4: Khoa - Khoa học cơ bản | F4: 1986 | G4: 32 | H4: =G4+1 -> 33 | I4: Nam | J4: Khoa - Khoa học cơ bản | K4: CB | L4: =K4&""&F4&""&C4 -> CB198603
A5: 142 | B5: 150 | C5: 04 | D5: Hà Như Mai | E5: Khoa - Khoa học cơ bản | F5: 1986 | G5: 32 | H5: =G5+1 -> 33 | I5: Nữ | J5: Khoa - Khoa học cơ bản | K5: CB | L5: =K5&""&F5&""&C5 -> CB198604
A6: 139 | B6: 151 | C6: 05 | D6: Nguyễn Thị Thuỷ | E6: Khoa - Khoa học cơ bản | F6: 1983 | G6: 35 | H6: =G6+1 -> 36 | I6: Nữ | J6: Khoa - Khoa học cơ bản | K6: CB | L6: =K6&""&F6&""&C6 -> CB198305
A7: 141 | B7: 143 | C7: 06 | D7: Giang Phi Hùng | E7: Khoa - Khoa học cơ bản | F7: 1983 | G7: 35 | H7: =G7+1 -> 36 | I7: Nam | J7: Khoa - Khoa học cơ bản | K7: CB | L7: =K7&""&F7&""&C7 -> CB198306
A8: 147 | B8: 199 | C8: 07 | D8: Nguyễn Thị Thu Hà | E8: Khoa - Khoa học cơ bản | F8: 1982 | G8: 36 | H8: =G8+1 -> 37 | I8: Nữ | J8: Khoa - Khoa học cơ bản | K8: CB | L8: =K8&""&F8&""&C8 -> CB198207
A9: 119 | B9: 189 | C9: 08 | D9: Lê Văn Bình | E9: Khoa - Khoa học cơ bản | F9: 1982 | G9: 36 | H9: =G9+1 -> 37 | I9: Nam | J9: Khoa - Khoa học cơ bản | K9: CB | L9: =K9&""&F9&""&C9 -> CB198208
A10: 137 | B10: 144 | C10: 09 | D10: Trịnh Khắc Vũ | E10: Khoa - Khoa học cơ bản | F10: 1981 | G10: 37 | H10: =G10+1 -> 38 | I10: Nam | J10: Khoa - Khoa học cơ bản | K10: CB | L10: =K10&""&F10&""&C10 -> CB198109
A11: 143 | B11: 142 | C11: 10 | D11: Nguyễn Mạnh Phương | E11: Khoa - Khoa học cơ bản | F11: 1981 | G11: 37 | H11: =G11+1 -> 38 | I11: Nam | J11: Khoa - Khoa học cơ bản | K11: CB | L11: =K11&""&F11&""&C11 -> CB198110
A12: 135 | B12: 107 | C12: 11 | D12: Nguyễn Phương Hà | E12: Khoa - Khoa học cơ bản | F12: 1979 | G12: 39 | H12: =G12+1 -> 40 | I12: Nữ | J12: Khoa - Khoa học cơ bản | K12: CB | L12: =K12&""&F12&""&C12 -> CB197911
A13: 140 | B13: 141 | C13: 12 | D13: Trần Thị Ánh Tuyết | E13: Khoa - Khoa học cơ bản | F13: 1979 | G13: 39 | H13: =G13+1 -> 40 | I13: Nữ | J13: Khoa - Khoa học cơ bản | K13: CB | L13: =K13&""&F13&""&C13 -> CB197912
... A56: 59 | B56: 76 | C56: 24 | D56: Nguyễn Văn Sơn | E56: Khoa Cơ Khí | F56: 1965 | G56: 53 | H56: =G56+1 -> 54 | I56: Nam | J56: Khoa Cơ Khí | K56: CK | L56: =K56&""&F56&""&C56 -> CK196524
C57: 25 | D57: Nguyễn Thanh Giang | E57: Khoa Cơ Khí | F57: 1977 | G57: 41 | H57: =G57+1 -> 42 | I57: Nam | J57: Khoa Cơ Khí | K57: CK | L57: =K57&""&F57&""&C57 -> CK197725
C58: 26 | D58: Nguyễn Hồng Phúc | E58: Khoa Cơ Khí | F58: 1989 | G58: 29 | H58: =G58+1 -> 30 | I58: Nam | J58: Khoa Cơ Khí | K58: CK | L58: =K58&""&F58&""&C58 -> CK198926
A59: 60 | B59: 99 | C59: 01 | D59: Nguyễn Yến Nhi | E59: Phòng Khảo thí - Đảm bảo chất lượng | F59: 1989 | G59: 29 | H59: =G59+1 -> 30 | I59: Nữ | J59: Phòng Khảo thí - Đảm bảo chất lượng | K59: CL | L59: =K59&""&F59&""&C59 -> CL198901
A60: 267 | B60: 196 | C60: 02 | D60: Lương Minh Dũng | E60: Phòng Khảo thí - Đảm bảo chất lượng | F60: 1989 | G60: 29 | H60: =G60+1 -> 30 | I60: Nam | J60: Phòng Khảo thí - Đảm bảo chất lượng | K60: CL | L60: =K60&""&F60&""&C60 -> CL198902
A61: 210 | B61: 2 | C61: 03 | D61: Nguyễn Thị Tuyết | E61: Phòng Khảo thí - Đảm bảo chất lượng | F61: 1987 | G61: 31 | H61: =G61+1 -> 32 | I61: Nữ | J61: Phòng Khảo thí - Đảm bảo chất lượng | K61: CL | L61: =K61&""&F61&""&C61 -> CL198703
A62: 61 | B62: 70 | C62: 04 | D62: Vũ Thị Thu Thủy | E62: Phòng Khảo thí - Đảm bảo chất lượng | F62: 1986 | G62: 32 | H62: =G62+1 -> 33 | I62: Nữ | J62: Phòng Khảo thí - Đảm bảo chất lượng | K62: CL | L62: =K62&""&F62&""&C62 -> CL198604
A63: 62 | B63: 64 | C63: 05 | D63: Nguyễn Chí Nhân | E63: Phòng Khảo thí - Đảm bảo chất lượng | F63: 1978 | G63: 40 | H63: =G63+1 -> 41 | I63: Nam | J63: Phòng Khảo thí - Đảm bảo chất lượng | K63: CL | L63: =K63&""&F63&""&C63 -> CL197805
A64: 57 | B64: 72 | C64: 06 | D64: Võ Thị Anh Đào | E64: Phòng Khảo thí - Đảm bảo chất lượng | F64: 1965 | G64: 53 | H64: =G64+1 -> 54 | I64: Nữ | J64: Phòng Khảo thí - Đảm bảo chất lượng | K64: CL | L64: =K64&""&F64&""&C64 -> CL196506
A65: 59 | B65: 76 | C65: 07 | D65: Nguyễn Văn Sơn | E65: Phòng Khảo thí - Đảm bảo chất lượng | F65: 1965 | G65: 53 | H65: =G65+1 -> 54 | I65: Nam | J65: Phòng Khảo thí - Đảm bảo chất lượng | K65: CL | L65: =K65&""&F65&""&C65 -> CL196507
A66: 58 | B66: 375 | C66: 08 | D66: Nguyễn Thanh Sơn | E66: Phòng Khảo thí - Đảm bảo chất lượng | F66: 1963 | G66: 55 | H66: =G66+1 -> 56 | I66: Nam | J66: Phòng Khảo thí - Đảm bảo chất lượng | K66: CL | L66: =K66&""&F66&""&C66 -> CL196308
A67: 109 | B67: 401 | C67: 01 | D67: Bùi Đức Phước | E67: Phòng Công tác Chính trị - HSSV | F67: 1993 | G67: 25 | H67: =G67+1 -> 26 | I67: Nam | J67: Phòng Công tác Chính trị - HSSV | K67: CT | L67: =K67&""&F67&""&C67 -> CT199301
A68: 110 | B68: 87 | C68: 02 | D68: Huỳnh Văn Hiếu | E68: Phòng Công tác Chính trị - HSSV | F68: 1983 | G68: 35 | H68: =G68+1 -> 36 | I68: Nam | J68: Phòng Công tác Chính trị - HSSV | K68: CT | L68: =K68&""&F68&""&C68 -> CT198302
A69: 107 | B69: 1 | C69: 03 | D69: Trần Thị Thu Hà | E69: Phòng Công tác Chính trị - HSSV | F69: 1982 | G69: 36 | H69: =G69+1 -> 37 | I69: Nữ | J69: Phòng Công tác Chính trị - HSSV | K69: CT | L69: =K69&""&F69&""&C69 -> CT198203
A70: 94 | B70: 164 | C70: 04 | D70: Nguyễn Trung Dũng | E70: Phòng Công tác Chính trị - HSSV | F70: 1982 | G70: 36 | H70: =G70+1 -> 37 | I70: Nam | J70: Phòng Công tác Chính trị - HSSV | K70: CT | L70: =K70&""&F70&""&C70 -> CT198204
... A86: 284 | B86: 192 | C86: 01 | D86: Nguyễn Hữu Thiện | E86: Trung tâm Quản lý - Điều hành - Dữ liệu | F86: 1985 | G86: 33 | H86: =G86+1 -> 34 | I86: Nam | J86: Trung tâm Quản lý - Điều hành - Dữ liệu | K86: DL | L86: =K86&""&F86&""&C86 -> DL198501
C87: 04 | D87: Phạm Huỳnh Kim Ngân | E87: Trung tâm Quản lý - Điều hành - Dữ liệu | F87: 1995 | G87: 23 | H87: 24 | I87: Nữ | J87: Trung tâm Quản lý - Điều hành - Dữ liệu | K87: DL | L87: =K87&""&F87&""&C87 -> DL199504
A88: 201 | B88: 331 | C88: 01 | D88: Hà Quốc Bảo | E88: Khoa - Khoa Công nghệ Động lực | F88: 1987 | G88: 31 | H88: =G88+1 -> 32 | I88: Nam | J88: Khoa - Khoa Công nghệ Động lực | K88: ĐL | L88: =K88&""&F88&""&C88 -> ĐL198701
A89: 203 | B89: 300 | C89: 02 | D89: Phạm Nguyễn Đức Trung | E89: Khoa - Khoa Công nghệ Động lực | F89: 1987 | G89: 31 | H89: =G89+1 -> 32 | I89: Nam | J89: Khoa - Khoa Công nghệ Động lực | K89: ĐL | L89: =K89&""&F89&""&C89 -> ĐL198702
A90: 208 | B90: 230 | C90: 03 | D90: Hồ Văn Hoá | E90: Khoa - Khoa Công nghệ Động lực | F90: 1987 | G90: 31 | H90: =G90+1 -> 32 | I90: Nam | J90: Khoa - Khoa Công nghệ Động lực | K90: ĐL | L90: =K90&""&F90&""&C90 -> ĐL198703
A91: 204 | B91: 297 | C91: 04 | D91: Trần Minh Tuấn | E91: Khoa - Khoa Công nghệ Động lực | F91: 1986 | G91: 32 | H91: =G91+1 -> 33 | I91: Nam | J91: Khoa - Khoa Công nghệ Động lực | K91: ĐL | L91: =K91&""&F91&""&C91 -> ĐL198604
A92: 205 | B92: 301 | C92: 05 | D92: Trần Quốc Duy | E92: Khoa - Khoa Công nghệ Động lực | F92: 1985 | G92: 33 | H92: =G92+1 -> 34 | I92: Nam | J92: Khoa - Khoa Công nghệ Động lực | K92: ĐL | L92: =K92&""&F92&""&C92 -> ĐL198505
A93: 197 | B93: 296 | C93: 06 | D93: Đặng Thái Sơn | E93: Khoa - Khoa Công nghệ Động lực | F93: 1984 | G93: 34 | H93: =G93+1 -> 35 | I93: Nam | J93: Khoa - Khoa Công nghệ Động lực | K93: ĐL | L93: =K93&""&F93&""&C93 -> ĐL198406
A94: 200 | B94: 294 | C94: 07 | D94: Nguyễn Minh Thái | E94: Khoa - Khoa Công nghệ Động lực | F94: 1984 | G94: 34 | H94: =G94+1 -> 35 | I94: Nam | J94: Khoa - Khoa Công nghệ Động lực | K94: ĐL | L94: =K94&""&F94&""&C94 -> ĐL198407
A95: 202 | B95: 286 | C95: 08 | D95: Hoàng Phúc Bảo | E95: Khoa - Khoa Công nghệ Động lực | F95: 1984 | G95: 34 | H95: =G95+1 -> 35 | I95: Nam | J95: Khoa - Khoa Công nghệ Động lực | K95: ĐL | L95: =K95&""&F95&""&C95 -> ĐL198408
A96: 195 | B96: 289 | C96: 09 | D96: Phan Anh Tuấn Kiệt | E96: Khoa - Khoa Công nghệ Động lực | F96: 1983 | G96: 35 | H96: =G96+1 -> 36 | I96: Nam | J96: Khoa - Khoa Công nghệ Động lực | K96: ĐL | L96: =K96&""&F96&""&C96 -> ĐL198309
A97: 206 | B97: 298 | C97: 10 | D97: Kiều Trung Tín | E97: Khoa - Khoa Công nghệ Động lực | F97: 1982 | G97: 36 | H97: =G97+1 -> 37 | I97: Nam | J97: Khoa - Khoa Công nghệ Động lực | K97: ĐL | L97: =K97&""&F97&""&C97 -> ĐL198210
...

Sheet 2019)
A2: STT | B2: ID | C2: HỌ VÀ TÊN | D2: NĂM SINH (đúng) | G2: ĐƠN VỊ Cũ | H2: Khám tổng quát | I2: Pap's mear | J2: X-Quang | K2: X-Quang CSTL | L2: Siêu âm Tuyến giáp | M2: Siêu âm nhũ | N2: Siêu âm tổng quát | O2: Điện tim | P2: Huyết đồ | Q2: TPTNT | R2: Glucose | S2: TPTNT | T2: ABO | U2: T3,T4, TSH | V2: Ure+ Cre | W2: Acid Uric | X2: SGOT-SGPT | Y2: GGT | Z2: Bộ mỡ 4 thông số | AA2: HBA1C | AB2: HP-TEST | AC2: HBsAg | AD2: Anti HBs | AE2: HCV | AF2: Anti HCV | AG2: PSA | AH2: AFP | AI2: CEA(Tq,Vú ,Ctc) | AJ2: CA125(Buồng trứng ) | AK2: CA 15.3(vú) | AL2: CA.72.4 (dạ dày) | AM2: CYFRA 21.1(phổi ,bàng quang ) | AN2: CA 19.9(tiêu hóa) | AO2: ion đồ
F3: mới | H3: 70000 | I3: 60000 | J3: 60000 | K3: 40000 | L3: 60000 | M3: 60000 | N3: 60000 | O3: Miễn phí | P3: 50000 | Q3: 45000 | R3: 40000 | S3: 45000 | T3: 80000 | V3: 50000 | W3: 40000 | X3: 1 | Y3: 50000 | Z3: 100000 | AA3: 110000 | AB3: 150000 | AC3: 80000 | AD3: 150000 | AE3: 110000 | AF3: 100000 | AG3: 60000 | AH3: 90000 | AI3: 140000 | AJ3: 190000 | AK3: 190000 | AL3: 190000 | AM3: 170000 | AN3: 190000
A4: 1 | B4: 62 | C4: Phạm Hữu Lộc | D4: 1966 | E4: =C4&" "&D4 -> Phạm Hữu Lộc 1966 | F4: BAN GIÁM HIỆU | G4: BAN GIÁM HIỆU | H4: x | J4: x | N4: x | O4: 1 | P4: x | Q4: x | R4: x | S4: x | V4: 1 | X4: 1 | Y4: 1 | Z4: 1 | AA4: 1 | AG4: 1 | AH4: 1 | AM4: 1
A5: 3 | B5: 125 | C5: Đinh Văn Đệ | D5: 1974 | E5: =C5&" "&D5 -> Đinh Văn Đệ 1974 | F5: BAN GIÁM HIỆU | G5: BAN GIÁM HIỆU | H5: x | J5: x | N5: x | P5: x | Q5: x | R5: x | S5: x | V5: 1 | X5: 1 | Y5: 1 | Z5: 1 | AA5: 1 | AG5: 1 | AH5: 1 | AM5: 1
A6: 4 | B6: 3 | C6: Đinh Hồng Minh | D6: 1969 | E6: =C6&" "&D6 -> Đinh Hồng Minh 1969 | F6: #N/A | G6: BAN GIÁM HIỆU | H6: x | I6: 1 | J6: x | L6: 1 | N6: 1 | O6: 1 | P6: x | Q6: x | R6: x | S6: x | V6: 1 | W6: 1 | X6: 1 | Y6: 1 | Z6: 1 | AB6: 1 | AC6: 1 | AD6: 1 | AE6: 1 | AH6: 1 | AI6: 1 | AJ6: 1 | AK6: 1 | AL6: 1 | AN6: 1
A7: 5 | B7: 5 | C7: Lê Xuân Thiện | D7: 1965 | E7: =C7&" "&D7 -> Lê Xuân Thiện 1965 | F7: Phòng Tổ chức - Hành chính - Tổng hợp | G7: Phòng Tổ chức - Hành chính - Tổng hợp | H7: x | J7: x | N7: x | P7: x | Q7: x | R7: x
A8: 6 | B8: 32 | C8: Nguyễn Thị Bích Liễu | D8: 1988 | E8: =C8&" "&D8 -> Nguyễn Thị Bích Liễu 1988 | F8: #N/A | G8: Phòng Tổ chức - Hành chính - Tổng hợp | H8: x | J8: x | N8: x | P8: x | Q8: x | R8: x
A9: 7 | B9: 6 | C9: Trần Văn Cu Anh | D9: 1964 | E9: =C9&" "&D9 -> Trần Văn Cu Anh 1964 | F9: Phòng Tổ chức - Hành chính - Tổng hợp | G9: Phòng Tổ chức - Hành chính - Tổng hợp | H9: x | J9: x | N9: x | P9: x | Q9: x | R9: x | S9: x | V9: 1 | X9: 1 | Y9: 1 | Z9: 1 | AC9: 1
A10: 8 | B10: 20 | C10: Nguyễn Tiến Hưng | D10: 1961 | E10: =C10&" "&D10 -> Nguyễn Tiến Hưng 1961 | F10: Phòng Tổ chức - Hành chính - Tổng hợp | G10: Phòng Tổ chức - Hành chính - Tổng hợp | H10: x | J10: x | N10: x | P10: x | Q10: x | R10: x
A11: 9 | B11: 33 | C11: Nguyễn Hữu Xuân Vũ | D11: 1974 | E11: =C11&" "&D11 -> Nguyễn Hữu Xuân Vũ 1974 | F11: Phòng Tổ chức - Hành chính - Tổng hợp | G11: Phòng Tổ chức - Hành chính - Tổng hợp | H11: x | J11: x | N11: x | O11: 1 | P11: x | Q11: x | R11: x | S11: x | V11: 1 | X11: 1 | Z11: 1 | AB11: 1 | AH11: 1 | AN11: 1
A12: 10 | B12: 34 | C12: Huỳnh Bá Thành | D12: 1958 | E12: =C12&" "&D12 -> Huỳnh Bá Thành 1958 | F12: Nghỉ Hưu | G12: Phòng Tổ chức - Hành chính - Tổng hợp | H12: x | J12: x | N12: x | P12: x | Q12: x | R12: x
A13: 11 | B13: 36 | C13: Lê Hồng Phúc | D13: 1966 | E13: =C13&" "&D13 -> Lê Hồng Phúc 1966 | F13: Phòng Tổ chức - Hành chính - Tổng hợp | G13: Phòng Tổ chức - Hành chính - Tổng hợp | H13: x | J13: x | N13: x | P13: x | Q13: x | R13: x
A14: 12 | B14: 77 | C14: Đồng Anh Tuấn | D14: 1983 | E14: =C14&" "&D14 -> Đồng Anh Tuấn 1983 | F14: Phòng Tổ chức - Hành chính - Tổng hợp | G14: Phòng Tổ chức - Hành chính - Tổng hợp | H14: x | J14: x | N14: x | P14: x | Q14: x | R14: x
A15: 13 | B15: 17 | C15: Hồ Thị Tuyết | D15: 1954 | E15: =C15&" "&D15 -> Hồ Thị Tuyết 1954 | F15: #N/A | G15: Phòng Tổ chức - Hành chính - Tổng hợp | H15: x | J15: x | N15: x | P15: x | Q15: x | R15: x
A16: 14 | B16: 370 | C16: Phan Ngọc Phát | D16: 1958 | E16: =C16&" "&D16 -> Phan Ngọc Phát 1958 | F16: Nghỉ Hưu | G16: Phòng Tổ chức - Hành chính - Tổng hợp | H16: x | J16: x | N16: x | P16: x | Q16: x | R16: x
A17: 15 | B17: 8 | C17: Lê Hùng Thanh | D17: 1960 | E17: =C17&" "&D17 -> Lê Hùng Thanh 1960 | F17: Phòng Tổ chức - Hành chính - Tổng hợp | G17: Phòng Tổ chức - Hành chính - Tổng hợp | H17: x | J17: x | N17: x | O17: 1 | P17: x | Q17: x | R17: x | S17: x | V17: 1 | W17: 1 | X17: 1 | Y17: 1 | Z17: 1 | AB17: 1 | AD17: 1 | AE17: 1 | AG17: 1 | AH17: 1 | AL17: 1 | AM17: 1 | AN17: 1
A18: 16 | B18: 13 | C18: Vũ Như Quỳnh | D18: 1983 | E18: =C18&" "&D18 -> Vũ Như Quỳnh 1983 | F18: #N/A | G18: Phòng Tổ chức - Hành chính - Tổng hợp | H18: x | J18: x | N18: x | P18: x | Q18: x | R18: x
A19: 17 | B19: 14 | C19: Phan Thị Ngọc Phượng | D19: 1980 | E19: =C19&" "&D19 -> Phan Thị Ngọc Phượng 1980 | F19: #N/A | G19: Phòng Tổ chức - Hành chính - Tổng hợp | H19: x | I19: 1 | J19: x | P19: x | Q19: x | R19: x | S19: x
A20: 18 | B20: 55 | C20: Lưu Hoàng Hải Yến | D20: 1985 | E20: =C20&" "&D20 -> Lưu Hoàng Hải Yến 1985 | F20: #N/A | G20: Phòng Tổ chức - Hành chính - Tổng hợp | H20: x | J20: x | N20: 1 | O20: 1 | P20: x | Q20: x | R20: x | S20: x
A21: 19 | B21: 54 | C21: Thái Thị My Sa | D21: 1988 | E21: =C21&" "&D21 -> Thái Thị My Sa 1988 | F21: #N/A | G21: Phòng Tổ chức - Hành chính - Tổng hợp | H21: x | I21: 1 | J21: x | N21: 1 | O21: 1 | P21: x | Q21: x | R21: x | S21: x
A22: 20 | B22: 48 | C22: Nguyễn Cao Thắng | D22: 1984 | E22: =C22&" "&D22 -> Nguyễn Cao Thắng 1984 | F22: Phòng Tổ chức - Hành chính - Tổng hợp | G22: Phòng Tổ chức - Hành chính - Tổng hợp | H22: x | J22: x | N22: x | P22: x | Q22: x | R22: x
A23: 21 | B23: 21 | C23: Phạm Hữu Tấn | D23: 1964 | E23: =C23&" "&D23 -> Phạm Hữu Tấn 1964 | F23: Phòng Tổ chức - Hành chính - Tổng hợp | G23: Phòng Tổ chức - Hành chính - Tổng hợp | H23: x | J23: x | N23: x | O23: 1 | P23: x | Q23: x | R23: x | V23: 1 | W23: 1 | X23: 1 | Y23: 1 | Z23: 1 | AA23: 1 | AG23: 1 | AH23: 1
A24: 22 | B24: 29 | C24: Huỳnh Thanh Nhàn | D24: 1991 | E24: =C24&" "&D24 -> Huỳnh Thanh Nhàn 1991 | F24: Phòng Tổ chức - Hành chính - Tổng hợp | G24: Phòng Tổ chức - Hành chính - Tổng hợp | H24: x | J24: x | N24: x | P24: x | Q24: x | R24: x
A25: 23 | B25: 43 | C25: Phạm Hữu Thành Phú | D25: 1984 | E25: =C25&" "&D25 -> Phạm Hữu Thành Phú 1984 | F25: Phòng Tổ chức - Hành chính - Tổng hợp | G25: Phòng Tổ chức - Hành chính - Tổng hợp | H25: x | J25: x | N25: x | P25: x | Q25: x | R25: x
A26: 24 | B26: 51 | C26: Hồ Minh Lợi | D26: 1962 | E26: =C26&" "&D26 -> Hồ Minh Lợi 1962 | F26: #N/A | G26: Phòng Công tác Chính trị - HSSV | H26: x | J26: x | P26: x | Q26: x | R26: x
A27: 25 | B27: 180 | C27: Trần Thị Ánh Phượng | D27: 1987 | E27: =C27&" "&D27 -> Trần Thị Ánh Phượng 1987 | F27: #N/A | G27: Phòng Tổ chức - Hành chính - Tổng hợp | H27: x | J27: x | N27: 1 | P27: x | Q27: x | R27: x | S27: x
A28: 26 | B28: 371 | C28: Nguyễn Văn Chì | D28: 1979 | E28: =C28&" "&D28 -> Nguyễn Văn Chì 1979 | F28: Phòng Tổ chức - Hành chính - Tổng hợp | G28: Phòng Tổ chức - Hành chính - Tổng hợp | H28: x | J28: x | N28: x | P28: x | Q28: x | R28: x
A29: 27 | B29: 395 | C29: Lê Hồng Sơn | D29: 1963 | E29: =C29&" "&D29 -> Lê Hồng Sơn 1963 | F29: Phòng Tổ chức - Hành chính - Tổng hợp | G29: Phòng Tổ chức - Hành chính - Tổng hợp | H29: x | J29: x | N29: x | P29: x | Q29: x | R29: x
A30: 28 | B30: 396 | C30: Nguyễn Thị Vân | D30: 1988 | E30: =C30&" "&D30 -> Nguyễn Thị Vân 1988 | F30: #N/A | G30: Phòng Tổ chức - Hành chính - Tổng hợp | H30: x | J30: x | N30: x | P30: x | Q30: x | R30: x
A31: 29 | B31: 44 | C31: Nguyễn Kính | D31: 1965 | E31: =C31&" "&D31 -> Nguyễn Kính 1965 | F31: Phòng Kế hoạch - Tài chính | G31: Phòng Kế hoạch - Tài chính | H31: x | J31: x | N31: 1 | O31: 1 | P31: x | Q31: x | R31: x
A32: 30 | B32: 40 | C32: Nguyễn Thị Kim Dung | D32: 1979 | E32: =C32&" "&D32 -> Nguyễn Thị Kim Dung 1979 | F32: #N/A | G32: Phòng Kế hoạch - Tài chính | H32: x | J32: x | N32: 1 | P32: x | Q32: x | R32: x
A33: 31 | B33: 330 | C33: Đỗ Thị Ngọc | D33: 1965 | E33: =C33&" "&D33 -> Đỗ Thị Ngọc 1965 | F33: #N/A | G33: Phòng Kế hoạch - Tài chính | H33: x | I33: 1 | J33: x | P33: x | Q33: x | R33: x
A34: 32 | B34: 47 | C34: Trần Thị Minh Thoa | D34: 1983 | E34: =C34&" "&D34 -> Trần Thị Minh Thoa 1983 | F34: #N/A | G34: Phòng Kế hoạch - Tài chính | H34: x | J34: x | N34: x | P34: x | Q34: x | R34: x
A35: 33 | B35: 68 | C35: Phạm Lê Đông Hưng | D35: 1991 | E35: =C35&" "&D35 -> Phạm Lê Đông Hưng 1991 | F35: Phòng Kế hoạch - Tài chính | G35: Phòng Kế hoạch - Tài chính | H35: x | J35: x | P35: x | Q35: x | R35: x | W35: 1 | X35: 1 | Y35: 1 | AA35: 1
A36: 34 | B36: 397 | C36: Lê Hửu Nhân | D36: 1994 | E36: =C36&" "&D36 -> Lê Hửu Nhân 1994 | F36: Phòng Kế hoạch - Tài chính | G36: Phòng Kế hoạch - Tài chính | H36: x | J36: x | P36: x | Q36: x | R36: x
A37: 35 | B37: 61 | C37: Nguyễn Thị Hồng Thắm | D37: 1991 | E37: =C37&" "&D37 -> Nguyễn Thị Hồng Thắm 1991 | F37: #N/A | G37: Phòng Kế hoạch - Tài chính | H37: x | I37: 1 | J37: x | N37: 1 | P37: x | Q37: x | R37: x | Y37: 1 | AC37: 1
A38: 36 | B38: 80 | C38: Trần Thị Thảo Vân | D38: 1988 | E38: =C38&" "&D38 -> Trần Thị Thảo Vân 1988 | F38: #N/A | G38: Phòng Kế hoạch - Tài chính | H38: x | I38: 1 | J38: x | O38: 1 | P38: x | Q38: x | R38: x
A39: 37 | B39: 45 | C39: Hồng Mộng Tuyết Dung | D39: 1970 | E39: =C39&" "&D39 -> Hồng Mộng Tuyết Dung 1970 | F39: #N/A | G39: Phòng Kế hoạch - Tài chính | H39: x | I39: 1 | J39: x | N39: 1 | P39: x | Q39: x | R39: x
A40: 38 | B40: 398 | C40: Nguyễn Thị Minh Thùy | D40: 1993 | E40: =C40&" "&D40 -> Nguyễn Thị Minh Thùy 1993 | F40: #N/A | G40: Phòng Kế hoạch - Tài chính | H40: x | J40: x | N40: 1 | O40: 1 | P40: x | Q40: x | R40: x | AB40: 1
A41: 39 | B41: 71 | C41: Nguyễn Văn Tấn | D41: 1962 | E41: =C41&" "&D41 -> Nguyễn Văn Tấn 1962 | F41: Phòng Tuyển sinh - Đào tạo | G41: Phòng Tuyển sinh - Đào tạo | H41: x | J41: x | P41: x | Q41: x | R41: x
...

Sheet ĐĂNGKÝ2018) (2)
A2: STT | B2: ID | C2: HỌ VÀ TÊN | K2: STT | M2: ĐƠN VỊ Cũ | N2: NAM | Q2: NỮ | S2: Khám tổng quát | T2: Pap's mear | U2: X-Quang | V2: X-Quang CSTL | W2: Siêu âm Tuyến giáp | X2: Siêu âm nhũ | Y2: Siêu âm tổng quát | Z2: Điện tim | AA2: Huyết đồ | AB2: TPTNT | AC2: Glucose | AD2: TPTNT | AE2: ABO | AF2: T3,T4, TSH | AG2: Ure+ Cre | AH2: Acid Uric | AI2: SGOT-SGPT | AJ2: GGT | AK2: Bộ mỡ 4 thông số | AL2: HBA1C | AM2: HP-TEST | AN2: HBsAg | AO2: Anti HBs | AP2: HCV | AQ2: Anti HCV | AR2: PSA | AS2: AFP | AT2: CEA(Tq,Vú ,Ctc) | AU2: CA125(Buồng trứng ) | AV2: CA 15.3(vú) | AW2: CA.72.4 (dạ dày) | AX2: CYFRA 21.1(phổi ,bàng quang ) | AY2: CA 19.9(tiêu hóa) | AZ2: ion đồ
D3: MÃ SỐ BHYT | E3: NĂM SINH | H3: NĂM SINH | J3: MÃ SỐ BHYT | L3: mới | S3: 70000 | T3: 60000 | U3: 60000 | V3: 40000 | W3: 60000 | X3: 60000 | Y3: 60000 | Z3: Miễn phí | AA3: 50000 | AB3: 45000 | AC3: 40000 | AD3: 45000 | AE3: 80000 | AG3: 50000 | AH3: 40000 | AI3: 1 | AJ3: 50000 | AK3: 100000 | AL3: 110000 | AM3: 150000 | AN3: 80000 | AO3: 150000 | AP3: 110000 | AQ3: 100000 | AR3: 60000 | AS3: 90000 | AT3: 140000 | AU3: 190000 | AV3: 190000 | AW3: 190000 | AX3: 170000 | AY3: 190000
A4: 1 | B4: 62 | C4: Phạm Hữu Lộc | D4: =VLOOKUP(C4,'DANHSACHKSK 2019MSBHYT'!$D$12:$E$336,4,0) -> #REF! | E4: 1966 | F4: Phạm Hữu | G4: Lộc | H4: 1966 | I4: =C4&" "&H4 -> Phạm Hữu Lộc 1966 | J4: =VLOOKUP(I4,'DANHSACHKSK 2019MSBHYT'!#REF!,2,0) -> #REF! | K4: 1 | L4: BAN GIÁM HIỆU | M4: BAN GIÁM HIỆU | N4: 52 | P4: 1966 | S4: x | U4: x | Y4: x | Z4: 1 | AA4: x | AB4: x | AC4: x | AD4: x | AG4: 1 | AI4: 1 | AJ4: 1 | AK4: 1 | AL4: 1 | AR4: 1 | AS4: 1 | AX4: 1
A5: 3 | B5: 125 | C5: Đinh Văn Đệ | D5: =VLOOKUP(C5,'DANHSACHKSK 2019MSBHYT'!$D$12:$E$336,4,0) -> #REF! | E5: 1974 | F5: Đinh Văn | G5: Đệ | H5: 1974 | I5: =C5&" "&H5 -> Đinh Văn Đệ 1974 | J5: =VLOOKUP(I5,'DANHSACHKSK 2019MSBHYT'!#REF!,2,0) -> #REF! | K5: 3 | L5: BAN GIÁM HIỆU | M5: BAN GIÁM HIỆU | N5: 46 | P5: 1972 | S5: x | U5: x | Y5: x | AA5: x | AB5: x | AC5: x | AD5: x | AG5: 1 | AI5: 1 | AJ5: 1 | AK5: 1 | AL5: 1 | AR5: 1 | AS5: 1 | AX5: 1
A6: 4 | B6: 3 | C6: Đinh Hồng Minh | D6: =VLOOKUP(C6,'DANHSACHKSK 2019MSBHYT'!$D$12:$E$336,4,0) -> #REF! | E6: 1969 | F6: Đinh Hồng | G6: Minh | H6: 1969 | I6: =C6&" "&H6 -> Đinh Hồng Minh 1969 | J6: =VLOOKUP(I6,'DANHSACHKSK 2019MSBHYT'!#REF!,2,0) -> #REF! | K6: 4 | L6: #N/A | M6: BAN GIÁM HIỆU | O6: 1969 | P6: 1969 | Q6: 48 | R6: 1969 | S6: x | T6: 1 | U6: x | W6: 1 | Y6: 1 | Z6: 1 | AA6: x | AB6: x | AC6: x | AD6: x | AG6: 1 | AH6: 1 | AI6: 1 | AJ6: 1 | AK6: 1 | AM6: 1 | AN6: 1 | AO6: 1 | AP6: 1 | AS6: 1 | AT6: 1 | AU6: 1 | AV6: 1 | AW6: 1 | AY6: 1
A7: 5 | B7: 5 | C7: Lê Xuân Thiện | D7: =VLOOKUP(C7,'DANHSACHKSK 2019MSBHYT'!$D$12:$E$336,4,0) -> #REF! | E7: 1965 | F7: Lê Xuân | G7: Thiện | H7: 1965 | I7: =C7&" "&H7 -> Lê Xuân Thiện 1965 | J7: =VLOOKUP(I7,'DANHSACHKSK 2019MSBHYT'!#REF!,2,0) -> #REF! | K7: 5 | L7: Phòng Tổ chức - Hành chính - Tổng hợp | M7: Phòng Tổ chức - Hành chính - Tổng hợp | N7: 53 | P7: 1965 | S7: x | U7: x | Y7: x | AA7: x | AB7: x | AC7: x
A8: 6 | B8: 32 | C8: Nguyễn Thị Bích Liễu | D8: =VLOOKUP(C8,'DANHSACHKSK 2019MSBHYT'!$D$12:$E$336,4,0) -> #REF! | E8: 1988 | F8: Nguyễn Thị Bích | G8: Liễu | H8: 1988 | I8: =C8&" "&H8 -> Nguyễn Thị Bích Liễu 1988 | J8: =VLOOKUP(I8,'DANHSACHKSK 2019MSBHYT'!#REF!,2,0) -> #REF! | K8: 6 | L8: #N/A | M8: Phòng Tổ chức - Hành chính - Tổng hợp | O8: 1988 | P8: 1988 | Q8: 30 | R8: 1988 | S8: x | U8: x | Y8: x | AA8: x | AB8: x | AC8: x
A9: 7 | B9: 6 | C9: Trần Văn Cu Anh | D9: =VLOOKUP(C9,'DANHSACHKSK 2019MSBHYT'!$D$12:$E$336,4,0) -> #N/A | E9: 1964 | F9: Trần Văn Cu | G9: Anh | H9: 1964 | I9: =C9&" "&H9 -> Trần Văn Cu Anh 1964 | J9: =VLOOKUP(I9,'DANHSACHKSK 2019MSBHYT'!#REF!,2,0) -> #REF! | K9: 7 | L9: Phòng Tổ chức - Hành chính - Tổng hợp | M9: Phòng Tổ chức - Hành chính - Tổng hợp | N9: 54 | P9: 1964 | S9: x | U9: x | Y9: x | AA9: x | AB9: x | AC9: x | AD9: x | AG9: 1 | AI9: 1 | AJ9: 1 | AK9: 1 | AN9: 1
A10: 8 | B10: 20 | C10: Nguyễn Tiến Hưng | D10: =VLOOKUP(C10,'DANHSACHKSK 2019MSBHYT'!$D$12:$E$336,4,0) -> #REF! | E10: 1961 | F10: Nguyễn Tiến | G10: Hưng | H10: 1961 | I10: =C10&" "&H10 -> Nguyễn Tiến Hưng 1961 | J10: =VLOOKUP(I10,'DANHSACHKSK 2019MSBHYT'!#REF!,2,0) -> #REF! | K10: 8 | L10: Phòng Tổ chức - Hành chính - Tổng hợp | M10: Phòng Tổ chức - Hành chính - Tổng hợp | N10: 59 | P10: 1959 | S10: x | U10: x | Y10: x | AA10: x | AB10: x | AC10: x
A11: 9 | B11: 33 | C11: Nguyễn Hữu Xuân Vũ | D11: =VLOOKUP(C11,'DANHSACHKSK 2019MSBHYT'!$D$12:$E$336,4,0) -> #N/A | E11: 1974 | F11: Nguyễn Hữu Xuân | G11: Vũ | H11: 1974 | I11: =C11&" "&H11 -> Nguyễn Hữu Xuân Vũ 1974 | J11: =VLOOKUP(I11,'DANHSACHKSK 2019MSBHYT'!#REF!,2,0) -> #REF! | K11: 9 | L11: Phòng Tổ chức - Hành chính - Tổng hợp | M11: Phòng Tổ chức - Hành chính - Tổng hợp | N11: 43 | P11: 1974 | S11: x | U11: x | Y11: x | Z11: 1 | AA11: x | AB11: x | AC11: x | AD11: x | AG11: 1 | AI11: 1 | AK11: 1 | AM11: 1 | AS11: 1 | AY11: 1
A12: 10 | B12: 34 | C12: Huỳnh Bá Thành | D12: =VLOOKUP(C12,'DANHSACHKSK 2019MSBHYT'!$D$12:$E$336,4,0) -> #N/A | E12: 1958 | F12: Huỳnh Bá | G12: Thành | H12: 1958 | I12: =C12&" "&H12 -> Huỳnh Bá Thành 1958 | J12: =VLOOKUP(I12,'DANHSACHKSK 2019MSBHYT'!#REF!,2,0) -> #REF! | K12: 10 | L12: Nghỉ Hưu | M12: Phòng Tổ chức - Hành chính - Tổng hợp | N12: 60 | P12: 1958 | S12: x | U12: x | Y12: x | AA12: x | AB12: x | AC12: x
A13: 11 | B13: 36 | C13: Lê Hồng Phúc | D13: =VLOOKUP(C13,'DANHSACHKSK 2019MSBHYT'!$D$12:$E$336,4,0) -> #REF! | E13: 1966 | F13: Lê Hồng | G13: Phúc | H13: 1966 | I13: =C13&" "&H13 -> Lê Hồng Phúc 1966 | J13: =VLOOKUP(I13,'DANHSACHKSK 2019MSBHYT'!#REF!,2,0) -> #REF! | K13: 11 | L13: Phòng Tổ chức - Hành chính - Tổng hợp | M13: Phòng Tổ chức - Hành chính - Tổng hợp | N13: 52 | P13: 1966 | S13: x | U13: x | Y13: x | AA13: x | AB13: x | AC13: x
A14: 12 | B14: 77 | C14: Đồng Anh Tuấn | D14: =VLOOKUP(C14,'DANHSACHKSK 2019MSBHYT'!$D$12:$E$336,4,0) -> #REF! | E14: 1983 | F14: Đồng Anh | G14: Tuấn | H14: 1983 | I14: =C14&" "&H14 -> Đồng Anh Tuấn 1983 | J14: =VLOOKUP(I14,'DANHSACHKSK 2019MSBHYT'!#REF!,2,0) -> #REF! | K14: 12 | L14: Phòng Tổ chức - Hành chính - Tổng hợp | M14: Phòng Tổ chức - Hành chính - Tổng hợp | N14: 35 | P14: 1983 | S14: x | U14: x | Y14: x | AA14: x | AB14: x | AC14: x
A15: 13 | B15: 17 | C15: Hồ Thị Tuyết | D15: =VLOOKUP(C15,'DANHSACHKSK 2019MSBHYT'!$D$12:$E$336,4,0) -> #N/A | E15: 1954 | F15: Hồ Thị | G15: Tuyết | H15: 1954 | I15: =C15&" "&H15 -> Hồ Thị Tuyết 1954 | J15: =VLOOKUP(I15,'DANHSACHKSK 2019MSBHYT'!#REF!,2,0) -> #REF! | K15: 13 | L15: #N/A | M15: Phòng Tổ chức - Hành chính - Tổng hợp | O15: 1954 | P15: 1954 | Q15: 64 | R15: 1954 | S15: x | U15: x | Y15: x | AA15: x | AB15: x | AC15: x
A16: 14 | B16: 370 | C16: Phan Ngọc Phát | D16: =VLOOKUP(C16,'DANHSACHKSK 2019MSBHYT'!$D$12:$E$336,4,0) -> #N/A | E16: 1958 | F16: Phan Ngọc | G16: Phát | H16: 1958 | I16: =C16&" "&H16 -> Phan Ngọc Phát 1958 | J16: =VLOOKUP(I16,'DANHSACHKSK 2019MSBHYT'!#REF!,2,0) -> #REF! | K16: 14 | L16: Nghỉ Hưu | M16: Phòng Tổ chức - Hành chính - Tổng hợp | N16: 60 | P16: 1958 | S16: x | U16: x | Y16: x | AA16: x | AB16: x | AC16: x
A17: 15 | B17: 8 | C17: Lê Hùng Thanh | D17: =VLOOKUP(C17,'DANHSACHKSK 2019MSBHYT'!$D$12:$E$336,4,0) -> #N/A | E17: 1960 | F17: Lê Hùng | G17: Thanh | H17: 1960 | I17: =C17&" "&H17 -> Lê Hùng Thanh 1960 | J17: =VLOOKUP(I17,'DANHSACHKSK 2019MSBHYT'!#REF!,2,0) -> #REF! | K17: 15 | L17: Phòng Tổ chức - Hành chính - Tổng hợp | M17: Phòng Tổ chức - Hành chính - Tổng hợp | N17: 58 | P17: 1960 | S17: x | U17: x | Y17: x | Z17: 1 | AA17: x | AB17: x | AC17: x | AD17: x | AG17: 1 | AH17: 1 | AI17: 1 | AJ17: 1 | AK17: 1 | AM17: 1 | AO17: 1 | AP17: 1 | AR17: 1 | AS17: 1 | AW17: 1 | AX17: 1 | AY17: 1
A18: 16 | B18: 13 | C18: Vũ Như Quỳnh | D18: =VLOOKUP(C18,'DANHSACHKSK 2019MSBHYT'!$D$12:$E$336,4,0) -> #REF! | E18: 1983 | F18: Vũ Như | G18: Quỳnh | H18: 1983 | I18: =C18&" "&H18 -> Vũ Như Quỳnh 1983 | J18: =VLOOKUP(I18,'DANHSACHKSK 2019MSBHYT'!#REF!,2,0) -> #REF! | K18: 16 | L18: #N/A | M18: Phòng Tổ chức - Hành chính - Tổng hợp | O18: 1983 | P18: 1983 | Q18: 35 | R18: 1983 | S18: x | U18: x | Y18: x | AA18: x | AB18: x | AC18: x
A19: 17 | B19: 14 | C19: Phan Thị Ngọc Phượng | D19: =VLOOKUP(C19,'DANHSACHKSK 2019MSBHYT'!$D$12:$E$336,4,0) -> #REF! | E19: 1980 | F19: Phan Thị Ngọc | G19: Phượng | H19: 1980 | I19: =C19&" "&H19 -> Phan Thị Ngọc Phượng 1980 | J19: =VLOOKUP(I19,'DANHSACHKSK 2019MSBHYT'!#REF!,2,0) -> #REF! | K19: 17 | L19: #N/A | M19: Phòng Tổ chức - Hành chính - Tổng hợp | O19: 1980 | P19: 1980 | Q19: 38 | R19: 1980 | S19: x | T19: 1 | U19: x | AA19: x | AB19: x | AC19: x | AD19: x
A20: 18 | B20: 55 | C20: Lưu Hoàng Hải Yến | D20: =VLOOKUP(C20,'DANHSACHKSK 2019MSBHYT'!$D$12:$E$336,4,0) -> #REF! | E20: 1985 | F20: Lưu Hoàng Hải | G20: Yến | H20: 1985 | I20: =C20&" "&H20 -> Lưu Hoàng Hải Yến 1985 | J20: =VLOOKUP(I20,'DANHSACHKSK 2019MSBHYT'!#REF!,2,0) -> #REF! | K20: 18 | L20: #N/A | M20: Phòng Tổ chức - Hành chính - Tổng hợp | O20: 1985 | P20: 1985 | Q20: 33 | R20: 1985 | S20: x | U20: x | Y20: 1 | Z20: 1 | AA20: x | AB20: x | AC20: x | AD20: x
A21: 19 | B21: 54 | C21: Thái Thị My Sa | D21: =VLOOKUP(C21,'DANHSACHKSK 2019MSBHYT'!$D$12:$E$336,4,0) -> #REF! | E21: 1988 | F21: Thái Thị My | G21: Sa | H21: 1988 | I21: =C21&" "&H21 -> Thái Thị My Sa 1988 | J21: =VLOOKUP(I21,'DANHSACHKSK 2019MSBHYT'!#REF!,2,0) -> #REF! | K21: 19 | L21: #N/A | M21: Phòng Tổ chức - Hành chính - Tổng hợp | O21: 1988 | P21: 1988 | Q21: 30 | R21: 1988 | S21: x | T21: 1 | U21: x | Y21: 1 | Z21: 1 | AA21: x | AB21: x | AC21: x | AD21: x
A22: 20 | B22: 48 | C22: Nguyễn Cao Thắng | D22: =VLOOKUP(C22,'DANHSACHKSK 2019MSBHYT'!$D$12:$E$336,4,0) -> #REF! | E22: 1984 | F22: Nguyễn Cao | G22: Thắng | H22: 1984 | I22: =C22&" "&H22 -> Nguyễn Cao Thắng 1984 | J22: =VLOOKUP(I22,'DANHSACHKSK 2019MSBHYT'!#REF!,2,0) -> #REF! | K22: 20 | L22: Phòng Tổ chức - Hành chính - Tổng hợp | M22: Phòng Tổ chức - Hành chính - Tổng hợp | N22: 34 | P22: 1984 | S22: x | U22: x | Y22: x | AA22: x | AB22: x | AC22: x
A23: 21 | B23: 21 | C23: Phạm Hữu Tấn | D23: =VLOOKUP(C23,'DANHSACHKSK 2019MSBHYT'!$D$12:$E$336,4,0) -> #N/A | E23: 1964 | F23: Phạm Hữu | G23: Tấn | H23: 1964 | I23: =C23&" "&H23 -> Phạm Hữu Tấn 1964 | J23: =VLOOKUP(I23,'DANHSACHKSK 2019MSBHYT'!#REF!,2,0) -> #REF! | K23: 21 | L23: Phòng Tổ chức - Hành chính - Tổng hợp | M23: Phòng Tổ chức - Hành chính - Tổng hợp | N23: 54 | P23: 1964 | S23: x | U23: x | Y23: x | Z23: 1 | AA23: x | AB23: x | AC23: x | AG23: 1 | AH23: 1 | AI23: 1 | AJ23: 1 | AK23: 1 | AL23: 1 | AR23: 1 | AS23: 1
A24: 22 | B24: 29 | C24: Huỳnh Thanh Nhàn | D24: =VLOOKUP(C24,'DANHSACHKSK 2019MSBHYT'!$D$12:$E$336,4,0) -> #REF! | E24: 1991 | F24: Huỳnh Thanh | G24: Nhàn | H24: 1991 | I24: =C24&" "&H24 -> Huỳnh Thanh Nhàn 1991 | J24: =VLOOKUP(I24,'DANHSACHKSK 2019MSBHYT'!#REF!,2,0) -> #REF! | K24: 22 | L24: Phòng Tổ chức - Hành chính - Tổng hợp | M24: Phòng Tổ chức - Hành chính - Tổng hợp | N24: 27 | P24: 1991 | S24: x | U24: x | Y24: x | AA24: x | AB24: x | AC24: x
A25: 23 | B25: 43 | C25: Phạm Hữu Thành Phú | D25: =VLOOKUP(C25,'DANHSACHKSK 2019MSBHYT'!$D$12:$E$336,4,0) -> #N/A | E25: 1984 | F25: Phạm Hữu Thành | G25: Phú | H25: 1984 | I25: =C25&" "&H25 -> Phạm Hữu Thành Phú 1984 | J25: =VLOOKUP(I25,'DANHSACHKSK 2019MSBHYT'!#REF!,2,0) -> #REF! | K25: 23 | L25: Phòng Tổ chức - Hành chính - Tổng hợp | M25: Phòng Tổ chức - Hành chính - Tổng hợp | N25: 34 | P25: 1984 | S25: x | U25: x | Y25: x | AA25: x | AB25: x | AC25: x
A26: 24 | B26: 51 | C26: Hồ Minh Lợi | D26: =VLOOKUP(C26,'DANHSACHKSK 2019MSBHYT'!$D$12:$E$336,4,0) -> #N/A | E26: 1962 | F26: Hồ Minh | G26: Lợi | H26: 1962 | I26: =C26&" "&H26 -> Hồ Minh Lợi 1962 | J26: =VLOOKUP(I26,'DANHSACHKSK 2019MSBHYT'!#REF!,2,0) -> #REF! | K26: 24 | L26: #N/A | M26: Phòng Công tác Chính trị - HSSV | N26: 56 | P26: 1962 | S26: x | U26: x | AA26: x | AB26: x | AC26: x
A27: 25 | B27: 180 | C27: Trần Thị Ánh Phượng | D27: =VLOOKUP(C27,'DANHSACHKSK 2019MSBHYT'!$D$12:$E$336,4,0) -> #REF! | E27: 1987 | F27: Trần Thị Ánh | G27: Phượng | H27: 1987 | I27: =C27&" "&H27 -> Trần Thị Ánh Phượng 1987 | J27: =VLOOKUP(I27,'DANHSACHKSK 2019MSBHYT'!#REF!,2,0) -> #REF! | K27: 25 | L27: #N/A | M27: Phòng Tổ chức - Hành chính - Tổng hợp | O27: 1987 | P27: 1987 | Q27: 31 | R27: 1987 | S27: x | U27: x | Y27: 1 | AA27: x | AB27: x | AC27: x | AD27: x
A28: 26 | B28: 371 | C28: Nguyễn Văn Chì | D28: =VLOOKUP(C28,'DANHSACHKSK 2019MSBHYT'!$D$12:$E$336,4,0) -> #REF! | E28: 1979 | F28: Nguyễn Văn | G28: Chì | H28: 1979 | I28: =C28&" "&H28 -> Nguyễn Văn Chì 1979 | J28: =VLOOKUP(I28,'DANHSACHKSK 2019MSBHYT'!#REF!,2,0) -> #REF! | K28: 26 | L28: Phòng Tổ chức - Hành chính - Tổng hợp | M28: Phòng Tổ chức - Hành chính - Tổng hợp | N28: 39 | P28: 1979 | S28: x | U28: x | Y28: x | AA28: x | AB28: x | AC28: x
A29: 27 | B29: 395 | C29: Lê Hồng Sơn | D29: =VLOOKUP(C29,'DANHSACHKSK 2019MSBHYT'!$D$12:$E$336,4,0) -> #N/A | E29: 1963 | F29: Lê Hồng | G29: Sơn | H29: 1963 | I29: =C29&" "&H29 -> Lê Hồng Sơn 1963 | J29: =VLOOKUP(I29,'DANHSACHKSK 2019MSBHYT'!#REF!,2,0) -> #REF! | K29: 27 | L29: Phòng Tổ chức - Hành chính - Tổng hợp | M29: Phòng Tổ chức - Hành chính - Tổng hợp | N29: 55 | P29: 1963 | S29: x | U29: x | Y29: x | AA29: x | AB29: x | AC29: x
A30: 28 | B30: 396 | C30: Nguyễn Thị Vân | D30: =VLOOKUP(C30,'DANHSACHKSK 2019MSBHYT'!$D$12:$E$336,4,0) -> #N/A | E30: 1988 | F30: Nguyễn Thị | G30: Vân | H30: 1988 | I30: =C30&" "&H30 -> Nguyễn Thị Vân 1988 | J30: =VLOOKUP(I30,'DANHSACHKSK 2019MSBHYT'!#REF!,2,0) -> #REF! | K30: 28 | L30: #N/A | M30: Phòng Tổ chức - Hành chính - Tổng hợp | O30: 1988 | P30: 1988 | Q30: 30 | R30: 1988 | S30: x | U30: x | Y30: x | AA30: x | AB30: x | AC30: x
A31: 29 | B31: 44 | C31: Nguyễn Kính | D31: =VLOOKUP(C31,'DANHSACHKSK 2019MSBHYT'!$D$12:$E$336,4,0) -> #N/A | E31: 1965 | F31: Nguyễn | G31: Kính | H31: 1965 | I31: =C31&" "&H31 -> Nguyễn Kính 1965 | J31: =VLOOKUP(I31,'DANHSACHKSK 2019MSBHYT'!#REF!,2,0) -> #REF! | K31: 29 | L31: Phòng Kế hoạch - Tài chính | M31: Phòng Kế hoạch - Tài chính | N31: 53 | P31: 1965 | S31: x | U31: x | Y31: 1 | Z31: 1 | AA31: x | AB31: x | AC31: x
A32: 30 | B32: 40 | C32: Nguyễn Thị Kim Dung | D32: =VLOOKUP(C32,'DANHSACHKSK 2019MSBHYT'!$D$12:$E$336,4,0) -> #N/A | E32: 1979 | F32: Nguyễn Thị Kim | G32: Dung | H32: 1979 | I32: =C32&" "&H32 -> Nguyễn Thị Kim Dung 1979 | J32: =VLOOKUP(I32,'DANHSACHKSK 2019MSBHYT'!#REF!,2,0) -> #REF! | K32: 30 | L32: #N/A | M32: Phòng Kế hoạch - Tài chính | O32: 1979 | P32: 1979 | Q32: 39 | R32: 1979 | S32: x | U32: x | Y32: 1 | AA32: x | AB32: x | AC32: x
A33: 31 | B33: 330 | C33: Đỗ Thị Ngọc | D33: =VLOOKUP(C33,'DANHSACHKSK 2019MSBHYT'!$D$12:$E$336,4,0) -> #N/A | E33: 1965 | F33: Đỗ Thị | G33: Ngọc | H33: 1965 | I33: =C33&" "&H33 -> Đỗ Thị Ngọc 1965 | J33: =VLOOKUP(I33,'DANHSACHKSK 2019MSBHYT'!#REF!,2,0) -> #REF! | K33: 31 | L33: #N/A | M33: Phòng Kế hoạch - Tài chính | O33: 1965 | P33: 1965 | Q33: 53 | R33: 1965 | S33: x | T33: 1 | U33: x | AA33: x | AB33: x | AC33: x
A34: 32 | B34: 47 | C34: Trần Thị Minh Thoa | D34: =VLOOKUP(C34,'DANHSACHKSK 2019MSBHYT'!$D$12:$E$336,4,0) -> #REF! | E34: 1983 | F34: Trần Thị Minh | G34: Thoa | H34: 1983 | I34: =C34&" "&H34 -> Trần Thị Minh Thoa 1983 | J34: =VLOOKUP(I34,'DANHSACHKSK 2019MSBHYT'!#REF!,2,0) -> #REF! | K34: 32 | L34: #N/A | M34: Phòng Kế hoạch - Tài chính | O34: 1983 | P34: 1983 | Q34: 35 | R34: 1983 | S34: x | U34: x | Y34: x | AA34: x | AB34: x | AC34: x
A35: 33 | B35: 68 | C35: Phạm Lê Đông Hưng | D35: =VLOOKUP(C35,'DANHSACHKSK 2019MSBHYT'!$D$12:$E$336,4,0) -> #REF! | E35: 1991 | F35: Phạm Lê Đông | G35: Hưng | H35: 1991 | I35: =C35&" "&H35 -> Phạm Lê Đông Hưng 1991 | J35: =VLOOKUP(I35,'DANHSACHKSK 2019MSBHYT'!#REF!,2,0) -> #REF! | K35: 33 | L35: Phòng Kế hoạch - Tài chính | M35: Phòng Kế hoạch - Tài chính | N35: 27 | P35: 1991 | S35: x | U35: x | AA35: x | AB35: x | AC35: x | AH35: 1 | AI35: 1 | AJ35: 1 | AL35: 1
A36: 34 | B36: 397 | C36: Lê Hửu Nhân | D36: =VLOOKUP(C36,'DANHSACHKSK 2019MSBHYT'!$D$12:$E$336,4,0) -> #N/A | E36: 1994 | F36: Lê Hửu Nhân | H36: 1994 | I36: =C36&" "&H36 -> Lê Hửu Nhân 1994 | J36: =VLOOKUP(I36,'DANHSACHKSK 2019MSBHYT'!#REF!,2,0) -> #REF! | K36: 34 | L36: Phòng Kế hoạch - Tài chính | M36: Phòng Kế hoạch - Tài chính | N36: 24 | P36: 1994 | S36: x | U36: x | AA36: x | AB36: x | AC36: x
A37: 35 | B37: 61 | C37: Nguyễn Thị Hồng Thắm | D37: =VLOOKUP(C37,'DANHSACHKSK 2019MSBHYT'!$D$12:$E$336,4,0) -> #REF! | E37: 1991 | F37: Nguyễn Thị Hồng | G37: Thắm | H37: 1991 | I37: =C37&" "&H37 -> Nguyễn Thị Hồng Thắm 1991 | J37: =VLOOKUP(I37,'DANHSACHKSK 2019MSBHYT'!#REF!,2,0) -> #REF! | K37: 35 | L37: #N/A | M37: Phòng Kế hoạch - Tài chính | O37: 1991 | P37: 1991 | Q37: 27 | R37: 1991 | S37: x | T37: 1 | U37: x | Y37: 1 | AA37: x | AB37: x | AC37: x | AJ37: 1 | AN37: 1
A38: 36 | B38: 80 | C38: Trần Thị Thảo Vân | D38: =VLOOKUP(C38,'DANHSACHKSK 2019MSBHYT'!$D$12:$E$336,4,0) -> #N/A | E38: 1988 | F38: Trần Thị Thảo | G38: Vân | H38: 1988 | I38: =C38&" "&H38 -> Trần Thị Thảo Vân 1988 | J38: =VLOOKUP(I38,'DANHSACHKSK 2019MSBHYT'!#REF!,2,0) -> #REF! | K38: 36 | L38: #N/A | M38: Phòng Kế hoạch - Tài chính | O38: 1988 | P38: 1988 | Q38: 30 | R38: 1988 | S38: x | T38: 1 | U38: x | Z38: 1 | AA38: x | AB38: x | AC38: x
A39: 37 | B39: 45 | C39: Hồng Mộng Tuyết Dung | D39: =VLOOKUP(C39,'DANHSACHKSK 2019MSBHYT'!$D$12:$E$336,4,0) -> #REF! | E39: 1970 | F39: Hồng Mộng Tuyết | G39: Dung | H39: 1970 | I39: =C39&" "&H39 -> Hồng Mộng Tuyết Dung 1970 | J39: =VLOOKUP(I39,'DANHSACHKSK 2019MSBHYT'!#REF!,2,0) -> #REF! | K39: 37 | L39: #N/A | M39: Phòng Kế hoạch - Tài chính | O39: 1970 | P39: 1970 | Q39: 48 | R39: 1970 | S39: x | T39: 1 | U39: x | Y39: 1 | AA39: x | AB39: x | AC39: x
A40: 38 | B40: 398 | C40: Nguyễn Thị Minh Thùy | D40: =VLOOKUP(C40,'DANHSACHKSK 2019MSBHYT'!$D$12:$E$336,4,0) -> #REF! | E40: 1993 | F40: Nguyễn Thị Minh | G40: Thùy | H40: 1993 | I40: =C40&" "&H40 -> Nguyễn Thị Minh Thùy 1993 | J40: =VLOOKUP(I40,'DANHSACHKSK 2019MSBHYT'!#REF!,2,0) -> #REF! | K40: 38 | L40: #N/A | M40: Phòng Kế hoạch - Tài chính | O40: 1993 | P40: 1993 | Q40: 25 | R40: 1993 | S40: x | U40: x | Y40: 1 | Z40: 1 | AA40: x | AB40: x | AC40: x | AM40: 1
A41: 39 | B41: 71 | C41: Nguyễn Văn Tấn | D41: =VLOOKUP(C41,'DANHSACHKSK 2019MSBHYT'!$D$12:$E$336,4,0) -> #N/A | E41: 1962 | F41: Nguyễn Văn | G41: Tấn | H41: 1962 | I41: =C41&" "&H41 -> Nguyễn Văn Tấn 1962 | J41: =VLOOKUP(I41,'DANHSACHKSK 2019MSBHYT'!#REF!,2,0) -> #REF! | K41: 39 | L41: Phòng Tuyển sinh - Đào tạo | M41: Phòng Tuyển sinh - Đào tạo | N41: 56 | P41: 1962 | S41: x | U41: x | AA41: x | AB41: x | AC41: x
...

Sheet DANHSACHKSK 2019MSBHYT
A1: Cấp ngành quản lý : SỞ GIÁO DỤC VÀ ĐÀO TẠO TP. HỒ CHÍ MINH
A2: Tên đơn vị : TRƯỜNG CAO ĐẲNG KỸ THUẬT LÝ TỰ TRỌNG
A3: Địa chỉ : 390 HOÀNG VĂN THỤ_PHƯỜNG 4 _ QUẬN TÂN BÌNH
A4: Điện thoại = 8119874
A6: DANH SÁCH LAO ĐỘNG VÀ QUỸ TIỀN LƯƠNG TRÍCH NỘP BẢO HIỂM XÃ HỘI
A9: STT | B9: ISO | C9: Mã số thẻBHYT | D9: HỌ VÀ TÊN | E9: NĂM SINH | G9: Nữ | H9: mã phòng ban | I9: Khám tổng quát | J9: Pap's mear | K9: X-Quang | L9: X-Quang CSTL | M9: Siêu âm Tuyến giáp | N9: Siêu âm nhũ | O9: Siêu âm tổng quát | P9: Điện tim | Q9: Huyết đồ | R9: TPTNT | S9: Glucose | T9: TPTNT | U9: ABO | V9: T3,T4, TSH | W9: Ure+ Cre | X9: Acid Uric | Y9: SGOT-SGPT | Z9: GGT | AA9: Bộ mỡ 4 thông số | AB9: HBA1C | AC9: HP-TEST | AD9: HBsAg | AE9: Anti HBs | AF9: HCV | AG9: Anti HCV | AH9: PSA | AI9: AFP | AJ9: CEA(Tq,Vú ,Ctc) | AK9: CA125(Buồng trứng ) | AL9: CA 15.3(vú) | AM9: CA.72.4 (dạ dày) | AN9: CYFRA 21.1(phổi ,bàng quang ) | AO9: CA 19.9(tiêu hóa)
F10: sinh | I10: 70000 | J10: 60000 | K10: 60000 | L10: 40000 | M10: 60000 | N10: 60000 | O10: 60000 | P10: Miễn phí | Q10: 50000 | R10: 45000 | S10: 40000 | T10: 45000 | U10: 80000 | W10: 50000 | X10: 40000 | Y10: 1 | Z10: 50000 | AA10: 100000 | AB10: 110000 | AC10: 150000 | AD10: 80000 | AE10: 150000 | AF10: 110000 | AG10: 100000 | AH10: 60000 | AI10: 90000 | AJ10: 140000 | AK10: 190000 | AL10: 190000 | AM10: 190000 | AN10: 170000 | AO10: 190000
A11: 1 | C11: 4 | F11: 5 | G11: 6
A12: 01 | C12: 029 624 1580 | D12: Đinh Hồng Minh | E12: 1969 | F12: 26/01/1969 | G12: x | H12: BAN GIÁM HIỆU
A13: 02 | B13: ME | C13: 029 624 1596 | D13: Nguyễn Văn Sơn | E13: 1965 | F13: 22/12/1965 | H13: Khoa Cơ Khí
A14: 03 | B14: SCD | C14: 029 624 1597 | D14: Hà Nhật Thanh | E14: 1962 | F14: 15/01/1962 | H14: Phòng Công tác Chính trị - HSSV
A15: 04 | B15: ME | C15: 029 624 1598 | D15: Võ Minh Quang | E15: 1963 | F15: 25/08/1963 | H15: Khoa Cơ Khí
A16: 05 | B16: IT | C16: 029 624 1602 | D16: Nguyễn Vân Giang | E16: 1967 | F16: 15/02/1967 | G16: x | H16: Khoa Công nghệ Thông tin
A17: 06 | B17: QA | C17: 029 624 1604 | D17: Võ Thị Anh Đào | E17: 1965 | F17: 29/07/1965 | G17: x | H17: Phòng Khảo thí - Đảm bảo chất lượng
A18: 07 | B18: ADM | C18: 029 624 1607 | D18: Nguyễn Văn Tấn | E18: 1962 | F18: 19/05/1962 | H18: Phòng Tuyển sinh - Đào tạo
A19: 08 | B19: INS | C19: 029 624 1609 | D19: Nguyễn Thanh Lâm | E19: 1960 | F19: 07/02/1960 | H19: Phòng Thanh tra - Pháp chế
A20: 09 | B20: BS | C20: 029 624 1613 | D20: Trần Kim Thu Liễu | E20: 1965 | F20: 04/01/1965 | G20: x | H20: Khoa - Khoa học cơ bản
A21: 10 | B21: ME | C21: 029 624 1620 | D21: Hà Phước Tuấn | E21: 1960 | F21: 01/11/1960 | H21: Khoa Cơ Khí
A22: 11 | B22: ME | C22: 029 624 1623 | D22: Phan Văn Thành | E22: 1964 | F22: 25/07/1964 | H22: Khoa Cơ Khí
A23: 12 | B23: INS | C23: 029 624 1626 | D23: Phạm Minh Nghĩa | E23: 1964 | F23: 09/08/1964 | H23: Phòng Thanh tra - Pháp chế
A24: 13 | B24: HV | C24: 029 624 1628 | D24: Võ Phước Quang | E24: 1959 | F24: 16/06/1959 | H24: Khoa Công Nghệ Nhiệt – Lạnh
A25: 14 | B25: EEE | C25: 029 624 1630 | D25: Nguyễn Minh Đức | E25: 1960 | F25: 19/02/1960 | H25: Khoa Công nghệ Điện - Điện tử
A26: 15 | B26: STM | C26: 029 624 1660 | D26: Nguyễn Ngọc Trang | E26: 1966 | F26: 24169 | G26: x | H26: Phòng Quản lý khoa học - Hợp tác quốc tế
A27: 16 | B27: EEE | C27: 029 624 1664 | D27: Trần Công Tiến | E27: 1972 | F27: 10/08/1972 | H27: Khoa Công nghệ Điện - Điện tử
A28: 17 | B28: EEE | C28: 029 624 1665 | D28: Huỳnh Ngọc Mai | E28: 1972 | F28: 09/04/1972 | H28: Khoa Công nghệ Điện - Điện tử
A29: 18 | B29: HR | C29: 029 624 1666 | D29: Lê Hùng Thanh | E29: 1960 | F29: 22/05/1960 | H29: Phòng Tổ chức - Hành chính - Tổng hợp
A30: 19 | B30: HR | C30: 029 624 1667 | D30: Trần Văn Cu Anh | E30: 1964 | F30: 30/12/1964 | H30: Phòng Tổ chức - Hành chính - Tổng hợp
A31: 20 | B31: SCD | C31: 029 624 1668 | D31: Trần Văn Lý | E31: 1965 | F31: 10/04/1965 | H31: Phòng Công tác Chính trị - HSSV
A32: 21 | B32: PR | C32: 029 624 1669 | D32: Đặng Thị Nhật Minh | E32: 1967 | F32: 28/09/1967 | G32: x | H32: Khoa - Lý luận chính trị
A33: 22 | B33: EEE | C33: 029 624 1670 | D33: Nguyễn Hồng Đức | E33: 1971 | F33: 21/02/1971 | H33: Khoa Công nghệ Điện - Điện tử
A34: 23 | B34: MA | C34: 029 624 1671 | D34: Nguyễn Văn Thành | E34: 1974 | F34: 30/12/1974 | H34: Phòng Quản trị - Dịch vụ
A35: 24 | B35: SF | C35: 029 802 2616 | D35: Trương Việt Khánh Trang | E35: 1970 | F35: 31/10/1970 | G35: x | H35: Khoa Công nghệ May - Thời trang
A36: 25 | B36: ME | C36: 029 802 2617 | D36: Nguyễn Thanh Vĩnh Phúc | E36: 1972 | F36: 29/03/1972 | H36: Khoa Cơ Khí
A37: 26 | B37: BS | C37: 029 802 2618 | D37: Cao Thị Nga | E37: 1969 | F37: 01/01/1969 | G37: x | H37: Khoa - Khoa học cơ bản
A38: 27 | B38: HR | C38: 029 602 6850 | D38: Nguyễn Thị Hoa | E38: 1965 | F38: 30/10/1965 | G38: x | H38: Phòng Tổ chức - Hành chính - Tổng hợp
A39: 28 | B39: ME | C39: 029 811 8090 | D39: Đỗ Thị Phương Khanh | E39: 1975 | F39: 22/04/1975 | G39: x | H39: Khoa Cơ Khí
A40: 29 | B40: ME | C40: 029 811 8091 | D40: Trương Thị Phương Hồng | E40: 1975 | F40: 25/08/1975 | G40: x | H40: Khoa Cơ Khí
A41: 30 | B41: ME | C41: 029 811 8092 | D41: Vũ Quang Khải | E41: 1971 | F41: 25/11/1971 | H41: Khoa Cơ Khí
A42: 31 | B42: EEE | C42: 029 811 8093 | D42: Nguyễn Minh Đức | E42: 1966 | F42: 03/12/1966 | H42: Khoa Công nghệ Điện - Điện tử
A43: 32 | B43: HR | C43: 029 811 8094 | D43: Lê Xuân Thiện | E43: 1965 | F43: 01/06/1965 | H43: Phòng Tổ chức - Hành chính - Tổng hợp
...

Sheet DANHSACHKSK 2019
A1: Cấp ngành quản lý : SỞ GIÁO DỤC VÀ ĐÀO TẠO TP. HỒ CHÍ MINH
A2: Tên đơn vị : TRƯỜNG CAO ĐẲNG KỸ THUẬT LÝ TỰ TRỌNG
A3: Địa chỉ : 390 HOÀNG VĂN THỤ_PHƯỜNG 4 _ QUẬN TÂN BÌNH
A4: Điện thoại = 8119874
A6: DANH SÁCH LAO ĐỘNG VÀ QUỸ TIỀN LƯƠNG TRÍCH NỘP BẢO HIỂM XÃ HỘI
E9: Mã số | H9: Mã số | K9: Mã số | L9: Ngày | M9: Nữ
A10: STT | B10: Họ và tên | E10: thẻ BHYT | H10: thẻ BHYT | K10: thẻ BHYT | L10: Tháng | M10: (X)
L11: năm
L12: sinh
A13: 1 | B13: 2 | E13: 4 | H13: 4 | K13: 4 | L13: 5 | M13: 6
A14: 01 | B14: Đinh Hồng | C14: Minh | D14: =B14&""&C14 -> Đinh Hồng Minh | E14: HC 4 79 029 624 1580 | F14: 1969 | G14: Đinh Hồng Minh | H14: HC 4 79 029 624 1580 | I14: 1969 | J14: =G14&" "&I14 -> Đinh Hồng Minh 1969 | K14: HC 4 79 029 624 1580 | L14: 26/01/1969 | M14: x
A15: 02 | B15: Nguyễn Văn | C15: Sơn | D15: =B15&""&C15 -> Nguyễn Văn Sơn | E15: 029 624 1596 | F15: 1965 | G15: Nguyễn Văn Sơn | H15: 029 624 1596 | I15: 1965 | J15: =G15&" "&I15 -> Nguyễn Văn Sơn 1965 | K15: 029 624 1596 | L15: 22/12/1965
A16: 03 | B16: Hà Nhật | C16: Thanh | D16: =B16&""&C16 -> Hà Nhật Thanh | E16: 029 624 1597 | F16: 1962 | G16: Hà Nhật Thanh | H16: 029 624 1597 | I16: 1962 | J16: =G16&" "&I16 -> Hà Nhật Thanh 1962 | K16: 029 624 1597 | L16: 15/01/1962
A17: 04 | B17: Võ Minh | C17: Quang | D17: =B17&""&C17 -> Võ Minh Quang | E17: 029 624 1598 | F17: 1963 | G17: Võ Minh Quang | H17: 029 624 1598 | I17: 1963 | J17: =G17&" "&I17 -> Võ Minh Quang 1963 | K17: 029 624 1598 | L17: 25/08/1963
A18: 05 | B18: Nguyễn Vân | C18: Giang | D18: =B18&""&C18 -> Nguyễn Vân Giang | E18: 029 624 1602 | F18: 1967 | G18: Nguyễn Vân Giang | H18: 029 624 1602 | I18: 1967 | J18: =G18&" "&I18 -> Nguyễn Vân Giang 1967 | K18: 029 624 1602 | L18: 15/02/1967 | M18: x
A19: 06 | B19: Võ Thị Anh | C19: Đào | D19: =B19&" "&C19 -> Võ Thị Anh Đào | E19: 029 624 1604 | F19: 1965 | G19: Võ Thị Anh Đào | H19: 029 624 1604 | I19: 1965 | J19: =G19&" "&I19 -> Võ Thị Anh Đào 1965 | K19: 029 624 1604 | L19: 29/07/1965 | M19: x
A20: 07 | B20: Nguyễn Văn | C20: Tấn | D20: =B20&" "&C20 -> Nguyễn Văn Tấn | E20: 029 624 1607 | F20: 1962 | G20: Nguyễn Văn Tấn | H20: 029 624 1607 | I20: 1962 | J20: =G20&" "&I20 -> Nguyễn Văn Tấn 1962 | K20: 029 624 1607 | L20: 19/05/1962
A21: 08 | B21: Nguyễn Thanh | C21: Lâm | D21: =B21&" "&C21 -> Nguyễn Thanh Lâm | E21: 029 624 1609 | F21: 1960 | G21: Nguyễn Thanh Lâm | H21: 029 624 1609 | I21: 1960 | J21: =G21&" "&I21 -> Nguyễn Thanh Lâm 1960 | K21: 029 624 1609 | L21: 07/02/1960
A22: 09 | B22: Trần Kim Thu | C22: Liễu | D22: =B22&" "&C22 -> Trần Kim Thu Liễu | E22: 029 624 1613 | F22: 1965 | G22: Trần Kim Thu Liễu | H22: 029 624 1613 | I22: 1965 | J22: =G22&" "&I22 -> Trần Kim Thu Liễu 1965 | K22: 029 624 1613 | L22: 04/01/1965 | M22: x
A23: 10 | B23: Hà Phước | C23: Tuấn | D23: =B23&" "&C23 -> Hà Phước Tuấn | E23: 029 624 1620 | F23: 1960 | G23: Hà Phước Tuấn | H23: 029 624 1620 | I23: 1960 | J23: =G23&" "&I23 -> Hà Phước Tuấn 1960 | K23: 029 624 1620 | L23: 01/11/1960
A24: 11 | B24: Phan Văn | C24: Thành | D24: =B24&" "&C24 -> Phan Văn Thành | E24: 029 624 1623 | F24: 1964 | G24: Phan Văn Thành | H24: 029 624 1623 | I24: 1964 | J24: =G24&" "&I24 -> Phan Văn Thành 1964 | K24: 029 624 1623 | L24: 25/07/1964
A25: 12 | B25: Phạm Minh | C25: Nghĩa | D25: =B25&" "&C25 -> Phạm Minh Nghĩa | E25: 029 624 1626 | F25: 1964 | G25: Phạm Minh Nghĩa | H25: 029 624 1626 | I25: 1964 | J25: =G25&" "&I25 -> Phạm Minh Nghĩa 1964 | K25: 029 624 1626 | L25: 09/08/1964
A26: 13 | B26: Võ Phước | C26: Quang | D26: =B26&" "&C26 -> Võ Phước Quang | E26: 029 624 1628 | F26: 1959 | G26: Võ Phước Quang | H26: 029 624 1628 | I26: 1959 | J26: =G26&" "&I26 -> Võ Phước Quang 1959 | K26: 029 624 1628 | L26: 16/06/1959
A27: 14 | B27: Nguyễn Minh | C27: Đức | D27: =B27&" "&C27 -> Nguyễn Minh Đức | E27: 029 624 1630 | F27: 1960 | G27: Nguyễn Minh Đức | H27: 029 624 1630 | I27: 1960 | J27: =G27&" "&I27 -> Nguyễn Minh Đức 1960 | K27: 029 624 1630 | L27: 19/02/1960
A28: 15 | B28: Nguyễn Ngọc | C28: Trang | D28: =B28&" "&C28 -> Nguyễn Ngọc Trang | E28: 029 624 1660 | F28: 1966 | G28: Nguyễn Ngọc Trang | H28: 029 624 1660 | I28: 1966 | J28: =G28&" "&I28 -> Nguyễn Ngọc Trang 1966 | K28: 029 624 1660 | L28: 24169 | M28: x
A29: 16 | B29: Trần Công | C29: Tiến | D29: =B29&" "&C29 -> Trần Công Tiến | E29: 029 624 1664 | F29: 1972 | G29: Trần Công Tiến | H29: 029 624 1664 | I29: 1972 | J29: =G29&" "&I29 -> Trần Công Tiến 1972 | K29: 029 624 1664 | L29: 10/08/1972
A30: 17 | B30: Huỳnh Ngọc | C30: Mai | D30: =B30&" "&C30 -> Huỳnh Ngọc Mai | E30: 029 624 1665 | F30: 1972 | G30: Huỳnh Ngọc Mai | H30: 029 624 1665 | I30: 1972 | J30: =G30&" "&I30 -> Huỳnh Ngọc Mai 1972 | K30: 029 624 1665 | L30: 09/04/1972
A31: 18 | B31: Lê Hùng | C31: Thanh | D31: =B31&" "&C31 -> Lê Hùng Thanh | E31: 029 624 1666 | F31: 1960 | G31: Lê Hùng Thanh | H31: 029 624 1666 | I31: 1960 | J31: =G31&" "&I31 -> Lê Hùng Thanh 1960 | K31: 029 624 1666 | L31: 22/05/1960
A32: 19 | B32: Trần Văn Cu | C32: Anh | D32: =B32&" "&C32 -> Trần Văn Cu Anh | E32: 029 624 1667 | F32: 1964 | G32: Trần Văn Cu Anh | H32: 029 624 1667 | I32: 1964 | J32: =G32&" "&I32 -> Trần Văn Cu Anh 1964 | K32: 029 624 1667 | L32: 30/12/1964
A33: 20 | B33: Trần Văn | C33: Lý | D33: =B33&" "&C33 -> Trần Văn Lý | E33: 029 624 1668 | F33: 1965 | G33: Trần Văn Lý | H33: 029 624 1668 | I33: 1965 | J33: =G33&" "&I33 -> Trần Văn Lý 1965 | K33: 029 624 1668 | L33: 10/04/1965
A34: 21 | B34: Đặng Thị Nhật | C34: Minh | D34: =B34&" "&C34 -> Đặng Thị Nhật Minh | E34: 029 624 1669 | F34: 1967 | G34: Đặng Thị Nhật Minh | H34: 029 624 1669 | I34: 1967 | J34: =G34&" "&I34 -> Đặng Thị Nhật Minh 1967 | K34: 029 624 1669 | L34: 28/09/1967 | M34: x
A35: 22 | B35: Nguyễn Hồng | C35: Đức | D35: =B35&" "&C35 -> Nguyễn Hồng Đức | E35: 029 624 1670 | F35: 1971 | G35: Nguyễn Hồng Đức | H35: 029 624 1670 | I35: 1971 | J35: =G35&" "&I35 -> Nguyễn Hồng Đức 1971 | K35: 029 624 1670 | L35: 21/02/1971
A36: 23 | B36: Nguyễn Văn | C36: Thành | D36: =B36&" "&C36 -> Nguyễn Văn Thành | E36: 029 624 1671 | F36: 1974 | G36: Nguyễn Văn Thành | H36: 029 624 1671 | I36: 1974 | J36: =G36&" "&I36 -> Nguyễn Văn Thành 1974 | K36: 029 624 1671 | L36: 30/12/1974
A37: 24 | B37: Trương Việt Khánh | C37: Trang | D37: =B37&" "&C37 -> Trương Việt Khánh Trang | E37: 029 802 2616 | F37: 1970 | G37: Trương Việt Khánh Trang | H37: 029 802 2616 | I37: 1970 | J37: =G37&" "&I37 -> Trương Việt Khánh Trang 1970 | K37: 029 802 2616 | L37: 31/10/1970 | M37: x
A38: 25 | B38: Nguyễn Thanh Vĩnh | C38: Phúc | D38: =B38&" "&C38 -> Nguyễn Thanh Vĩnh Phúc | E38: 029 802 2617 | F38: 1972 | G38: Nguyễn Thanh Vĩnh Phúc | H38: 029 802 2617 | I38: 1972 | J38: =G38&" "&I38 -> Nguyễn Thanh Vĩnh Phúc 1972 | K38: 029 802 2617 | L38: 29/03/1972
A39: 26 | B39: Cao Thị | C39: Nga | D39: =B39&" "&C39 -> Cao Thị Nga | E39: 029 802 2618 | F39: 1969 | G39: Cao Thị Nga | H39: 029 802 2618 | I39: 1969 | J39: =G39&" "&I39 -> Cao Thị Nga 1969 | K39: 029 802 2618 | L39: 01/01/1969 | M39: x
A40: 27 | B40: Nguyễn Thị | C40: Hoa | D40: =B40&" "&C40 -> Nguyễn Thị Hoa | E40: 029 602 6850 | F40: 1965 | G40: Nguyễn Thị Hoa | H40: 029 602 6850 | I40: 1965 | J40: =G40&" "&I40 -> Nguyễn Thị Hoa 1965 | K40: 029 602 6850 | L40: 30/10/1965 | M40: x
A41: 28 | B41: Đỗ Thị Phương | C41: Khanh | D41: =B41&" "&C41 -> Đỗ Thị Phương Khanh | E41: 029 811 8090 | F41: 1975 | G41: Đỗ Thị Phương Khanh | H41: 029 811 8090 | I41: 1975 | J41: =G41&" "&I41 -> Đỗ Thị Phương Khanh 1975 | K41: 029 811 8090 | L41: 22/04/1975 | M41: x
A42: 29 | B42: Trương Thị Phương | C42: Hồng | D42: =B42&" "&C42 -> Trương Thị Phương Hồng | E42: 029 811 8091 | F42: 1975 | G42: Trương Thị Phương Hồng | H42: 029 811 8091 | I42: 1975 | J42: =G42&" "&I42 -> Trương Thị Phương Hồng 1975 | K42: 029 811 8091 | L42: 25/08/1975 | M42: x
A43: 30 | B43: Vũ Quang | C43: Khải | D43: =B43&" "&C43 -> Vũ Quang Khải | E43: 029 811 8092 | F43: 1971 | G43: Vũ Quang Khải | H43: 029 811 8092 | I43: 1971 | J43: =G43&" "&I43 -> Vũ Quang Khải 1971 | K43: 029 811 8092 | L43: 25/11/1971
...

Sheet KTQ
A1: STT | B1: ID | C1: Họ và tên | D1: Năm sinh | F1: Tuổi | G1: Tuổi | H1: Giới tính | I1: Đơn vị | J1: Chiều cao | K1: Cân nặng | L1: Huyết áp | M1: Tuần hoàn | N1: Hô hấp | O1: Tiêu hóa | P1: Thận- Tiết niệu | Q1: Nội tiết | R1: Cơ- xương - khớp | S1: Thần kinh | T1: Tâm thần | U1: Ngoại khoa | V1: Mắt | W1: Tai mũi họng | X1: Răng hàm mặt | Y1: Da liễu | Z1: Phụ khoa | AA1: PLSK | AB1: Lý do | AC1: Kiến nghị
A2: 1 | B2: 62 | C2: Phạm Hữu Lộc | D2: 1966 | E2: =C2&" "&D2 -> Phạm Hữu Lộc 1966 | F2: 52 | G2: 53 | H2: Nam | I2: BAN GIÁM HIỆU | J2: 164 | K2: 66 | L2: 130/80 | M2: Tiền căn đặt stent mạch vành, Tăng huyết áp đang điều trị | N2: Bình thường | O2: Bình thường | P2: Bình thường | Q2: Đái tháo đường tuýp 2 đang điều trị | R2: Bình thường | S2: Bình thường | T2: Bình thường | U2: Tiền căn phẫu thuật sỏi niệu quản + Xương đòn trái | V2: Lão thị hai mắt | W2: Bình thường | X2: Sức nhai 85% | Y2: Bình thường | AA2: 3 | AC2: Khám chuyên khoa Tim mạch, Nội tiết, Mắt, Răng hàm mặt, Tập thể dục, Hạn chế chất ngọt béo
A3: 3 | B3: 125 | C3: Đinh Văn Đệ | D3: 1972 | E3: =C3&" "&D3 -> Đinh Văn Đệ 1972 | F3: 46 | G3: 47 | H3: Nam | I3: BAN GIÁM HIỆU | J3: 173 | K3: 120 | L3: 140/80 | M3: Theo dõi tăng huyết áp | N3: Bình thường | O3: Bình thường | P3: Bình thường | Q3: Bình thường | R3: Bình thường | S3: Bình thường | T3: Bình thường | U3: Bình thường | V3: Viễn thị | W3: Bình thường | X3: Sức nhai 95% | Y3: Bình thường | AA3: 4 | AB3: Cân nặng | AC3: Khám chuyên khoa Mắt, Kiểm tra lại huyết áp, Tập thể dục, Giảm cân, Hạn chế chất ngọt béo
A4: 4 | B4: 3 | C4: Đinh Hồng Minh | D4: 1969 | E4: =C4&" "&D4 -> Đinh Hồng Minh 1969 | F4: 48 | G4: 49 | H4: Nữ | I4: BAN GIÁM HIỆU | J4: 166 | K4: 54 | L4: 120/80 | M4: Bình thường | N4: Bình thường | O4: Bình thường | P4: Bình thường | Q4: Bình thường | R4: Bình thường | S4: Bình thường | T4: Bình thường | U4: Tiền căn phẫu thuật ruột thừa | V4: Lão thị hai mắt | W4: Bình thường | X4: Sâu răng | Y4: Chàm hai bàn chân mạn | AA4: 2 | AC4: Khám chuyên khoa Mắt, Răng hàm mặt, Da liễu
A5: 5 | B5: 5 | C5: Lê Xuân Thiện | D5: 1965 | E5: =C5&" "&D5 -> Lê Xuân Thiện 1965 | F5: 53 | G5: 54 | H5: Nam | I5: Phòng Tổ chức - Hành chính - Tổng hợp | J5: 168 | K5: 61 | L5: 120/80 | M5: Bình thường | N5: Bình thường | O5: Bình thường | P5: Bình thường | Q5: Bình thường | R5: Bình thường | S5: Bình thường | T5: Bình thường | U5: Bình thường | V5: Tật khúc xạ hai mắt | W5: Bình thường | X5: Sức nhai 100% | Y5: Bình thường | AA5: 2 | AC5: Khám chuyên khoa Mắt
A6: 6 | B6: 32 | C6: Nguyễn Thị Bích Liễu | D6: 1988 | E6: =C6&" "&D6 -> Nguyễn Thị Bích Liễu 1988 | F6: 30 | G6: 31 | H6: Nữ | I6: Phòng Tổ chức - Hành chính - Tổng hợp | J6: 158 | K6: 55 | L6: 120/70 | M6: Bình thường | N6: Bình thường | O6: Bình thường | P6: Bình thường | Q6: Bình thường | R6: Bình thường | S6: Bình thường | T6: Bình thường | U6: Bình thường | V6: Tiền căn phẫu thuật lasik | W6: Bình thường | X6: Sức nhai 100% | Y6: Bình thường | Z6: Bình thường | AA6: 2 | AC6: Tập thể dục, Hạn chế chất ngọt béo
A7: 7 | B7: 6 | C7: Trần Văn Cu Anh | D7: 1964 | E7: =C7&" "&D7 -> Trần Văn Cu Anh 1964 | F7: 54 | G7: 55 | H7: Nam | I7: Phòng Tổ chức - Hành chính - Tổng hợp | J7: 156 | K7: 65 | L7: 130/80 | M7: Bình thường | N7: Bình thường | O7: Bình thường | P7: Bình thường | Q7: Bình thường | R7: Bình thường | S7: Bình thường | T7: Bình thường | U7: Bình thường | V7: Lão thị hai mắt | W7: Bình thường | X7: Sức nhai 80% | Y7: Bình thường | AA7: 3 | AC7: Khám chuyên khoa Mắt, Răng hàm mặt, Tập thể dục, Giảm cân
A8: 8 | B8: 20 | C8: Nguyễn Tiến Hưng | D8: 1959 | E8: =C8&" "&D8 -> Nguyễn Tiến Hưng 1959 | F8: 59 | G8: 60 | H8: Nam | I8: Phòng Tổ chức - Hành chính - Tổng hợp | J8: 164 | K8: 65 | L8: 100/60 | M8: Ngoại tâm thu thất 6-8 lần/phút | N8: Bình thường | O8: Bình thường | P8: Bình thường | Q8: Bình thường | R8: Bình thường | S8: Bình thường | T8: Bình thường | U8: Bình thường | V8: Tật khúc xạ hai mắt | W8: Bình thường | X8: Sức nhai 60% | Y8: Viêm quanh móng ngón 1 chân phải | AA8: 4 | AB8: Giảm sức nhai | AC8: Khám chuyên khoa Tim mạch, Mắt, Răng hàm mặt, Da liễu, Tập thể dục, Hạn chế chất ngọt béo
A9: 9 | B9: 33 | C9: Nguyễn Hữu Xuân Vũ | D9: 1974 | E9: =C9&" "&D9 -> Nguyễn Hữu Xuân Vũ 1974 | F9: 43 | G9: 44 | H9: Nam | I9: Phòng Tổ chức - Hành chính - Tổng hợp | J9: 154 | K9: 57 | L9: 110/80 | M9: Nhịp tim nhanh 95 lần/phút | N9: Bình thường | O9: Bình thường | P9: Bình thường | Q9: Bình thường | R9: Bình thường | S9: Bình thường | T9: Bình thường | U9: Bình thường | V9: Bình thường | W9: Viêm mũi dị ứng | X9: Sức nhai 100% | Y9: Bình thường | AA9: 3 | AC9: Khám chuyên khoa Tai mũi họng, Kiểm tra lại nhịp tim, Tập thể dục, Hạn chế chất ngọt béo
A10: 10 | B10: 34 | C10: Huỳnh Bá Thành | D10: 1958 | E10: =C10&" "&D10 -> Huỳnh Bá Thành 1958 | F10: 60 | G10: 61 | H10: Nam | I10: Phòng Tổ chức - Hành chính - Tổng hợp | J10: 160 | K10: 74 | L10: 110/70 | M10: Tăng huyết áp đang điều trị | N10: Bình thường | O10: Bình thường | P10: Bình thường | Q10: Bình thường | R10: Bình thường | S10: Bình thường | T10: Bình thường | U10: Bình thường | V10: Giảm thị lực mắt phải | W10: Bình thường | X10: Sức nhai 70% | Y10: Nấm móng ngón 1 hai ngón chân hai bên + Tay trái | AA10: 4 | AB10: Giảm sức nhai | AC10: Khám chuyên khoa Tim mạch, Mắt, Răng hàm mặt, Da liễu, Tập thể dục, Giảm cân
A11: 11 | B11: 36 | C11: Lê Hồng Phúc | D11: 1966 | E11: =C11&" "&D11 -> Lê Hồng Phúc 1966 | F11: 52 | G11: 53 | H11: Nam | I11: Phòng Tổ chức - Hành chính - Tổng hợp | J11: 174 | K11: 84 | L11: 130/80 | M11: Bình thường | N11: Bình thường | O11: Bình thường | P11: Bình thường | Q11: Bình thường | R11: Tiền căn gãy đầu dưới xương quay trái + Đứt dây chằng chéo gối phải | S11: Bình thường | T11: Bình thường | U11: Bình thường | V11: Tật khúc xạ hai mắt | W11: Tiền căn cắt amydal | X11: Sức nhai 70% | Y11: Bình thường | AA11: 4 | AB11: Giảm sức nhai | AC11: Khám chuyên khoa Mắt, Răng hàm mặt, Tập thể dục, Giảm cân
A12: 12 | B12: 77 | C12: Đồng Anh Tuấn | D12: 1983 | E12: =C12&" "&D12 -> Đồng Anh Tuấn 1983 | F12: 35 | G12: 36 | H12: Nam | I12: Phòng Tổ chức - Hành chính - Tổng hợp | J12: 168 | K12: 61 | L12: 120/80 | M12: Bình thường | N12: Bình thường | O12: Bình thường | P12: Bình thường | Q12: Bình thường | R12: Bình thường | S12: Bình thường | T12: Bình thường | U12: Tiền căn phẫu thuật vùng mặt do chấn thương | V12: Bình thường | W12: Bình thường | X12: Sức nhai 96% | Y12: Vẩy nến | AA12: 2 | AC12: Khám chuyên khoa Da liễu, Tập thể dục, Hạn chế chất ngọt béo
A13: 13 | B13: 17 | C13: Hồ Thị Tuyết | D13: 1954 | E13: =C13&" "&D13 -> Hồ Thị Tuyết 1954 | F13: 64 | G13: 65 | H13: Nữ | I13: Phòng Tổ chức - Hành chính - Tổng hợp | J13: 161 | K13: 78 | L13: 140/80 | M13: Tăng huyết áp đang điều trị | N13: Bình thường | O13: Bình thường | P13: Bình thường | Q13: Bình thường | R13: Viêm đa khớp | S13: Bình thường | T13: Bình thường | U13: Tiền căn phẫu thuật u buồng trứng trái | V13: Lão thị hai mắt | W13: Bình thường | X13: Sức nhai 60% | Y13: Chàm cổ chân phải mạn | Z13: Bình thường | AA13: 4 | AB13: Giảm sức nhai | AC13: Khám chuyên khoa Tim mạch, Nội khớp, Mắt, Răng hàm mặt, Da liễu, Tập thể dục, Giảm cân
A14: 14 | B14: 370 | C14: Phan Ngọc Phát | D14: 1958 | E14: =C14&" "&D14 -> Phan Ngọc Phát 1958 | F14: 60 | G14: 61 | H14: Nam | I14: Phòng Tổ chức - Hành chính - Tổng hợp | J14: 168 | K14: 59 | L14: 130/80 | M14: Bình thường | N14: Lao phổi cũ | O14: Bình thường | P14: Bình thường | Q14: Bình thường | R14: Bình thường | S14: Bình thường | T14: Bình thường | U14: Bình thường | V14: Tật khúc xạ + Lão thị hai mắt | W14: Bình thường | X14: Sức nhai 60% | Y14: Bình thường | AA14: 4 | AB14: Giảm sức nhai | AC14: Khám chuyên khoa Hô hấp, Mắt, Răng hàm mặt, Thận
